BEGIN:VCALENDAR
VERSION:2.0
PRODID:-//Circuit Carole - ECPv6.15.18//NONSGML v1.0//EN
CALSCALE:GREGORIAN
METHOD:PUBLISH
X-WR-CALNAME:Circuit Carole
X-ORIGINAL-URL:https://www.circuit-carole.com
X-WR-CALDESC:Évènements pour Circuit Carole
REFRESH-INTERVAL;VALUE=DURATION:PT1H
X-Robots-Tag:noindex
X-PUBLISHED-TTL:PT1H
BEGIN:VTIMEZONE
TZID:Europe/Paris
BEGIN:DAYLIGHT
TZOFFSETFROM:+0100
TZOFFSETTO:+0200
TZNAME:CEST
DTSTART:20250330T010000
END:DAYLIGHT
BEGIN:STANDARD
TZOFFSETFROM:+0200
TZOFFSETTO:+0100
TZNAME:CET
DTSTART:20251026T010000
END:STANDARD
BEGIN:DAYLIGHT
TZOFFSETFROM:+0100
TZOFFSETTO:+0200
TZNAME:CEST
DTSTART:20260329T010000
END:DAYLIGHT
BEGIN:STANDARD
TZOFFSETFROM:+0200
TZOFFSETTO:+0100
TZNAME:CET
DTSTART:20261025T010000
END:STANDARD
BEGIN:DAYLIGHT
TZOFFSETFROM:+0100
TZOFFSETTO:+0200
TZNAME:CEST
DTSTART:20270328T010000
END:DAYLIGHT
BEGIN:STANDARD
TZOFFSETFROM:+0200
TZOFFSETTO:+0100
TZNAME:CET
DTSTART:20271031T010000
END:STANDARD
END:VTIMEZONE
BEGIN:VEVENT
DTSTART;TZID=Europe/Paris:20260603T133000
DTEND;TZID=Europe/Paris:20260603T163000
DTSTAMP:20260424T235723
CREATED:20251216T132152Z
LAST-MODIFIED:20251216T132152Z
UID:10003630-1780493400-1780504200@www.circuit-carole.com
SUMMARY:Accès moto payant
DESCRIPTION:Plus d’infos : https://www.circuit-carole.com/activites/grand-circuit/ \nFormule “Sensation” de 3 h (13h30 à 16h30) : https://www.circuit-carole.com/formules/formule-sensation/
URL:https://www.circuit-carole.com/calendrier/acces-moto-payant-97/2026-06-03/
CATEGORIES:Accès moto payant
ORGANIZER;CN="Association de Gestion du Circuit Carole":MAILTO:info@circuit-carole.com
END:VEVENT
BEGIN:VEVENT
DTSTART;TZID=Europe/Paris:20260603T163000
DTEND;TZID=Europe/Paris:20260603T190000
DTSTAMP:20260424T235723
CREATED:20251216T132544Z
LAST-MODIFIED:20251216T132544Z
UID:10003633-1780504200-1780513200@www.circuit-carole.com
SUMMARY:Sinueux
DESCRIPTION:Ce tracé technique d’une longueur de 1 050 m\, est réservé aux motos (de route ou de piste) d’une \ncylindrée inférieure ou égale à 500 cc 4 T ou 125 cc 2 T (250 cc 2 T Supermotard). \nPlus d’infos : https://www.circuit-carole.com/activites/circuit-sinueux/
URL:https://www.circuit-carole.com/calendrier/sinueux-13/2026-06-03/
CATEGORIES:Sinueux/Pit-bike
ORGANIZER;CN="Association de Gestion du Circuit Carole":MAILTO:info@circuit-carole.com
END:VEVENT
BEGIN:VEVENT
DTSTART;TZID=Europe/Paris:20260604T090000
DTEND;TZID=Europe/Paris:20260604T123000
DTSTAMP:20260424T235723
CREATED:20251204T122532Z
LAST-MODIFIED:20260218T151347Z
UID:10003475-1780563600-1780576200@www.circuit-carole.com
SUMMARY:Stage de pilotage
DESCRIPTION:Niveau : débutant ou pilote occasionnel sur la piste. \nÉducateurs : Christophe GUYOT et Geoffroy DEHAYE. \nLocations de motos R3\, R7 et d’équipements possibles. \nAttention\, places limitées ! \n\nPlus d’infos : https://www.circuit-carole.com/decouvrir-la-piste/
URL:https://www.circuit-carole.com/calendrier/stage-de-pilotage-11/2026-06-04/1/
CATEGORIES:Location
ORGANIZER;CN="Association de Gestion du Circuit Carole":MAILTO:info@circuit-carole.com
END:VEVENT
BEGIN:VEVENT
DTSTART;TZID=Europe/Paris:20260604T140000
DTEND;TZID=Europe/Paris:20260604T170000
DTSTAMP:20260424T235723
CREATED:20251204T122532Z
LAST-MODIFIED:20260218T151347Z
UID:10003476-1780581600-1780592400@www.circuit-carole.com
SUMMARY:Stage de pilotage
DESCRIPTION:Niveau : débutant ou pilote occasionnel sur la piste. \nÉducateurs : Christophe GUYOT et Geoffroy DEHAYE. \nLocations de motos R3\, R7 et d’équipements possibles. \nAttention\, places limitées ! \n\nPlus d’infos : https://www.circuit-carole.com/decouvrir-la-piste/
URL:https://www.circuit-carole.com/calendrier/stage-de-pilotage-11/2026-06-04/2/
CATEGORIES:Location
ORGANIZER;CN="Association de Gestion du Circuit Carole":MAILTO:info@circuit-carole.com
END:VEVENT
BEGIN:VEVENT
DTSTART;TZID=Europe/Paris:20260609T090000
DTEND;TZID=Europe/Paris:20260609T120000
DTSTAMP:20260424T235723
CREATED:20260317T151858Z
LAST-MODIFIED:20260317T151858Z
UID:10003886-1780995600-1781006400@www.circuit-carole.com
SUMMARY:Circuit fermé
DESCRIPTION:
URL:https://www.circuit-carole.com/calendrier/circuit-ferme-3/2026-06-09/
CATEGORIES:Fermeture
ORGANIZER;CN="Association de Gestion du Circuit Carole":MAILTO:info@circuit-carole.com
END:VEVENT
BEGIN:VEVENT
DTSTART;TZID=Europe/Paris:20260609T140000
DTEND;TZID=Europe/Paris:20260609T180000
DTSTAMP:20260424T235723
CREATED:20251216T130827Z
LAST-MODIFIED:20251216T130827Z
UID:10003626-1781013600-1781028000@www.circuit-carole.com
SUMMARY:Accès moto payant
DESCRIPTION:Plus d’infos : https://www.circuit-carole.com/activites/grand-circuit/ \nFormule “Sensation” de 3 h (14h00 à 17h00) : https://www.circuit-carole.com/formules/formule-sensation/ \n\nFormule “Découverte” d’1 h (17h00 à 18h00) : https://www.circuit-carole.com/formules/formule-decouverte/
URL:https://www.circuit-carole.com/calendrier/acces-moto-payant-41/2026-06-09/
CATEGORIES:Accès moto payant
ORGANIZER;CN="Association de Gestion du Circuit Carole":MAILTO:info@circuit-carole.com
END:VEVENT
BEGIN:VEVENT
DTSTART;TZID=Europe/Paris:20260610T090000
DTEND;TZID=Europe/Paris:20260610T120000
DTSTAMP:20260424T235723
CREATED:20260317T151858Z
LAST-MODIFIED:20260317T151858Z
UID:10003887-1781082000-1781092800@www.circuit-carole.com
SUMMARY:Circuit fermé
DESCRIPTION:
URL:https://www.circuit-carole.com/calendrier/circuit-ferme-3/2026-06-10/
CATEGORIES:Fermeture
ORGANIZER;CN="Association de Gestion du Circuit Carole":MAILTO:info@circuit-carole.com
END:VEVENT
BEGIN:VEVENT
DTSTART;TZID=Europe/Paris:20260610T133000
DTEND;TZID=Europe/Paris:20260610T163000
DTSTAMP:20260424T235723
CREATED:20251216T132152Z
LAST-MODIFIED:20251216T132152Z
UID:10003631-1781098200-1781109000@www.circuit-carole.com
SUMMARY:Accès moto payant
DESCRIPTION:Plus d’infos : https://www.circuit-carole.com/activites/grand-circuit/ \nFormule “Sensation” de 3 h (13h30 à 16h30) : https://www.circuit-carole.com/formules/formule-sensation/
URL:https://www.circuit-carole.com/calendrier/acces-moto-payant-97/2026-06-10/
CATEGORIES:Accès moto payant
ORGANIZER;CN="Association de Gestion du Circuit Carole":MAILTO:info@circuit-carole.com
END:VEVENT
BEGIN:VEVENT
DTSTART;TZID=Europe/Paris:20260610T163000
DTEND;TZID=Europe/Paris:20260610T190000
DTSTAMP:20260424T235723
CREATED:20251216T132544Z
LAST-MODIFIED:20251216T132544Z
UID:10003634-1781109000-1781118000@www.circuit-carole.com
SUMMARY:Sinueux
DESCRIPTION:Ce tracé technique d’une longueur de 1 050 m\, est réservé aux motos (de route ou de piste) d’une \ncylindrée inférieure ou égale à 500 cc 4 T ou 125 cc 2 T (250 cc 2 T Supermotard). \nPlus d’infos : https://www.circuit-carole.com/activites/circuit-sinueux/
URL:https://www.circuit-carole.com/calendrier/sinueux-13/2026-06-10/
CATEGORIES:Sinueux/Pit-bike
ORGANIZER;CN="Association de Gestion du Circuit Carole":MAILTO:info@circuit-carole.com
END:VEVENT
BEGIN:VEVENT
DTSTART;TZID=Europe/Paris:20260611T090000
DTEND;TZID=Europe/Paris:20260611T120000
DTSTAMP:20260424T235723
CREATED:20260317T151858Z
LAST-MODIFIED:20260317T151858Z
UID:10003888-1781168400-1781179200@www.circuit-carole.com
SUMMARY:Circuit fermé
DESCRIPTION:
URL:https://www.circuit-carole.com/calendrier/circuit-ferme-3/2026-06-11/
CATEGORIES:Fermeture
ORGANIZER;CN="Association de Gestion du Circuit Carole":MAILTO:info@circuit-carole.com
END:VEVENT
BEGIN:VEVENT
DTSTART;TZID=Europe/Paris:20260611T140000
DTEND;TZID=Europe/Paris:20260611T170000
DTSTAMP:20260424T235723
CREATED:20251216T133155Z
LAST-MODIFIED:20251216T133155Z
UID:10003641-1781186400-1781197200@www.circuit-carole.com
SUMMARY:Accès moto payant
DESCRIPTION:Plus d’infos : https://www.circuit-carole.com/activites/grand-circuit/ \nFormule “Sensation” de 3 h (14h00 à 17h00) : https://www.circuit-carole.com/formules/formule-sensation/ \n\nAbsence du créneau “Découverte” ce jour.
URL:https://www.circuit-carole.com/calendrier/acces-moto-payant-98/
CATEGORIES:Accès moto payant
ORGANIZER;CN="Association de Gestion du Circuit Carole":MAILTO:info@circuit-carole.com
END:VEVENT
BEGIN:VEVENT
DTSTART;TZID=Europe/Paris:20260616T090000
DTEND;TZID=Europe/Paris:20260616T120000
DTSTAMP:20260424T235723
CREATED:20260317T151858Z
LAST-MODIFIED:20260317T151858Z
UID:10003889-1781600400-1781611200@www.circuit-carole.com
SUMMARY:Circuit fermé
DESCRIPTION:
URL:https://www.circuit-carole.com/calendrier/circuit-ferme-3/2026-06-16/
CATEGORIES:Fermeture
ORGANIZER;CN="Association de Gestion du Circuit Carole":MAILTO:info@circuit-carole.com
END:VEVENT
BEGIN:VEVENT
DTSTART;TZID=Europe/Paris:20260616T140000
DTEND;TZID=Europe/Paris:20260616T180000
DTSTAMP:20260424T235723
CREATED:20251216T130827Z
LAST-MODIFIED:20251216T130827Z
UID:10003627-1781618400-1781632800@www.circuit-carole.com
SUMMARY:Accès moto payant
DESCRIPTION:Plus d’infos : https://www.circuit-carole.com/activites/grand-circuit/ \nFormule “Sensation” de 3 h (14h00 à 17h00) : https://www.circuit-carole.com/formules/formule-sensation/ \n\nFormule “Découverte” d’1 h (17h00 à 18h00) : https://www.circuit-carole.com/formules/formule-decouverte/
URL:https://www.circuit-carole.com/calendrier/acces-moto-payant-41/2026-06-16/
CATEGORIES:Accès moto payant
ORGANIZER;CN="Association de Gestion du Circuit Carole":MAILTO:info@circuit-carole.com
END:VEVENT
BEGIN:VEVENT
DTSTART;TZID=Europe/Paris:20260617T133000
DTEND;TZID=Europe/Paris:20260617T163000
DTSTAMP:20260424T235723
CREATED:20251216T132152Z
LAST-MODIFIED:20251216T132152Z
UID:10003632-1781703000-1781713800@www.circuit-carole.com
SUMMARY:Accès moto payant
DESCRIPTION:Plus d’infos : https://www.circuit-carole.com/activites/grand-circuit/ \nFormule “Sensation” de 3 h (13h30 à 16h30) : https://www.circuit-carole.com/formules/formule-sensation/
URL:https://www.circuit-carole.com/calendrier/acces-moto-payant-97/2026-06-17/
CATEGORIES:Accès moto payant
ORGANIZER;CN="Association de Gestion du Circuit Carole":MAILTO:info@circuit-carole.com
END:VEVENT
BEGIN:VEVENT
DTSTART;TZID=Europe/Paris:20260617T163000
DTEND;TZID=Europe/Paris:20260617T190000
DTSTAMP:20260424T235723
CREATED:20251216T132544Z
LAST-MODIFIED:20251216T132544Z
UID:10003635-1781713800-1781722800@www.circuit-carole.com
SUMMARY:Sinueux
DESCRIPTION:Ce tracé technique d’une longueur de 1 050 m\, est réservé aux motos (de route ou de piste) d’une \ncylindrée inférieure ou égale à 500 cc 4 T ou 125 cc 2 T (250 cc 2 T Supermotard). \nPlus d’infos : https://www.circuit-carole.com/activites/circuit-sinueux/
URL:https://www.circuit-carole.com/calendrier/sinueux-13/2026-06-17/
CATEGORIES:Sinueux/Pit-bike
ORGANIZER;CN="Association de Gestion du Circuit Carole":MAILTO:info@circuit-carole.com
END:VEVENT
BEGIN:VEVENT
DTSTART;TZID=Europe/Paris:20260618T090000
DTEND;TZID=Europe/Paris:20260618T120000
DTSTAMP:20260424T235723
CREATED:20260317T151858Z
LAST-MODIFIED:20260317T151858Z
UID:10003890-1781773200-1781784000@www.circuit-carole.com
SUMMARY:Circuit fermé
DESCRIPTION:
URL:https://www.circuit-carole.com/calendrier/circuit-ferme-3/2026-06-18/
CATEGORIES:Fermeture
ORGANIZER;CN="Association de Gestion du Circuit Carole":MAILTO:info@circuit-carole.com
END:VEVENT
BEGIN:VEVENT
DTSTART;TZID=Europe/Paris:20260618T140000
DTEND;TZID=Europe/Paris:20260618T180000
DTSTAMP:20260424T235723
CREATED:20251216T130827Z
LAST-MODIFIED:20251216T130827Z
UID:10003628-1781791200-1781805600@www.circuit-carole.com
SUMMARY:Accès moto payant
DESCRIPTION:Plus d’infos : https://www.circuit-carole.com/activites/grand-circuit/ \nFormule “Sensation” de 3 h (14h00 à 17h00) : https://www.circuit-carole.com/formules/formule-sensation/ \n\nFormule “Découverte” d’1 h (17h00 à 18h00) : https://www.circuit-carole.com/formules/formule-decouverte/
URL:https://www.circuit-carole.com/calendrier/acces-moto-payant-41/2026-06-18/
CATEGORIES:Accès moto payant
ORGANIZER;CN="Association de Gestion du Circuit Carole":MAILTO:info@circuit-carole.com
END:VEVENT
BEGIN:VEVENT
DTSTART;TZID=Europe/Paris:20260626T090000
DTEND;TZID=Europe/Paris:20260626T120000
DTSTAMP:20260424T235723
CREATED:20260317T151858Z
LAST-MODIFIED:20260317T151858Z
UID:10003891-1782464400-1782475200@www.circuit-carole.com
SUMMARY:Circuit fermé
DESCRIPTION:
URL:https://www.circuit-carole.com/calendrier/circuit-ferme-3/2026-06-26/
CATEGORIES:Fermeture
ORGANIZER;CN="Association de Gestion du Circuit Carole":MAILTO:info@circuit-carole.com
END:VEVENT
BEGIN:VEVENT
DTSTART;TZID=Europe/Paris:20260626T140000
DTEND;TZID=Europe/Paris:20260626T180000
DTSTAMP:20260424T235723
CREATED:20251118T132307Z
LAST-MODIFIED:20251118T132307Z
UID:10003357-1782482400-1782496800@www.circuit-carole.com
SUMMARY:Week-end gratuit
DESCRIPTION:Ouvert gratuitement aux motos. \nPlus d’infos : https://www.circuit-carole.com/activites/week-ends-gratuits/
URL:https://www.circuit-carole.com/calendrier/week-end-gratuit-49/2026-06-26/
CATEGORIES:Weekend gratuit
ORGANIZER;CN="Association de Gestion du Circuit Carole":MAILTO:info@circuit-carole.com
END:VEVENT
BEGIN:VEVENT
DTSTART;TZID=Europe/Paris:20260627T140000
DTEND;TZID=Europe/Paris:20260627T180000
DTSTAMP:20260424T235723
CREATED:20251118T132307Z
LAST-MODIFIED:20251118T132307Z
UID:10003358-1782568800-1782583200@www.circuit-carole.com
SUMMARY:Week-end gratuit
DESCRIPTION:Ouvert gratuitement aux motos. \nPlus d’infos : https://www.circuit-carole.com/activites/week-ends-gratuits/
URL:https://www.circuit-carole.com/calendrier/week-end-gratuit-49/2026-06-27/
CATEGORIES:Weekend gratuit
ORGANIZER;CN="Association de Gestion du Circuit Carole":MAILTO:info@circuit-carole.com
END:VEVENT
BEGIN:VEVENT
DTSTART;TZID=Europe/Paris:20260628T090000
DTEND;TZID=Europe/Paris:20260628T120000
DTSTAMP:20260424T235723
CREATED:20251119T150200Z
LAST-MODIFIED:20251119T150200Z
UID:10003370-1782637200-1782648000@www.circuit-carole.com
SUMMARY:Jeunes - 25 cv
DESCRIPTION:Jeunes – 25 cv : \nRéservé aux motos de moins de 25 cv. \n– Accès gratuit à la piste (hors coût de la licence ou du Pass Circuit ) :\nS’inscrire auprès du circuit Carole : info@circuit-carole.com \n– Accès avec location de moto\, équipement et / ou conseils d’un éducateur pour les jeunes :\nS’inscrire auprès de la Ligue Ile de France : danydieudonne@wanadoo.fr ou 06 31 14 78 10. \n\nPlus d’infos : https://www.circuit-carole.com/activites/week-ends-gratuits/
URL:https://www.circuit-carole.com/calendrier/jeunes-25-cv-9/2026-06-28/
CATEGORIES:Jeunes <25CV
ORGANIZER;CN="Association de Gestion du Circuit Carole":MAILTO:info@circuit-carole.com
END:VEVENT
BEGIN:VEVENT
DTSTART;TZID=Europe/Paris:20260628T140000
DTEND;TZID=Europe/Paris:20260628T180000
DTSTAMP:20260424T235723
CREATED:20251118T132307Z
LAST-MODIFIED:20251118T132307Z
UID:10003359-1782655200-1782669600@www.circuit-carole.com
SUMMARY:Week-end gratuit
DESCRIPTION:Ouvert gratuitement aux motos. \nPlus d’infos : https://www.circuit-carole.com/activites/week-ends-gratuits/
URL:https://www.circuit-carole.com/calendrier/week-end-gratuit-49/2026-06-28/
CATEGORIES:Weekend gratuit
ORGANIZER;CN="Association de Gestion du Circuit Carole":MAILTO:info@circuit-carole.com
END:VEVENT
BEGIN:VEVENT
DTSTART;TZID=Europe/Paris:20260701T133000
DTEND;TZID=Europe/Paris:20260701T163000
DTSTAMP:20260424T235723
CREATED:20251216T134641Z
LAST-MODIFIED:20251216T134641Z
UID:10003649-1782912600-1782923400@www.circuit-carole.com
SUMMARY:Accès moto payant
DESCRIPTION:Plus d’infos : https://www.circuit-carole.com/activites/grand-circuit/ \nFormule “Sensation” de 3 h (13h30 à 16h30) : https://www.circuit-carole.com/formules/formule-sensation/
URL:https://www.circuit-carole.com/calendrier/acces-moto-payant-100/2026-07-01/
CATEGORIES:Accès moto payant
ORGANIZER;CN="Association de Gestion du Circuit Carole":MAILTO:info@circuit-carole.com
END:VEVENT
BEGIN:VEVENT
DTSTART;TZID=Europe/Paris:20260701T163000
DTEND;TZID=Europe/Paris:20260701T190000
DTSTAMP:20260424T235723
CREATED:20251216T132920Z
LAST-MODIFIED:20251216T132920Z
UID:10003636-1782923400-1782932400@www.circuit-carole.com
SUMMARY:Sinueux
DESCRIPTION:Ce tracé technique d’une longueur de 1 050 m\, est réservé aux motos (de route ou de piste) d’une \ncylindrée inférieure ou égale à 500 cc 4 T ou 125 cc 2 T (250 cc 2 T Supermotard). \nPlus d’infos : https://www.circuit-carole.com/activites/circuit-sinueux/
URL:https://www.circuit-carole.com/calendrier/sinueux-14/2026-07-01/
CATEGORIES:Sinueux/Pit-bike
ORGANIZER;CN="Association de Gestion du Circuit Carole":MAILTO:info@circuit-carole.com
END:VEVENT
BEGIN:VEVENT
DTSTART;TZID=Europe/Paris:20260702T090000
DTEND;TZID=Europe/Paris:20260702T120000
DTSTAMP:20260424T235723
CREATED:20251216T135031Z
LAST-MODIFIED:20251216T135031Z
UID:10003654-1782982800-1782993600@www.circuit-carole.com
SUMMARY:Circuit fermé
DESCRIPTION:
URL:https://www.circuit-carole.com/calendrier/circuit-ferme-122/2026-07-02/
CATEGORIES:Fermeture
ORGANIZER;CN="Association de Gestion du Circuit Carole":MAILTO:info@circuit-carole.com
END:VEVENT
BEGIN:VEVENT
DTSTART;TZID=Europe/Paris:20260702T140000
DTEND;TZID=Europe/Paris:20260702T180000
DTSTAMP:20260424T235723
CREATED:20251216T133822Z
LAST-MODIFIED:20251216T135746Z
UID:10003642-1783000800-1783015200@www.circuit-carole.com
SUMMARY:Accès moto payant
DESCRIPTION:Plus d’infos : https://www.circuit-carole.com/activites/grand-circuit/ \nFormule “Sensation” de 3 h (14h00 à 17h00) : https://www.circuit-carole.com/formules/formule-sensation/ \n\nFormule “Découverte” d’1 h (17h00 à 18h00) : https://www.circuit-carole.com/formules/formule-decouverte/
URL:https://www.circuit-carole.com/calendrier/acces-moto-payant-99/2026-07-02/
CATEGORIES:Accès moto payant
ORGANIZER;CN="Association de Gestion du Circuit Carole":MAILTO:info@circuit-carole.com
END:VEVENT
BEGIN:VEVENT
DTSTART;TZID=Europe/Paris:20260707T090000
DTEND;TZID=Europe/Paris:20260707T120000
DTSTAMP:20260424T235723
CREATED:20251216T135031Z
LAST-MODIFIED:20251216T135031Z
UID:10003655-1783414800-1783425600@www.circuit-carole.com
SUMMARY:Circuit fermé
DESCRIPTION:
URL:https://www.circuit-carole.com/calendrier/circuit-ferme-122/2026-07-07/
CATEGORIES:Fermeture
ORGANIZER;CN="Association de Gestion du Circuit Carole":MAILTO:info@circuit-carole.com
END:VEVENT
BEGIN:VEVENT
DTSTART;TZID=Europe/Paris:20260707T140000
DTEND;TZID=Europe/Paris:20260707T180000
DTSTAMP:20260424T235723
CREATED:20251216T133822Z
LAST-MODIFIED:20251216T135746Z
UID:10003643-1783432800-1783447200@www.circuit-carole.com
SUMMARY:Accès moto payant
DESCRIPTION:Plus d’infos : https://www.circuit-carole.com/activites/grand-circuit/ \nFormule “Sensation” de 3 h (14h00 à 17h00) : https://www.circuit-carole.com/formules/formule-sensation/ \n\nFormule “Découverte” d’1 h (17h00 à 18h00) : https://www.circuit-carole.com/formules/formule-decouverte/
URL:https://www.circuit-carole.com/calendrier/acces-moto-payant-99/2026-07-07/
CATEGORIES:Accès moto payant
ORGANIZER;CN="Association de Gestion du Circuit Carole":MAILTO:info@circuit-carole.com
END:VEVENT
BEGIN:VEVENT
DTSTART;TZID=Europe/Paris:20260708T090000
DTEND;TZID=Europe/Paris:20260708T120000
DTSTAMP:20260424T235723
CREATED:20251216T135031Z
LAST-MODIFIED:20251216T135031Z
UID:10003656-1783501200-1783512000@www.circuit-carole.com
SUMMARY:Circuit fermé
DESCRIPTION:
URL:https://www.circuit-carole.com/calendrier/circuit-ferme-122/2026-07-08/
CATEGORIES:Fermeture
ORGANIZER;CN="Association de Gestion du Circuit Carole":MAILTO:info@circuit-carole.com
END:VEVENT
BEGIN:VEVENT
DTSTART;TZID=Europe/Paris:20260708T133000
DTEND;TZID=Europe/Paris:20260708T163000
DTSTAMP:20260424T235723
CREATED:20251216T134641Z
LAST-MODIFIED:20251216T134641Z
UID:10003650-1783517400-1783528200@www.circuit-carole.com
SUMMARY:Accès moto payant
DESCRIPTION:Plus d’infos : https://www.circuit-carole.com/activites/grand-circuit/ \nFormule “Sensation” de 3 h (13h30 à 16h30) : https://www.circuit-carole.com/formules/formule-sensation/
URL:https://www.circuit-carole.com/calendrier/acces-moto-payant-100/2026-07-08/
CATEGORIES:Accès moto payant
ORGANIZER;CN="Association de Gestion du Circuit Carole":MAILTO:info@circuit-carole.com
END:VEVENT
END:VCALENDAR