BEGIN:VCALENDAR
VERSION:2.0
PRODID:-//Circuit Carole - ECPv6.15.18//NONSGML v1.0//EN
CALSCALE:GREGORIAN
METHOD:PUBLISH
X-ORIGINAL-URL:https://www.circuit-carole.com
X-WR-CALDESC:Évènements pour Circuit Carole
REFRESH-INTERVAL;VALUE=DURATION:PT1H
X-Robots-Tag:noindex
X-PUBLISHED-TTL:PT1H
BEGIN:VTIMEZONE
TZID:Europe/Paris
BEGIN:DAYLIGHT
TZOFFSETFROM:+0100
TZOFFSETTO:+0200
TZNAME:CEST
DTSTART:20250330T010000
END:DAYLIGHT
BEGIN:STANDARD
TZOFFSETFROM:+0200
TZOFFSETTO:+0100
TZNAME:CET
DTSTART:20251026T010000
END:STANDARD
BEGIN:DAYLIGHT
TZOFFSETFROM:+0100
TZOFFSETTO:+0200
TZNAME:CEST
DTSTART:20260329T010000
END:DAYLIGHT
BEGIN:STANDARD
TZOFFSETFROM:+0200
TZOFFSETTO:+0100
TZNAME:CET
DTSTART:20261025T010000
END:STANDARD
BEGIN:DAYLIGHT
TZOFFSETFROM:+0100
TZOFFSETTO:+0200
TZNAME:CEST
DTSTART:20270328T010000
END:DAYLIGHT
BEGIN:STANDARD
TZOFFSETFROM:+0200
TZOFFSETTO:+0100
TZNAME:CET
DTSTART:20271031T010000
END:STANDARD
END:VTIMEZONE
BEGIN:VEVENT
DTSTART;TZID=Europe/Paris:20260223T090000
DTEND;TZID=Europe/Paris:20260223T120000
DTSTAMP:20260421T185130
CREATED:20260220T152535Z
LAST-MODIFIED:20260220T152604Z
UID:10003792-1771837200-1771848000@www.circuit-carole.com
SUMMARY:Carole For Kids
DESCRIPTION:École de pilotage ouverte aux jeunes de 6 à 14 ans. \nCréneau : Initiation.
URL:https://www.circuit-carole.com/calendrier/carole-for-kids-18/
CATEGORIES:Ecole
ORGANIZER;CN="Carole For Kids":MAILTO:contact@circuit-caroleforkids.fr
END:VEVENT
BEGIN:VEVENT
DTSTART;TZID=Europe/Paris:20260223T140000
DTEND;TZID=Europe/Paris:20260223T170000
DTSTAMP:20260421T185130
CREATED:20251110T143543Z
LAST-MODIFIED:20251110T143543Z
UID:10003267-1771855200-1771866000@www.circuit-carole.com
SUMMARY:Accès moto payant
DESCRIPTION:Plus d’infos : https://www.circuit-carole.com/activites/grand-circuit/ \nFormule “Sensation” de 3 h (14h00 à 17h00) : https://www.circuit-carole.com/formules/formule-sensation/
URL:https://www.circuit-carole.com/calendrier/acces-moto-payant-22/2026-02-23/
CATEGORIES:Accès moto payant
ORGANIZER;CN="Association de Gestion du Circuit Carole":MAILTO:info@circuit-carole.com
END:VEVENT
BEGIN:VEVENT
DTSTART;TZID=Europe/Paris:20260224T090000
DTEND;TZID=Europe/Paris:20260224T120000
DTSTAMP:20260421T185130
CREATED:20251212T133406Z
LAST-MODIFIED:20260220T152415Z
UID:10003498-1771923600-1771934400@www.circuit-carole.com
SUMMARY:Carole For Kids
DESCRIPTION:École de pilotage ouverte aux jeunes de 6 à 14 ans. \nCréneaux : Découverte et Initiation.
URL:https://www.circuit-carole.com/calendrier/carole-for-kids-4/2026-02-24/
CATEGORIES:Ecole
ORGANIZER;CN="Carole For Kids":MAILTO:contact@circuit-caroleforkids.fr
END:VEVENT
BEGIN:VEVENT
DTSTART;TZID=Europe/Paris:20260224T140000
DTEND;TZID=Europe/Paris:20260224T170000
DTSTAMP:20260421T185130
CREATED:20251110T143543Z
LAST-MODIFIED:20251110T143543Z
UID:10003268-1771941600-1771952400@www.circuit-carole.com
SUMMARY:Accès moto payant
DESCRIPTION:Plus d’infos : https://www.circuit-carole.com/activites/grand-circuit/ \nFormule “Sensation” de 3 h (14h00 à 17h00) : https://www.circuit-carole.com/formules/formule-sensation/
URL:https://www.circuit-carole.com/calendrier/acces-moto-payant-22/2026-02-24/
CATEGORIES:Accès moto payant
ORGANIZER;CN="Association de Gestion du Circuit Carole":MAILTO:info@circuit-carole.com
END:VEVENT
BEGIN:VEVENT
DTSTART;TZID=Europe/Paris:20260225T090000
DTEND;TZID=Europe/Paris:20260225T120000
DTSTAMP:20260421T185130
CREATED:20251212T133406Z
LAST-MODIFIED:20260220T152415Z
UID:10003499-1772010000-1772020800@www.circuit-carole.com
SUMMARY:Carole For Kids
DESCRIPTION:École de pilotage ouverte aux jeunes de 6 à 14 ans. \nCréneaux : Découverte et Initiation.
URL:https://www.circuit-carole.com/calendrier/carole-for-kids-4/2026-02-25/
CATEGORIES:Ecole
ORGANIZER;CN="Carole For Kids":MAILTO:contact@circuit-caroleforkids.fr
END:VEVENT
BEGIN:VEVENT
DTSTART;TZID=Europe/Paris:20260225T140000
DTEND;TZID=Europe/Paris:20260225T170000
DTSTAMP:20260421T185130
CREATED:20251110T143543Z
LAST-MODIFIED:20251110T143543Z
UID:10003269-1772028000-1772038800@www.circuit-carole.com
SUMMARY:Accès moto payant
DESCRIPTION:Plus d’infos : https://www.circuit-carole.com/activites/grand-circuit/ \nFormule “Sensation” de 3 h (14h00 à 17h00) : https://www.circuit-carole.com/formules/formule-sensation/
URL:https://www.circuit-carole.com/calendrier/acces-moto-payant-22/2026-02-25/
CATEGORIES:Accès moto payant
ORGANIZER;CN="Association de Gestion du Circuit Carole":MAILTO:info@circuit-carole.com
END:VEVENT
BEGIN:VEVENT
DTSTART;TZID=Europe/Paris:20260226T090000
DTEND;TZID=Europe/Paris:20260226T120000
DTSTAMP:20260421T185130
CREATED:20251212T133627Z
LAST-MODIFIED:20251212T133627Z
UID:10003501-1772096400-1772107200@www.circuit-carole.com
SUMMARY:Circuit fermé
DESCRIPTION:
URL:https://www.circuit-carole.com/calendrier/circuit-ferme-34/2026-02-26/
CATEGORIES:Fermeture
ORGANIZER;CN="Association de Gestion du Circuit Carole":MAILTO:info@circuit-carole.com
END:VEVENT
BEGIN:VEVENT
DTSTART;TZID=Europe/Paris:20260226T140000
DTEND;TZID=Europe/Paris:20260226T170000
DTSTAMP:20260421T185130
CREATED:20251110T143543Z
LAST-MODIFIED:20251110T143543Z
UID:10003270-1772114400-1772125200@www.circuit-carole.com
SUMMARY:Accès moto payant
DESCRIPTION:Plus d’infos : https://www.circuit-carole.com/activites/grand-circuit/ \nFormule “Sensation” de 3 h (14h00 à 17h00) : https://www.circuit-carole.com/formules/formule-sensation/
URL:https://www.circuit-carole.com/calendrier/acces-moto-payant-22/2026-02-26/
CATEGORIES:Accès moto payant
ORGANIZER;CN="Association de Gestion du Circuit Carole":MAILTO:info@circuit-carole.com
END:VEVENT
BEGIN:VEVENT
DTSTART;TZID=Europe/Paris:20260227T090000
DTEND;TZID=Europe/Paris:20260227T120000
DTSTAMP:20260421T185130
CREATED:20251212T133627Z
LAST-MODIFIED:20251212T133627Z
UID:10003502-1772182800-1772193600@www.circuit-carole.com
SUMMARY:Circuit fermé
DESCRIPTION:
URL:https://www.circuit-carole.com/calendrier/circuit-ferme-34/2026-02-27/
CATEGORIES:Fermeture
ORGANIZER;CN="Association de Gestion du Circuit Carole":MAILTO:info@circuit-carole.com
END:VEVENT
BEGIN:VEVENT
DTSTART;TZID=Europe/Paris:20260227T140000
DTEND;TZID=Europe/Paris:20260227T170000
DTSTAMP:20260421T185130
CREATED:20251107T101808Z
LAST-MODIFIED:20251107T101808Z
UID:10003227-1772200800-1772211600@www.circuit-carole.com
SUMMARY:Week-end gratuit
DESCRIPTION:Ouvert gratuitement aux motos. \nPlus d’infos : https://www.circuit-carole.com/activites/week-ends-gratuits/
URL:https://www.circuit-carole.com/calendrier/week-end-gratuit-17/2026-02-27/
CATEGORIES:Weekend gratuit
ORGANIZER;CN="Association de Gestion du Circuit Carole":MAILTO:info@circuit-carole.com
END:VEVENT
BEGIN:VEVENT
DTSTART;TZID=Europe/Paris:20260228T090000
DTEND;TZID=Europe/Paris:20260228T120000
DTSTAMP:20260421T185130
CREATED:20260210T104655Z
LAST-MODIFIED:20260210T104655Z
UID:10003756-1772269200-1772280000@www.circuit-carole.com
SUMMARY:Sinueux
DESCRIPTION:Ce tracé technique d’une longueur de 1 050 m\, est réservé aux motos (de route ou de piste) d’une \ncylindrée inférieure ou égale à 500 cc 4 T ou 125 cc 2 T (250 cc 2 T Supermotard). \nPlus d’infos : https://www.circuit-carole.com/activites/circuit-sinueux/
URL:https://www.circuit-carole.com/calendrier/sinueux-16/2026-02-28/
CATEGORIES:Sinueux/Pit-bike
ORGANIZER;CN="Association de Gestion du Circuit Carole":MAILTO:info@circuit-carole.com
END:VEVENT
BEGIN:VEVENT
DTSTART;TZID=Europe/Paris:20260228T140000
DTEND;TZID=Europe/Paris:20260228T170000
DTSTAMP:20260421T185130
CREATED:20251107T101808Z
LAST-MODIFIED:20251107T101808Z
UID:10003228-1772287200-1772298000@www.circuit-carole.com
SUMMARY:Week-end gratuit
DESCRIPTION:Ouvert gratuitement aux motos. \nPlus d’infos : https://www.circuit-carole.com/activites/week-ends-gratuits/
URL:https://www.circuit-carole.com/calendrier/week-end-gratuit-17/2026-02-28/
CATEGORIES:Weekend gratuit
ORGANIZER;CN="Association de Gestion du Circuit Carole":MAILTO:info@circuit-carole.com
END:VEVENT
BEGIN:VEVENT
DTSTART;TZID=Europe/Paris:20260301T090000
DTEND;TZID=Europe/Paris:20260301T120000
DTSTAMP:20260421T185130
CREATED:20251204T132242Z
LAST-MODIFIED:20251204T132242Z
UID:10003488-1772355600-1772366400@www.circuit-carole.com
SUMMARY:Side-cars / Kartings
DESCRIPTION:Ouvert gratuitement pour les side-cars. \nForfait 3h00 à 80 € pour les kartings. \nPlus d’infos Kartings : https://www.circuit-carole.com/activites/karting/
URL:https://www.circuit-carole.com/calendrier/side-cars-kartings-6/2026-03-01/
CATEGORIES:Karting/Side-car
ORGANIZER;CN="Association de Gestion du Circuit Carole":MAILTO:info@circuit-carole.com
END:VEVENT
BEGIN:VEVENT
DTSTART;TZID=Europe/Paris:20260301T140000
DTEND;TZID=Europe/Paris:20260301T170000
DTSTAMP:20260421T185131
CREATED:20251107T101808Z
LAST-MODIFIED:20251107T101808Z
UID:10003229-1772373600-1772384400@www.circuit-carole.com
SUMMARY:Week-end gratuit
DESCRIPTION:Ouvert gratuitement aux motos. \nPlus d’infos : https://www.circuit-carole.com/activites/week-ends-gratuits/
URL:https://www.circuit-carole.com/calendrier/week-end-gratuit-17/2026-03-01/
CATEGORIES:Weekend gratuit
ORGANIZER;CN="Association de Gestion du Circuit Carole":MAILTO:info@circuit-carole.com
END:VEVENT
END:VCALENDAR