BEGIN:VCALENDAR
VERSION:2.0
PRODID:-//Circuit Carole - ECPv6.15.18//NONSGML v1.0//EN
CALSCALE:GREGORIAN
METHOD:PUBLISH
X-ORIGINAL-URL:https://www.circuit-carole.com
X-WR-CALDESC:Évènements pour Circuit Carole
REFRESH-INTERVAL;VALUE=DURATION:PT1H
X-Robots-Tag:noindex
X-PUBLISHED-TTL:PT1H
BEGIN:VTIMEZONE
TZID:Europe/Paris
BEGIN:DAYLIGHT
TZOFFSETFROM:+0100
TZOFFSETTO:+0200
TZNAME:CEST
DTSTART:20250330T010000
END:DAYLIGHT
BEGIN:STANDARD
TZOFFSETFROM:+0200
TZOFFSETTO:+0100
TZNAME:CET
DTSTART:20251026T010000
END:STANDARD
BEGIN:DAYLIGHT
TZOFFSETFROM:+0100
TZOFFSETTO:+0200
TZNAME:CEST
DTSTART:20260329T010000
END:DAYLIGHT
BEGIN:STANDARD
TZOFFSETFROM:+0200
TZOFFSETTO:+0100
TZNAME:CET
DTSTART:20261025T010000
END:STANDARD
BEGIN:DAYLIGHT
TZOFFSETFROM:+0100
TZOFFSETTO:+0200
TZNAME:CEST
DTSTART:20270328T010000
END:DAYLIGHT
BEGIN:STANDARD
TZOFFSETFROM:+0200
TZOFFSETTO:+0100
TZNAME:CET
DTSTART:20271031T010000
END:STANDARD
END:VTIMEZONE
BEGIN:VEVENT
DTSTART;TZID=Europe/Paris:20260216T090000
DTEND;TZID=Europe/Paris:20260216T120000
DTSTAMP:20260421T212039
CREATED:20251110T143159Z
LAST-MODIFIED:20251110T143159Z
UID:10003259-1771232400-1771243200@www.circuit-carole.com
SUMMARY:Circuit fermé
DESCRIPTION:
URL:https://www.circuit-carole.com/calendrier/circuit-ferme-82/2026-02-16/
CATEGORIES:Fermeture
ORGANIZER;CN="Association de Gestion du Circuit Carole":MAILTO:info@circuit-carole.com
END:VEVENT
BEGIN:VEVENT
DTSTART;TZID=Europe/Paris:20260216T140000
DTEND;TZID=Europe/Paris:20260216T170000
DTSTAMP:20260421T212039
CREATED:20251110T143342Z
LAST-MODIFIED:20251110T143342Z
UID:10003263-1771250400-1771261200@www.circuit-carole.com
SUMMARY:Accès moto payant
DESCRIPTION:Plus d’infos : https://www.circuit-carole.com/activites/grand-circuit/ \nFormule “Sensation” de 3 h (14h00 à 17h00) : https://www.circuit-carole.com/formules/formule-sensation/
URL:https://www.circuit-carole.com/calendrier/acces-moto-payant-21/2026-02-16/
CATEGORIES:Accès moto payant
ORGANIZER;CN="Association de Gestion du Circuit Carole":MAILTO:info@circuit-carole.com
END:VEVENT
BEGIN:VEVENT
DTSTART;TZID=Europe/Paris:20260217T090000
DTEND;TZID=Europe/Paris:20260217T120000
DTSTAMP:20260421T212039
CREATED:20251110T143159Z
LAST-MODIFIED:20251110T143159Z
UID:10003260-1771318800-1771329600@www.circuit-carole.com
SUMMARY:Circuit fermé
DESCRIPTION:
URL:https://www.circuit-carole.com/calendrier/circuit-ferme-82/2026-02-17/
CATEGORIES:Fermeture
ORGANIZER;CN="Association de Gestion du Circuit Carole":MAILTO:info@circuit-carole.com
END:VEVENT
BEGIN:VEVENT
DTSTART;TZID=Europe/Paris:20260217T140000
DTEND;TZID=Europe/Paris:20260217T170000
DTSTAMP:20260421T212039
CREATED:20251110T143342Z
LAST-MODIFIED:20251110T143342Z
UID:10003264-1771336800-1771347600@www.circuit-carole.com
SUMMARY:Accès moto payant
DESCRIPTION:Plus d’infos : https://www.circuit-carole.com/activites/grand-circuit/ \nFormule “Sensation” de 3 h (14h00 à 17h00) : https://www.circuit-carole.com/formules/formule-sensation/
URL:https://www.circuit-carole.com/calendrier/acces-moto-payant-21/2026-02-17/
CATEGORIES:Accès moto payant
ORGANIZER;CN="Association de Gestion du Circuit Carole":MAILTO:info@circuit-carole.com
END:VEVENT
BEGIN:VEVENT
DTSTART;TZID=Europe/Paris:20260218T090000
DTEND;TZID=Europe/Paris:20260218T120000
DTSTAMP:20260421T212039
CREATED:20251212T133627Z
LAST-MODIFIED:20251212T133627Z
UID:10003500-1771405200-1771416000@www.circuit-carole.com
SUMMARY:Circuit fermé
DESCRIPTION:
URL:https://www.circuit-carole.com/calendrier/circuit-ferme-34/2026-02-18/
CATEGORIES:Fermeture
ORGANIZER;CN="Association de Gestion du Circuit Carole":MAILTO:info@circuit-carole.com
END:VEVENT
BEGIN:VEVENT
DTSTART;TZID=Europe/Paris:20260218T140000
DTEND;TZID=Europe/Paris:20260218T170000
DTSTAMP:20260421T212039
CREATED:20251110T143342Z
LAST-MODIFIED:20251110T143342Z
UID:10003265-1771423200-1771434000@www.circuit-carole.com
SUMMARY:Accès moto payant
DESCRIPTION:Plus d’infos : https://www.circuit-carole.com/activites/grand-circuit/ \nFormule “Sensation” de 3 h (14h00 à 17h00) : https://www.circuit-carole.com/formules/formule-sensation/
URL:https://www.circuit-carole.com/calendrier/acces-moto-payant-21/2026-02-18/
CATEGORIES:Accès moto payant
ORGANIZER;CN="Association de Gestion du Circuit Carole":MAILTO:info@circuit-carole.com
END:VEVENT
BEGIN:VEVENT
DTSTART;TZID=Europe/Paris:20260219T090000
DTEND;TZID=Europe/Paris:20260219T120000
DTSTAMP:20260421T212039
CREATED:20251110T143159Z
LAST-MODIFIED:20251110T143159Z
UID:10003261-1771491600-1771502400@www.circuit-carole.com
SUMMARY:Circuit fermé
DESCRIPTION:
URL:https://www.circuit-carole.com/calendrier/circuit-ferme-82/2026-02-19/
CATEGORIES:Fermeture
ORGANIZER;CN="Association de Gestion du Circuit Carole":MAILTO:info@circuit-carole.com
END:VEVENT
BEGIN:VEVENT
DTSTART;TZID=Europe/Paris:20260219T140000
DTEND;TZID=Europe/Paris:20260219T170000
DTSTAMP:20260421T212039
CREATED:20251110T143342Z
LAST-MODIFIED:20251110T143342Z
UID:10003266-1771509600-1771520400@www.circuit-carole.com
SUMMARY:Accès moto payant
DESCRIPTION:Plus d’infos : https://www.circuit-carole.com/activites/grand-circuit/ \nFormule “Sensation” de 3 h (14h00 à 17h00) : https://www.circuit-carole.com/formules/formule-sensation/
URL:https://www.circuit-carole.com/calendrier/acces-moto-payant-21/2026-02-19/
CATEGORIES:Accès moto payant
ORGANIZER;CN="Association de Gestion du Circuit Carole":MAILTO:info@circuit-carole.com
END:VEVENT
BEGIN:VEVENT
DTSTART;TZID=Europe/Paris:20260220T090000
DTEND;TZID=Europe/Paris:20260220T120000
DTSTAMP:20260421T212039
CREATED:20251110T143159Z
LAST-MODIFIED:20251110T143159Z
UID:10003262-1771578000-1771588800@www.circuit-carole.com
SUMMARY:Circuit fermé
DESCRIPTION:
URL:https://www.circuit-carole.com/calendrier/circuit-ferme-82/2026-02-20/
CATEGORIES:Fermeture
ORGANIZER;CN="Association de Gestion du Circuit Carole":MAILTO:info@circuit-carole.com
END:VEVENT
BEGIN:VEVENT
DTSTART;TZID=Europe/Paris:20260220T140000
DTEND;TZID=Europe/Paris:20260220T170000
DTSTAMP:20260421T212039
CREATED:20251107T101640Z
LAST-MODIFIED:20251107T101640Z
UID:10003224-1771596000-1771606800@www.circuit-carole.com
SUMMARY:Week-end gratuit
DESCRIPTION:Ouvert gratuitement aux motos. \nPlus d’infos : https://www.circuit-carole.com/activites/week-ends-gratuits/
URL:https://www.circuit-carole.com/calendrier/week-end-gratuit-13/2026-02-20/
CATEGORIES:Weekend gratuit
ORGANIZER;CN="Association de Gestion du Circuit Carole":MAILTO:info@circuit-carole.com
END:VEVENT
BEGIN:VEVENT
DTSTART;TZID=Europe/Paris:20260221T090000
DTEND;TZID=Europe/Paris:20260221T120000
DTSTAMP:20260421T212039
CREATED:20260210T104655Z
LAST-MODIFIED:20260210T104655Z
UID:10003755-1771664400-1771675200@www.circuit-carole.com
SUMMARY:Sinueux
DESCRIPTION:Ce tracé technique d’une longueur de 1 050 m\, est réservé aux motos (de route ou de piste) d’une \ncylindrée inférieure ou égale à 500 cc 4 T ou 125 cc 2 T (250 cc 2 T Supermotard). \nPlus d’infos : https://www.circuit-carole.com/activites/circuit-sinueux/
URL:https://www.circuit-carole.com/calendrier/sinueux-16/2026-02-21/
CATEGORIES:Sinueux/Pit-bike
ORGANIZER;CN="Association de Gestion du Circuit Carole":MAILTO:info@circuit-carole.com
END:VEVENT
BEGIN:VEVENT
DTSTART;TZID=Europe/Paris:20260221T140000
DTEND;TZID=Europe/Paris:20260221T170000
DTSTAMP:20260421T212039
CREATED:20251107T101640Z
LAST-MODIFIED:20251107T101640Z
UID:10003225-1771682400-1771693200@www.circuit-carole.com
SUMMARY:Week-end gratuit
DESCRIPTION:Ouvert gratuitement aux motos. \nPlus d’infos : https://www.circuit-carole.com/activites/week-ends-gratuits/
URL:https://www.circuit-carole.com/calendrier/week-end-gratuit-13/2026-02-21/
CATEGORIES:Weekend gratuit
ORGANIZER;CN="Association de Gestion du Circuit Carole":MAILTO:info@circuit-carole.com
END:VEVENT
BEGIN:VEVENT
DTSTART;TZID=Europe/Paris:20260222T090000
DTEND;TZID=Europe/Paris:20260222T120000
DTSTAMP:20260421T212039
CREATED:20251107T094845Z
LAST-MODIFIED:20251107T094845Z
UID:10003208-1771750800-1771761600@www.circuit-carole.com
SUMMARY:Jeunes - 25 cv (Sinueux)
DESCRIPTION:Jeunes – 25 cv : \nRéservé aux motos de moins de 25 cv. \n– Accès gratuit à la piste (hors coût de la licence ou du Pass Circuit ) :\nS’inscrire auprès du circuit Carole : info@circuit-carole.com \n– Accès avec location de moto\, équipement et / ou conseils d’un éducateur pour les jeunes :\nS’inscrire auprès de la Ligue Ile de France : danydieudonne@wanadoo.fr ou 06 31 14 78 10. \n\nPlus d’infos : https://www.circuit-carole.com/activites/week-ends-gratuits/
URL:https://www.circuit-carole.com/calendrier/jeunes-25-cv-sinueux-4/2026-02-22/
CATEGORIES:Jeunes <25CV
ORGANIZER;CN="Association de Gestion du Circuit Carole":MAILTO:info@circuit-carole.com
END:VEVENT
BEGIN:VEVENT
DTSTART;TZID=Europe/Paris:20260222T140000
DTEND;TZID=Europe/Paris:20260222T170000
DTSTAMP:20260421T212039
CREATED:20251107T101640Z
LAST-MODIFIED:20251107T101640Z
UID:10003226-1771768800-1771779600@www.circuit-carole.com
SUMMARY:Week-end gratuit
DESCRIPTION:Ouvert gratuitement aux motos. \nPlus d’infos : https://www.circuit-carole.com/activites/week-ends-gratuits/
URL:https://www.circuit-carole.com/calendrier/week-end-gratuit-13/2026-02-22/
CATEGORIES:Weekend gratuit
ORGANIZER;CN="Association de Gestion du Circuit Carole":MAILTO:info@circuit-carole.com
END:VEVENT
END:VCALENDAR