BEGIN:VCALENDAR
VERSION:2.0
PRODID:-//Circuit Carole - ECPv6.15.18//NONSGML v1.0//EN
CALSCALE:GREGORIAN
METHOD:PUBLISH
X-ORIGINAL-URL:https://www.circuit-carole.com
X-WR-CALDESC:Évènements pour Circuit Carole
REFRESH-INTERVAL;VALUE=DURATION:PT1H
X-Robots-Tag:noindex
X-PUBLISHED-TTL:PT1H
BEGIN:VTIMEZONE
TZID:Europe/Paris
BEGIN:DAYLIGHT
TZOFFSETFROM:+0100
TZOFFSETTO:+0200
TZNAME:CEST
DTSTART:20250330T010000
END:DAYLIGHT
BEGIN:STANDARD
TZOFFSETFROM:+0200
TZOFFSETTO:+0100
TZNAME:CET
DTSTART:20251026T010000
END:STANDARD
BEGIN:DAYLIGHT
TZOFFSETFROM:+0100
TZOFFSETTO:+0200
TZNAME:CEST
DTSTART:20260329T010000
END:DAYLIGHT
BEGIN:STANDARD
TZOFFSETFROM:+0200
TZOFFSETTO:+0100
TZNAME:CET
DTSTART:20261025T010000
END:STANDARD
BEGIN:DAYLIGHT
TZOFFSETFROM:+0100
TZOFFSETTO:+0200
TZNAME:CEST
DTSTART:20270328T010000
END:DAYLIGHT
BEGIN:STANDARD
TZOFFSETFROM:+0200
TZOFFSETTO:+0100
TZNAME:CET
DTSTART:20271031T010000
END:STANDARD
END:VTIMEZONE
BEGIN:VEVENT
DTSTART;TZID=Europe/Paris:20260126T090000
DTEND;TZID=Europe/Paris:20260126T120000
DTSTAMP:20260421T200100
CREATED:20251107T100807Z
LAST-MODIFIED:20260108T094250Z
UID:10003209-1769418000-1769428800@www.circuit-carole.com
SUMMARY:Circuit fermé
DESCRIPTION:
URL:https://www.circuit-carole.com/calendrier/circuit-ferme-43/2026-01-26/
CATEGORIES:Fermeture
ORGANIZER;CN="Association de Gestion du Circuit Carole":MAILTO:info@circuit-carole.com
END:VEVENT
BEGIN:VEVENT
DTSTART;TZID=Europe/Paris:20260126T140000
DTEND;TZID=Europe/Paris:20260126T170000
DTSTAMP:20260421T200100
CREATED:20251110T141912Z
LAST-MODIFIED:20251110T141912Z
UID:10003236-1769436000-1769446800@www.circuit-carole.com
SUMMARY:Accès moto payant
DESCRIPTION:Plus d’infos : https://www.circuit-carole.com/activites/grand-circuit/ \nFormule “Sensation” de 3 h (14h00 à 17h00) : https://www.circuit-carole.com/formules/formule-sensation/
URL:https://www.circuit-carole.com/calendrier/acces-moto-payant-11/2026-01-26/
CATEGORIES:Accès moto payant
ORGANIZER;CN="Association de Gestion du Circuit Carole":MAILTO:info@circuit-carole.com
END:VEVENT
BEGIN:VEVENT
DTSTART;TZID=Europe/Paris:20260127T090000
DTEND;TZID=Europe/Paris:20260127T120000
DTSTAMP:20260421T200100
CREATED:20251107T100807Z
LAST-MODIFIED:20260108T094250Z
UID:10003210-1769504400-1769515200@www.circuit-carole.com
SUMMARY:Circuit fermé
DESCRIPTION:
URL:https://www.circuit-carole.com/calendrier/circuit-ferme-43/2026-01-27/
CATEGORIES:Fermeture
ORGANIZER;CN="Association de Gestion du Circuit Carole":MAILTO:info@circuit-carole.com
END:VEVENT
BEGIN:VEVENT
DTSTART;TZID=Europe/Paris:20260127T140000
DTEND;TZID=Europe/Paris:20260127T170000
DTSTAMP:20260421T200100
CREATED:20251110T141912Z
LAST-MODIFIED:20251110T141912Z
UID:10003237-1769522400-1769533200@www.circuit-carole.com
SUMMARY:Accès moto payant
DESCRIPTION:Plus d’infos : https://www.circuit-carole.com/activites/grand-circuit/ \nFormule “Sensation” de 3 h (14h00 à 17h00) : https://www.circuit-carole.com/formules/formule-sensation/
URL:https://www.circuit-carole.com/calendrier/acces-moto-payant-11/2026-01-27/
CATEGORIES:Accès moto payant
ORGANIZER;CN="Association de Gestion du Circuit Carole":MAILTO:info@circuit-carole.com
END:VEVENT
BEGIN:VEVENT
DTSTART;TZID=Europe/Paris:20260128T090000
DTEND;TZID=Europe/Paris:20260128T120000
DTSTAMP:20260421T200100
CREATED:20251107T100807Z
LAST-MODIFIED:20260108T094250Z
UID:10003211-1769590800-1769601600@www.circuit-carole.com
SUMMARY:Circuit fermé
DESCRIPTION:
URL:https://www.circuit-carole.com/calendrier/circuit-ferme-43/2026-01-28/
CATEGORIES:Fermeture
ORGANIZER;CN="Association de Gestion du Circuit Carole":MAILTO:info@circuit-carole.com
END:VEVENT
BEGIN:VEVENT
DTSTART;TZID=Europe/Paris:20260128T140000
DTEND;TZID=Europe/Paris:20260128T170000
DTSTAMP:20260421T200100
CREATED:20251110T141912Z
LAST-MODIFIED:20251110T141912Z
UID:10003238-1769608800-1769619600@www.circuit-carole.com
SUMMARY:Accès moto payant
DESCRIPTION:Plus d’infos : https://www.circuit-carole.com/activites/grand-circuit/ \nFormule “Sensation” de 3 h (14h00 à 17h00) : https://www.circuit-carole.com/formules/formule-sensation/
URL:https://www.circuit-carole.com/calendrier/acces-moto-payant-11/2026-01-28/
CATEGORIES:Accès moto payant
ORGANIZER;CN="Association de Gestion du Circuit Carole":MAILTO:info@circuit-carole.com
END:VEVENT
BEGIN:VEVENT
DTSTART;TZID=Europe/Paris:20260129T090000
DTEND;TZID=Europe/Paris:20260129T120000
DTSTAMP:20260421T200100
CREATED:20251107T100807Z
LAST-MODIFIED:20260108T094250Z
UID:10003212-1769677200-1769688000@www.circuit-carole.com
SUMMARY:Circuit fermé
DESCRIPTION:
URL:https://www.circuit-carole.com/calendrier/circuit-ferme-43/2026-01-29/
CATEGORIES:Fermeture
ORGANIZER;CN="Association de Gestion du Circuit Carole":MAILTO:info@circuit-carole.com
END:VEVENT
BEGIN:VEVENT
DTSTART;TZID=Europe/Paris:20260129T140000
DTEND;TZID=Europe/Paris:20260129T170000
DTSTAMP:20260421T200100
CREATED:20251110T141912Z
LAST-MODIFIED:20251110T141912Z
UID:10003239-1769695200-1769706000@www.circuit-carole.com
SUMMARY:Accès moto payant
DESCRIPTION:Plus d’infos : https://www.circuit-carole.com/activites/grand-circuit/ \nFormule “Sensation” de 3 h (14h00 à 17h00) : https://www.circuit-carole.com/formules/formule-sensation/
URL:https://www.circuit-carole.com/calendrier/acces-moto-payant-11/2026-01-29/
CATEGORIES:Accès moto payant
ORGANIZER;CN="Association de Gestion du Circuit Carole":MAILTO:info@circuit-carole.com
END:VEVENT
BEGIN:VEVENT
DTSTART;TZID=Europe/Paris:20260130T090000
DTEND;TZID=Europe/Paris:20260130T120000
DTSTAMP:20260421T200100
CREATED:20251107T100807Z
LAST-MODIFIED:20260108T094250Z
UID:10003213-1769763600-1769774400@www.circuit-carole.com
SUMMARY:Circuit fermé
DESCRIPTION:
URL:https://www.circuit-carole.com/calendrier/circuit-ferme-43/2026-01-30/
CATEGORIES:Fermeture
ORGANIZER;CN="Association de Gestion du Circuit Carole":MAILTO:info@circuit-carole.com
END:VEVENT
BEGIN:VEVENT
DTSTART;TZID=Europe/Paris:20260130T140000
DTEND;TZID=Europe/Paris:20260130T170000
DTSTAMP:20260421T200100
CREATED:20251107T101229Z
LAST-MODIFIED:20251107T101229Z
UID:10003215-1769781600-1769792400@www.circuit-carole.com
SUMMARY:Week-end gratuit
DESCRIPTION:Ouvert gratuitement aux motos. \nPlus d’infos : https://www.circuit-carole.com/activites/week-ends-gratuits/
URL:https://www.circuit-carole.com/calendrier/week-end-gratuit-9/2026-01-30/
CATEGORIES:Weekend gratuit
ORGANIZER;CN="Association de Gestion du Circuit Carole":MAILTO:info@circuit-carole.com
END:VEVENT
BEGIN:VEVENT
DTSTART;TZID=Europe/Paris:20260131T090000
DTEND;TZID=Europe/Paris:20260131T120000
DTSTAMP:20260421T200100
CREATED:20260108T094033Z
LAST-MODIFIED:20260108T094033Z
UID:10003669-1769850000-1769860800@www.circuit-carole.com
SUMMARY:Roulage S.O.S. Rodéo
DESCRIPTION:
URL:https://www.circuit-carole.com/calendrier/roulage-s-o-s-rodeo-4/2026-01-31/
CATEGORIES:Acrobatie
ORGANIZER;CN="S.O.S. Rod%C3%A9o":MAILTO:sosrodeo@yahoo.com
END:VEVENT
BEGIN:VEVENT
DTSTART;TZID=Europe/Paris:20260131T140000
DTEND;TZID=Europe/Paris:20260131T170000
DTSTAMP:20260421T200100
CREATED:20251107T101229Z
LAST-MODIFIED:20251107T101229Z
UID:10003216-1769868000-1769878800@www.circuit-carole.com
SUMMARY:Week-end gratuit
DESCRIPTION:Ouvert gratuitement aux motos. \nPlus d’infos : https://www.circuit-carole.com/activites/week-ends-gratuits/
URL:https://www.circuit-carole.com/calendrier/week-end-gratuit-9/2026-01-31/
CATEGORIES:Weekend gratuit
ORGANIZER;CN="Association de Gestion du Circuit Carole":MAILTO:info@circuit-carole.com
END:VEVENT
BEGIN:VEVENT
DTSTART;TZID=Europe/Paris:20260201T090000
DTEND;TZID=Europe/Paris:20260201T120000
DTSTAMP:20260421T200100
CREATED:20251204T132242Z
LAST-MODIFIED:20251204T132242Z
UID:10003486-1769936400-1769947200@www.circuit-carole.com
SUMMARY:Side-cars / Kartings
DESCRIPTION:Ouvert gratuitement pour les side-cars. \nForfait 3h00 à 80 € pour les kartings. \nPlus d’infos Kartings : https://www.circuit-carole.com/activites/karting/
URL:https://www.circuit-carole.com/calendrier/side-cars-kartings-6/2026-02-01/
CATEGORIES:Karting/Side-car
ORGANIZER;CN="Association de Gestion du Circuit Carole":MAILTO:info@circuit-carole.com
END:VEVENT
BEGIN:VEVENT
DTSTART;TZID=Europe/Paris:20260201T140000
DTEND;TZID=Europe/Paris:20260201T170000
DTSTAMP:20260421T200100
CREATED:20251107T101229Z
LAST-MODIFIED:20251107T101229Z
UID:10003217-1769954400-1769965200@www.circuit-carole.com
SUMMARY:Week-end gratuit
DESCRIPTION:Ouvert gratuitement aux motos. \nPlus d’infos : https://www.circuit-carole.com/activites/week-ends-gratuits/
URL:https://www.circuit-carole.com/calendrier/week-end-gratuit-9/2026-02-01/
CATEGORIES:Weekend gratuit
ORGANIZER;CN="Association de Gestion du Circuit Carole":MAILTO:info@circuit-carole.com
END:VEVENT
END:VCALENDAR