BEGIN:VCALENDAR
VERSION:2.0
PRODID:-//Circuit Carole - ECPv6.15.18//NONSGML v1.0//EN
CALSCALE:GREGORIAN
METHOD:PUBLISH
X-ORIGINAL-URL:https://www.circuit-carole.com
X-WR-CALDESC:Évènements pour Circuit Carole
REFRESH-INTERVAL;VALUE=DURATION:PT1H
X-Robots-Tag:noindex
X-PUBLISHED-TTL:PT1H
BEGIN:VTIMEZONE
TZID:Europe/Paris
BEGIN:DAYLIGHT
TZOFFSETFROM:+0100
TZOFFSETTO:+0200
TZNAME:CEST
DTSTART:20250330T010000
END:DAYLIGHT
BEGIN:STANDARD
TZOFFSETFROM:+0200
TZOFFSETTO:+0100
TZNAME:CET
DTSTART:20251026T010000
END:STANDARD
BEGIN:DAYLIGHT
TZOFFSETFROM:+0100
TZOFFSETTO:+0200
TZNAME:CEST
DTSTART:20260329T010000
END:DAYLIGHT
BEGIN:STANDARD
TZOFFSETFROM:+0200
TZOFFSETTO:+0100
TZNAME:CET
DTSTART:20261025T010000
END:STANDARD
BEGIN:DAYLIGHT
TZOFFSETFROM:+0100
TZOFFSETTO:+0200
TZNAME:CEST
DTSTART:20270328T010000
END:DAYLIGHT
BEGIN:STANDARD
TZOFFSETFROM:+0200
TZOFFSETTO:+0100
TZNAME:CET
DTSTART:20271031T010000
END:STANDARD
END:VTIMEZONE
BEGIN:VEVENT
DTSTART;TZID=Europe/Paris:20260119T090000
DTEND;TZID=Europe/Paris:20260119T120000
DTSTAMP:20260421T211955
CREATED:20251107T094205Z
LAST-MODIFIED:20260108T094207Z
UID:10003194-1768813200-1768824000@www.circuit-carole.com
SUMMARY:Circuit fermé
DESCRIPTION:
URL:https://www.circuit-carole.com/calendrier/circuit-ferme-39/2026-01-19/
CATEGORIES:Fermeture
ORGANIZER;CN="Association de Gestion du Circuit Carole":MAILTO:info@circuit-carole.com
END:VEVENT
BEGIN:VEVENT
DTSTART;TZID=Europe/Paris:20260119T140000
DTEND;TZID=Europe/Paris:20260119T170000
DTSTAMP:20260421T211955
CREATED:20251107T094427Z
LAST-MODIFIED:20251107T094427Z
UID:10003200-1768831200-1768842000@www.circuit-carole.com
SUMMARY:Circuit fermé
DESCRIPTION:
URL:https://www.circuit-carole.com/calendrier/circuit-ferme-42/2026-01-19/
CATEGORIES:Fermeture
ORGANIZER;CN="Association de Gestion du Circuit Carole":MAILTO:info@circuit-carole.com
END:VEVENT
BEGIN:VEVENT
DTSTART;TZID=Europe/Paris:20260120T090000
DTEND;TZID=Europe/Paris:20260120T120000
DTSTAMP:20260421T211955
CREATED:20251107T094205Z
LAST-MODIFIED:20260108T094207Z
UID:10003195-1768899600-1768910400@www.circuit-carole.com
SUMMARY:Circuit fermé
DESCRIPTION:
URL:https://www.circuit-carole.com/calendrier/circuit-ferme-39/2026-01-20/
CATEGORIES:Fermeture
ORGANIZER;CN="Association de Gestion du Circuit Carole":MAILTO:info@circuit-carole.com
END:VEVENT
BEGIN:VEVENT
DTSTART;TZID=Europe/Paris:20260120T140000
DTEND;TZID=Europe/Paris:20260120T170000
DTSTAMP:20260421T211955
CREATED:20251107T094427Z
LAST-MODIFIED:20251107T094427Z
UID:10003201-1768917600-1768928400@www.circuit-carole.com
SUMMARY:Circuit fermé
DESCRIPTION:
URL:https://www.circuit-carole.com/calendrier/circuit-ferme-42/2026-01-20/
CATEGORIES:Fermeture
ORGANIZER;CN="Association de Gestion du Circuit Carole":MAILTO:info@circuit-carole.com
END:VEVENT
BEGIN:VEVENT
DTSTART;TZID=Europe/Paris:20260121T090000
DTEND;TZID=Europe/Paris:20260121T120000
DTSTAMP:20260421T211955
CREATED:20251107T094205Z
LAST-MODIFIED:20260108T094207Z
UID:10003196-1768986000-1768996800@www.circuit-carole.com
SUMMARY:Circuit fermé
DESCRIPTION:
URL:https://www.circuit-carole.com/calendrier/circuit-ferme-39/2026-01-21/
CATEGORIES:Fermeture
ORGANIZER;CN="Association de Gestion du Circuit Carole":MAILTO:info@circuit-carole.com
END:VEVENT
BEGIN:VEVENT
DTSTART;TZID=Europe/Paris:20260121T140000
DTEND;TZID=Europe/Paris:20260121T170000
DTSTAMP:20260421T211955
CREATED:20251107T094427Z
LAST-MODIFIED:20251107T094427Z
UID:10003202-1769004000-1769014800@www.circuit-carole.com
SUMMARY:Circuit fermé
DESCRIPTION:
URL:https://www.circuit-carole.com/calendrier/circuit-ferme-42/2026-01-21/
CATEGORIES:Fermeture
ORGANIZER;CN="Association de Gestion du Circuit Carole":MAILTO:info@circuit-carole.com
END:VEVENT
BEGIN:VEVENT
DTSTART;TZID=Europe/Paris:20260122T090000
DTEND;TZID=Europe/Paris:20260122T120000
DTSTAMP:20260421T211955
CREATED:20251107T094205Z
LAST-MODIFIED:20260108T094207Z
UID:10003197-1769072400-1769083200@www.circuit-carole.com
SUMMARY:Circuit fermé
DESCRIPTION:
URL:https://www.circuit-carole.com/calendrier/circuit-ferme-39/2026-01-22/
CATEGORIES:Fermeture
ORGANIZER;CN="Association de Gestion du Circuit Carole":MAILTO:info@circuit-carole.com
END:VEVENT
BEGIN:VEVENT
DTSTART;TZID=Europe/Paris:20260122T140000
DTEND;TZID=Europe/Paris:20260122T170000
DTSTAMP:20260421T211955
CREATED:20251107T094427Z
LAST-MODIFIED:20251107T094427Z
UID:10003203-1769090400-1769101200@www.circuit-carole.com
SUMMARY:Circuit fermé
DESCRIPTION:
URL:https://www.circuit-carole.com/calendrier/circuit-ferme-42/2026-01-22/
CATEGORIES:Fermeture
ORGANIZER;CN="Association de Gestion du Circuit Carole":MAILTO:info@circuit-carole.com
END:VEVENT
BEGIN:VEVENT
DTSTART;TZID=Europe/Paris:20260123T090000
DTEND;TZID=Europe/Paris:20260123T120000
DTSTAMP:20260421T211955
CREATED:20251107T094205Z
LAST-MODIFIED:20260108T094207Z
UID:10003198-1769158800-1769169600@www.circuit-carole.com
SUMMARY:Circuit fermé
DESCRIPTION:
URL:https://www.circuit-carole.com/calendrier/circuit-ferme-39/2026-01-23/
CATEGORIES:Fermeture
ORGANIZER;CN="Association de Gestion du Circuit Carole":MAILTO:info@circuit-carole.com
END:VEVENT
BEGIN:VEVENT
DTSTART;TZID=Europe/Paris:20260123T140000
DTEND;TZID=Europe/Paris:20260123T170000
DTSTAMP:20260421T211955
CREATED:20251107T094610Z
LAST-MODIFIED:20251107T094610Z
UID:10003204-1769176800-1769187600@www.circuit-carole.com
SUMMARY:Week-end gratuit
DESCRIPTION:Ouvert gratuitement aux motos. \nPlus d’infos : https://www.circuit-carole.com/activites/week-ends-gratuits/
URL:https://www.circuit-carole.com/calendrier/week-end-gratuit-8/2026-01-23/
CATEGORIES:Weekend gratuit
ORGANIZER;CN="Association de Gestion du Circuit Carole":MAILTO:info@circuit-carole.com
END:VEVENT
BEGIN:VEVENT
DTSTART;TZID=Europe/Paris:20260124T090000
DTEND;TZID=Europe/Paris:20260124T120000
DTSTAMP:20260421T211955
CREATED:20260108T094033Z
LAST-MODIFIED:20260108T094033Z
UID:10003668-1769245200-1769256000@www.circuit-carole.com
SUMMARY:Roulage S.O.S. Rodéo
DESCRIPTION:
URL:https://www.circuit-carole.com/calendrier/roulage-s-o-s-rodeo-4/2026-01-24/
CATEGORIES:Acrobatie
ORGANIZER;CN="S.O.S. Rod%C3%A9o":MAILTO:sosrodeo@yahoo.com
END:VEVENT
BEGIN:VEVENT
DTSTART;TZID=Europe/Paris:20260124T140000
DTEND;TZID=Europe/Paris:20260124T170000
DTSTAMP:20260421T211955
CREATED:20251107T094610Z
LAST-MODIFIED:20251107T094610Z
UID:10003205-1769263200-1769274000@www.circuit-carole.com
SUMMARY:Week-end gratuit
DESCRIPTION:Ouvert gratuitement aux motos. \nPlus d’infos : https://www.circuit-carole.com/activites/week-ends-gratuits/
URL:https://www.circuit-carole.com/calendrier/week-end-gratuit-8/2026-01-24/
CATEGORIES:Weekend gratuit
ORGANIZER;CN="Association de Gestion du Circuit Carole":MAILTO:info@circuit-carole.com
END:VEVENT
BEGIN:VEVENT
DTSTART;TZID=Europe/Paris:20260125T090000
DTEND;TZID=Europe/Paris:20260125T120000
DTSTAMP:20260421T211955
CREATED:20251107T094845Z
LAST-MODIFIED:20251107T094845Z
UID:10003207-1769331600-1769342400@www.circuit-carole.com
SUMMARY:Jeunes - 25 cv (Sinueux)
DESCRIPTION:Jeunes – 25 cv : \nRéservé aux motos de moins de 25 cv. \n– Accès gratuit à la piste (hors coût de la licence ou du Pass Circuit ) :\nS’inscrire auprès du circuit Carole : info@circuit-carole.com \n– Accès avec location de moto\, équipement et / ou conseils d’un éducateur pour les jeunes :\nS’inscrire auprès de la Ligue Ile de France : danydieudonne@wanadoo.fr ou 06 31 14 78 10. \n\nPlus d’infos : https://www.circuit-carole.com/activites/week-ends-gratuits/
URL:https://www.circuit-carole.com/calendrier/jeunes-25-cv-sinueux-4/2026-01-25/
CATEGORIES:Jeunes <25CV
ORGANIZER;CN="Association de Gestion du Circuit Carole":MAILTO:info@circuit-carole.com
END:VEVENT
BEGIN:VEVENT
DTSTART;TZID=Europe/Paris:20260125T140000
DTEND;TZID=Europe/Paris:20260125T170000
DTSTAMP:20260421T211955
CREATED:20251107T094610Z
LAST-MODIFIED:20251107T094610Z
UID:10003206-1769349600-1769360400@www.circuit-carole.com
SUMMARY:Week-end gratuit
DESCRIPTION:Ouvert gratuitement aux motos. \nPlus d’infos : https://www.circuit-carole.com/activites/week-ends-gratuits/
URL:https://www.circuit-carole.com/calendrier/week-end-gratuit-8/2026-01-25/
CATEGORIES:Weekend gratuit
ORGANIZER;CN="Association de Gestion du Circuit Carole":MAILTO:info@circuit-carole.com
END:VEVENT
END:VCALENDAR