BEGIN:VCALENDAR
VERSION:2.0
PRODID:-//Circuit Carole - ECPv6.15.18//NONSGML v1.0//EN
CALSCALE:GREGORIAN
METHOD:PUBLISH
X-WR-CALNAME:Circuit Carole
X-ORIGINAL-URL:https://www.circuit-carole.com
X-WR-CALDESC:Évènements pour Circuit Carole
REFRESH-INTERVAL;VALUE=DURATION:PT1H
X-Robots-Tag:noindex
X-PUBLISHED-TTL:PT1H
BEGIN:VTIMEZONE
TZID:Europe/Paris
BEGIN:DAYLIGHT
TZOFFSETFROM:+0100
TZOFFSETTO:+0200
TZNAME:CEST
DTSTART:20250330T010000
END:DAYLIGHT
BEGIN:STANDARD
TZOFFSETFROM:+0200
TZOFFSETTO:+0100
TZNAME:CET
DTSTART:20251026T010000
END:STANDARD
BEGIN:DAYLIGHT
TZOFFSETFROM:+0100
TZOFFSETTO:+0200
TZNAME:CEST
DTSTART:20260329T010000
END:DAYLIGHT
BEGIN:STANDARD
TZOFFSETFROM:+0200
TZOFFSETTO:+0100
TZNAME:CET
DTSTART:20261025T010000
END:STANDARD
BEGIN:DAYLIGHT
TZOFFSETFROM:+0100
TZOFFSETTO:+0200
TZNAME:CEST
DTSTART:20270328T010000
END:DAYLIGHT
BEGIN:STANDARD
TZOFFSETFROM:+0200
TZOFFSETTO:+0100
TZNAME:CET
DTSTART:20271031T010000
END:STANDARD
END:VTIMEZONE
BEGIN:VEVENT
DTSTART;TZID=Europe/Paris:20260112T090000
DTEND;TZID=Europe/Paris:20260112T120000
DTSTAMP:20260421T214144
CREATED:20251107T093536Z
LAST-MODIFIED:20260108T093820Z
UID:10003181-1768208400-1768219200@www.circuit-carole.com
SUMMARY:Circuit fermé
DESCRIPTION:
URL:https://www.circuit-carole.com/calendrier/circuit-ferme-37/2026-01-12/
CATEGORIES:Fermeture
ORGANIZER;CN="Association de Gestion du Circuit Carole":MAILTO:info@circuit-carole.com
END:VEVENT
BEGIN:VEVENT
DTSTART;TZID=Europe/Paris:20260112T140000
DTEND;TZID=Europe/Paris:20260112T170000
DTSTAMP:20260421T214144
CREATED:20251107T093726Z
LAST-MODIFIED:20251107T093726Z
UID:10003187-1768226400-1768237200@www.circuit-carole.com
SUMMARY:Circuit fermé
DESCRIPTION:
URL:https://www.circuit-carole.com/calendrier/circuit-ferme-38/2026-01-12/
CATEGORIES:Fermeture
ORGANIZER;CN="Association de Gestion du Circuit Carole":MAILTO:info@circuit-carole.com
END:VEVENT
BEGIN:VEVENT
DTSTART;TZID=Europe/Paris:20260113T090000
DTEND;TZID=Europe/Paris:20260113T120000
DTSTAMP:20260421T214144
CREATED:20251107T093536Z
LAST-MODIFIED:20260108T093820Z
UID:10003182-1768294800-1768305600@www.circuit-carole.com
SUMMARY:Circuit fermé
DESCRIPTION:
URL:https://www.circuit-carole.com/calendrier/circuit-ferme-37/2026-01-13/
CATEGORIES:Fermeture
ORGANIZER;CN="Association de Gestion du Circuit Carole":MAILTO:info@circuit-carole.com
END:VEVENT
BEGIN:VEVENT
DTSTART;TZID=Europe/Paris:20260113T140000
DTEND;TZID=Europe/Paris:20260113T170000
DTSTAMP:20260421T214144
CREATED:20251107T093726Z
LAST-MODIFIED:20251107T093726Z
UID:10003188-1768312800-1768323600@www.circuit-carole.com
SUMMARY:Circuit fermé
DESCRIPTION:
URL:https://www.circuit-carole.com/calendrier/circuit-ferme-38/2026-01-13/
CATEGORIES:Fermeture
ORGANIZER;CN="Association de Gestion du Circuit Carole":MAILTO:info@circuit-carole.com
END:VEVENT
BEGIN:VEVENT
DTSTART;TZID=Europe/Paris:20260114T090000
DTEND;TZID=Europe/Paris:20260114T120000
DTSTAMP:20260421T214144
CREATED:20251107T093536Z
LAST-MODIFIED:20260108T093820Z
UID:10003183-1768381200-1768392000@www.circuit-carole.com
SUMMARY:Circuit fermé
DESCRIPTION:
URL:https://www.circuit-carole.com/calendrier/circuit-ferme-37/2026-01-14/
CATEGORIES:Fermeture
ORGANIZER;CN="Association de Gestion du Circuit Carole":MAILTO:info@circuit-carole.com
END:VEVENT
BEGIN:VEVENT
DTSTART;TZID=Europe/Paris:20260114T140000
DTEND;TZID=Europe/Paris:20260114T170000
DTSTAMP:20260421T214145
CREATED:20251107T093726Z
LAST-MODIFIED:20251107T093726Z
UID:10003189-1768399200-1768410000@www.circuit-carole.com
SUMMARY:Circuit fermé
DESCRIPTION:
URL:https://www.circuit-carole.com/calendrier/circuit-ferme-38/2026-01-14/
CATEGORIES:Fermeture
ORGANIZER;CN="Association de Gestion du Circuit Carole":MAILTO:info@circuit-carole.com
END:VEVENT
BEGIN:VEVENT
DTSTART;TZID=Europe/Paris:20260115T090000
DTEND;TZID=Europe/Paris:20260115T120000
DTSTAMP:20260421T214145
CREATED:20251107T093536Z
LAST-MODIFIED:20260108T093820Z
UID:10003184-1768467600-1768478400@www.circuit-carole.com
SUMMARY:Circuit fermé
DESCRIPTION:
URL:https://www.circuit-carole.com/calendrier/circuit-ferme-37/2026-01-15/
CATEGORIES:Fermeture
ORGANIZER;CN="Association de Gestion du Circuit Carole":MAILTO:info@circuit-carole.com
END:VEVENT
BEGIN:VEVENT
DTSTART;TZID=Europe/Paris:20260115T140000
DTEND;TZID=Europe/Paris:20260115T170000
DTSTAMP:20260421T214145
CREATED:20251107T093726Z
LAST-MODIFIED:20251107T093726Z
UID:10003190-1768485600-1768496400@www.circuit-carole.com
SUMMARY:Circuit fermé
DESCRIPTION:
URL:https://www.circuit-carole.com/calendrier/circuit-ferme-38/2026-01-15/
CATEGORIES:Fermeture
ORGANIZER;CN="Association de Gestion du Circuit Carole":MAILTO:info@circuit-carole.com
END:VEVENT
BEGIN:VEVENT
DTSTART;TZID=Europe/Paris:20260116T090000
DTEND;TZID=Europe/Paris:20260116T120000
DTSTAMP:20260421T214145
CREATED:20251107T093536Z
LAST-MODIFIED:20260108T093820Z
UID:10003185-1768554000-1768564800@www.circuit-carole.com
SUMMARY:Circuit fermé
DESCRIPTION:
URL:https://www.circuit-carole.com/calendrier/circuit-ferme-37/2026-01-16/
CATEGORIES:Fermeture
ORGANIZER;CN="Association de Gestion du Circuit Carole":MAILTO:info@circuit-carole.com
END:VEVENT
BEGIN:VEVENT
DTSTART;TZID=Europe/Paris:20260116T140000
DTEND;TZID=Europe/Paris:20260116T170000
DTSTAMP:20260421T214145
CREATED:20251107T093840Z
LAST-MODIFIED:20251107T093840Z
UID:10003191-1768572000-1768582800@www.circuit-carole.com
SUMMARY:Week-end gratuit
DESCRIPTION:Ouvert gratuitement aux motos. \nPlus d’infos : https://www.circuit-carole.com/activites/week-ends-gratuits/
URL:https://www.circuit-carole.com/calendrier/week-end-gratuit-7/2026-01-16/
CATEGORIES:Weekend gratuit
ORGANIZER;CN="Association de Gestion du Circuit Carole":MAILTO:info@circuit-carole.com
END:VEVENT
BEGIN:VEVENT
DTSTART;TZID=Europe/Paris:20260117T090000
DTEND;TZID=Europe/Paris:20260117T120000
DTSTAMP:20260421T214145
CREATED:20260108T094033Z
LAST-MODIFIED:20260108T094033Z
UID:10003667-1768640400-1768651200@www.circuit-carole.com
SUMMARY:Roulage S.O.S. Rodéo
DESCRIPTION:
URL:https://www.circuit-carole.com/calendrier/roulage-s-o-s-rodeo-4/2026-01-17/
CATEGORIES:Acrobatie
ORGANIZER;CN="S.O.S. Rod%C3%A9o":MAILTO:sosrodeo@yahoo.com
END:VEVENT
BEGIN:VEVENT
DTSTART;TZID=Europe/Paris:20260117T140000
DTEND;TZID=Europe/Paris:20260117T170000
DTSTAMP:20260421T214145
CREATED:20251107T093840Z
LAST-MODIFIED:20251107T093840Z
UID:10003192-1768658400-1768669200@www.circuit-carole.com
SUMMARY:Week-end gratuit
DESCRIPTION:Ouvert gratuitement aux motos. \nPlus d’infos : https://www.circuit-carole.com/activites/week-ends-gratuits/
URL:https://www.circuit-carole.com/calendrier/week-end-gratuit-7/2026-01-17/
CATEGORIES:Weekend gratuit
ORGANIZER;CN="Association de Gestion du Circuit Carole":MAILTO:info@circuit-carole.com
END:VEVENT
BEGIN:VEVENT
DTSTART;TZID=Europe/Paris:20260118T090000
DTEND;TZID=Europe/Paris:20260118T120000
DTSTAMP:20260421T214145
CREATED:20251204T132242Z
LAST-MODIFIED:20251204T132242Z
UID:10003485-1768726800-1768737600@www.circuit-carole.com
SUMMARY:Side-cars / Kartings
DESCRIPTION:Ouvert gratuitement pour les side-cars. \nForfait 3h00 à 80 € pour les kartings. \nPlus d’infos Kartings : https://www.circuit-carole.com/activites/karting/
URL:https://www.circuit-carole.com/calendrier/side-cars-kartings-6/2026-01-18/
CATEGORIES:Karting/Side-car
ORGANIZER;CN="Association de Gestion du Circuit Carole":MAILTO:info@circuit-carole.com
END:VEVENT
BEGIN:VEVENT
DTSTART;TZID=Europe/Paris:20260118T140000
DTEND;TZID=Europe/Paris:20260118T170000
DTSTAMP:20260421T214145
CREATED:20251107T093840Z
LAST-MODIFIED:20251107T093840Z
UID:10003193-1768744800-1768755600@www.circuit-carole.com
SUMMARY:Week-end gratuit
DESCRIPTION:Ouvert gratuitement aux motos. \nPlus d’infos : https://www.circuit-carole.com/activites/week-ends-gratuits/
URL:https://www.circuit-carole.com/calendrier/week-end-gratuit-7/2026-01-18/
CATEGORIES:Weekend gratuit
ORGANIZER;CN="Association de Gestion du Circuit Carole":MAILTO:info@circuit-carole.com
END:VEVENT
END:VCALENDAR