BEGIN:VCALENDAR
VERSION:2.0
PRODID:-//Circuit Carole - ECPv6.15.18//NONSGML v1.0//EN
CALSCALE:GREGORIAN
METHOD:PUBLISH
X-WR-CALNAME:Circuit Carole
X-ORIGINAL-URL:https://www.circuit-carole.com
X-WR-CALDESC:Évènements pour Circuit Carole
REFRESH-INTERVAL;VALUE=DURATION:PT1H
X-Robots-Tag:noindex
X-PUBLISHED-TTL:PT1H
BEGIN:VTIMEZONE
TZID:Europe/Paris
BEGIN:DAYLIGHT
TZOFFSETFROM:+0100
TZOFFSETTO:+0200
TZNAME:CEST
DTSTART:20250330T010000
END:DAYLIGHT
BEGIN:STANDARD
TZOFFSETFROM:+0200
TZOFFSETTO:+0100
TZNAME:CET
DTSTART:20251026T010000
END:STANDARD
BEGIN:DAYLIGHT
TZOFFSETFROM:+0100
TZOFFSETTO:+0200
TZNAME:CEST
DTSTART:20260329T010000
END:DAYLIGHT
BEGIN:STANDARD
TZOFFSETFROM:+0200
TZOFFSETTO:+0100
TZNAME:CET
DTSTART:20261025T010000
END:STANDARD
BEGIN:DAYLIGHT
TZOFFSETFROM:+0100
TZOFFSETTO:+0200
TZNAME:CEST
DTSTART:20270328T010000
END:DAYLIGHT
BEGIN:STANDARD
TZOFFSETFROM:+0200
TZOFFSETTO:+0100
TZNAME:CET
DTSTART:20271031T010000
END:STANDARD
END:VTIMEZONE
BEGIN:VEVENT
DTSTART;TZID=Europe/Paris:20260201T090000
DTEND;TZID=Europe/Paris:20260201T120000
DTSTAMP:20260421T171348
CREATED:20251204T132242Z
LAST-MODIFIED:20251204T132242Z
UID:10003486-1769936400-1769947200@www.circuit-carole.com
SUMMARY:Side-cars / Kartings
DESCRIPTION:Ouvert gratuitement pour les side-cars. \nForfait 3h00 à 80 € pour les kartings. \nPlus d’infos Kartings : https://www.circuit-carole.com/activites/karting/
URL:https://www.circuit-carole.com/calendrier/side-cars-kartings-6/2026-02-01/
CATEGORIES:Karting/Side-car
ORGANIZER;CN="Association de Gestion du Circuit Carole":MAILTO:info@circuit-carole.com
END:VEVENT
BEGIN:VEVENT
DTSTART;TZID=Europe/Paris:20260201T140000
DTEND;TZID=Europe/Paris:20260201T170000
DTSTAMP:20260421T171348
CREATED:20251107T101229Z
LAST-MODIFIED:20251107T101229Z
UID:10003217-1769954400-1769965200@www.circuit-carole.com
SUMMARY:Week-end gratuit
DESCRIPTION:Ouvert gratuitement aux motos. \nPlus d’infos : https://www.circuit-carole.com/activites/week-ends-gratuits/
URL:https://www.circuit-carole.com/calendrier/week-end-gratuit-9/2026-02-01/
CATEGORIES:Weekend gratuit
ORGANIZER;CN="Association de Gestion du Circuit Carole":MAILTO:info@circuit-carole.com
END:VEVENT
BEGIN:VEVENT
DTSTART;TZID=Europe/Paris:20260202T090000
DTEND;TZID=Europe/Paris:20260202T120000
DTSTAMP:20260421T171348
CREATED:20251110T142228Z
LAST-MODIFIED:20260108T094524Z
UID:10003240-1770022800-1770033600@www.circuit-carole.com
SUMMARY:Circuit fermé
DESCRIPTION:
URL:https://www.circuit-carole.com/calendrier/circuit-ferme-44/2026-02-02/
CATEGORIES:Fermeture
ORGANIZER;CN="Association de Gestion du Circuit Carole":MAILTO:info@circuit-carole.com
END:VEVENT
BEGIN:VEVENT
DTSTART;TZID=Europe/Paris:20260202T140000
DTEND;TZID=Europe/Paris:20260202T170000
DTSTAMP:20260421T171348
CREATED:20251110T142402Z
LAST-MODIFIED:20251110T142402Z
UID:10003246-1770040800-1770051600@www.circuit-carole.com
SUMMARY:Accès moto payant
DESCRIPTION:Plus d’infos : https://www.circuit-carole.com/activites/grand-circuit/ \nFormule “Sensation” de 3 h (14h00 à 17h00) : https://www.circuit-carole.com/formules/formule-sensation/
URL:https://www.circuit-carole.com/calendrier/acces-moto-payant-12/2026-02-02/
CATEGORIES:Accès moto payant
ORGANIZER;CN="Association de Gestion du Circuit Carole":MAILTO:info@circuit-carole.com
END:VEVENT
BEGIN:VEVENT
DTSTART;TZID=Europe/Paris:20260203T090000
DTEND;TZID=Europe/Paris:20260203T120000
DTSTAMP:20260421T171348
CREATED:20251110T142228Z
LAST-MODIFIED:20260108T094524Z
UID:10003241-1770109200-1770120000@www.circuit-carole.com
SUMMARY:Circuit fermé
DESCRIPTION:
URL:https://www.circuit-carole.com/calendrier/circuit-ferme-44/2026-02-03/
CATEGORIES:Fermeture
ORGANIZER;CN="Association de Gestion du Circuit Carole":MAILTO:info@circuit-carole.com
END:VEVENT
BEGIN:VEVENT
DTSTART;TZID=Europe/Paris:20260203T140000
DTEND;TZID=Europe/Paris:20260203T170000
DTSTAMP:20260421T171348
CREATED:20251110T142402Z
LAST-MODIFIED:20251110T142402Z
UID:10003247-1770127200-1770138000@www.circuit-carole.com
SUMMARY:Accès moto payant
DESCRIPTION:Plus d’infos : https://www.circuit-carole.com/activites/grand-circuit/ \nFormule “Sensation” de 3 h (14h00 à 17h00) : https://www.circuit-carole.com/formules/formule-sensation/
URL:https://www.circuit-carole.com/calendrier/acces-moto-payant-12/2026-02-03/
CATEGORIES:Accès moto payant
ORGANIZER;CN="Association de Gestion du Circuit Carole":MAILTO:info@circuit-carole.com
END:VEVENT
BEGIN:VEVENT
DTSTART;TZID=Europe/Paris:20260204T090000
DTEND;TZID=Europe/Paris:20260204T120000
DTSTAMP:20260421T171348
CREATED:20251110T142228Z
LAST-MODIFIED:20260108T094524Z
UID:10003242-1770195600-1770206400@www.circuit-carole.com
SUMMARY:Circuit fermé
DESCRIPTION:
URL:https://www.circuit-carole.com/calendrier/circuit-ferme-44/2026-02-04/
CATEGORIES:Fermeture
ORGANIZER;CN="Association de Gestion du Circuit Carole":MAILTO:info@circuit-carole.com
END:VEVENT
BEGIN:VEVENT
DTSTART;TZID=Europe/Paris:20260204T140000
DTEND;TZID=Europe/Paris:20260204T170000
DTSTAMP:20260421T171348
CREATED:20251110T142402Z
LAST-MODIFIED:20251110T142402Z
UID:10003248-1770213600-1770224400@www.circuit-carole.com
SUMMARY:Accès moto payant
DESCRIPTION:Plus d’infos : https://www.circuit-carole.com/activites/grand-circuit/ \nFormule “Sensation” de 3 h (14h00 à 17h00) : https://www.circuit-carole.com/formules/formule-sensation/
URL:https://www.circuit-carole.com/calendrier/acces-moto-payant-12/2026-02-04/
CATEGORIES:Accès moto payant
ORGANIZER;CN="Association de Gestion du Circuit Carole":MAILTO:info@circuit-carole.com
END:VEVENT
BEGIN:VEVENT
DTSTART;TZID=Europe/Paris:20260205T090000
DTEND;TZID=Europe/Paris:20260205T120000
DTSTAMP:20260421T171348
CREATED:20251110T142228Z
LAST-MODIFIED:20260108T094524Z
UID:10003243-1770282000-1770292800@www.circuit-carole.com
SUMMARY:Circuit fermé
DESCRIPTION:
URL:https://www.circuit-carole.com/calendrier/circuit-ferme-44/2026-02-05/
CATEGORIES:Fermeture
ORGANIZER;CN="Association de Gestion du Circuit Carole":MAILTO:info@circuit-carole.com
END:VEVENT
BEGIN:VEVENT
DTSTART;TZID=Europe/Paris:20260205T140000
DTEND;TZID=Europe/Paris:20260205T170000
DTSTAMP:20260421T171348
CREATED:20251110T142402Z
LAST-MODIFIED:20251110T142402Z
UID:10003249-1770300000-1770310800@www.circuit-carole.com
SUMMARY:Accès moto payant
DESCRIPTION:Plus d’infos : https://www.circuit-carole.com/activites/grand-circuit/ \nFormule “Sensation” de 3 h (14h00 à 17h00) : https://www.circuit-carole.com/formules/formule-sensation/
URL:https://www.circuit-carole.com/calendrier/acces-moto-payant-12/2026-02-05/
CATEGORIES:Accès moto payant
ORGANIZER;CN="Association de Gestion du Circuit Carole":MAILTO:info@circuit-carole.com
END:VEVENT
BEGIN:VEVENT
DTSTART;TZID=Europe/Paris:20260206T090000
DTEND;TZID=Europe/Paris:20260206T120000
DTSTAMP:20260421T171348
CREATED:20251110T142228Z
LAST-MODIFIED:20260108T094524Z
UID:10003244-1770368400-1770379200@www.circuit-carole.com
SUMMARY:Circuit fermé
DESCRIPTION:
URL:https://www.circuit-carole.com/calendrier/circuit-ferme-44/2026-02-06/
CATEGORIES:Fermeture
ORGANIZER;CN="Association de Gestion du Circuit Carole":MAILTO:info@circuit-carole.com
END:VEVENT
BEGIN:VEVENT
DTSTART;TZID=Europe/Paris:20260206T140000
DTEND;TZID=Europe/Paris:20260206T170000
DTSTAMP:20260421T171348
CREATED:20251107T101353Z
LAST-MODIFIED:20251107T101353Z
UID:10003218-1770386400-1770397200@www.circuit-carole.com
SUMMARY:Week-end gratuit
DESCRIPTION:Ouvert gratuitement aux motos. \nPlus d’infos : https://www.circuit-carole.com/activites/week-ends-gratuits/
URL:https://www.circuit-carole.com/calendrier/week-end-gratuit-10/2026-02-06/
CATEGORIES:Weekend gratuit
ORGANIZER;CN="Association de Gestion du Circuit Carole":MAILTO:info@circuit-carole.com
END:VEVENT
BEGIN:VEVENT
DTSTART;TZID=Europe/Paris:20260207T090000
DTEND;TZID=Europe/Paris:20260207T120000
DTSTAMP:20260421T171348
CREATED:20260108T094442Z
LAST-MODIFIED:20260108T094442Z
UID:10003670-1770454800-1770465600@www.circuit-carole.com
SUMMARY:Roulage S.O.S. Rodéo
DESCRIPTION:
URL:https://www.circuit-carole.com/calendrier/roulage-s-o-s-rodeo-5/2026-02-07/
CATEGORIES:Acrobatie
ORGANIZER;CN="S.O.S. Rod%C3%A9o":MAILTO:sosrodeo@yahoo.com
END:VEVENT
BEGIN:VEVENT
DTSTART;TZID=Europe/Paris:20260207T140000
DTEND;TZID=Europe/Paris:20260207T170000
DTSTAMP:20260421T171348
CREATED:20251107T101353Z
LAST-MODIFIED:20251107T101353Z
UID:10003219-1770472800-1770483600@www.circuit-carole.com
SUMMARY:Week-end gratuit
DESCRIPTION:Ouvert gratuitement aux motos. \nPlus d’infos : https://www.circuit-carole.com/activites/week-ends-gratuits/
URL:https://www.circuit-carole.com/calendrier/week-end-gratuit-10/2026-02-07/
CATEGORIES:Weekend gratuit
ORGANIZER;CN="Association de Gestion du Circuit Carole":MAILTO:info@circuit-carole.com
END:VEVENT
BEGIN:VEVENT
DTSTART;TZID=Europe/Paris:20260208T090000
DTEND;TZID=Europe/Paris:20260208T120000
DTSTAMP:20260421T171348
CREATED:20251106T134056Z
LAST-MODIFIED:20251106T134056Z
UID:10003180-1770541200-1770552000@www.circuit-carole.com
SUMMARY:Jeunes - 25 cv
DESCRIPTION:Jeunes – 25 cv : \nRéservé aux motos de moins de 25 cv. \n– Accès gratuit à la piste (hors coût de la licence ou du Pass Circuit ) :\nS’inscrire auprès du circuit Carole : info@circuit-carole.com \n– Accès avec location de moto\, équipement et / ou conseils d’un éducateur pour les jeunes :\nS’inscrire auprès de la Ligue Ile de France : danydieudonne@wanadoo.fr ou 06 31 14 78 10. \n\nPlus d’infos : https://www.circuit-carole.com/activites/week-ends-gratuits/
URL:https://www.circuit-carole.com/calendrier/jeunes-25-cv-8/2026-02-08/
CATEGORIES:Jeunes <25CV
ORGANIZER;CN="Association de Gestion du Circuit Carole":MAILTO:info@circuit-carole.com
END:VEVENT
BEGIN:VEVENT
DTSTART;TZID=Europe/Paris:20260208T140000
DTEND;TZID=Europe/Paris:20260208T170000
DTSTAMP:20260421T171348
CREATED:20251107T101353Z
LAST-MODIFIED:20251107T101353Z
UID:10003220-1770559200-1770570000@www.circuit-carole.com
SUMMARY:Week-end gratuit
DESCRIPTION:Ouvert gratuitement aux motos. \nPlus d’infos : https://www.circuit-carole.com/activites/week-ends-gratuits/
URL:https://www.circuit-carole.com/calendrier/week-end-gratuit-10/2026-02-08/
CATEGORIES:Weekend gratuit
ORGANIZER;CN="Association de Gestion du Circuit Carole":MAILTO:info@circuit-carole.com
END:VEVENT
BEGIN:VEVENT
DTSTART;TZID=Europe/Paris:20260209T090000
DTEND;TZID=Europe/Paris:20260209T120000
DTSTAMP:20260421T171348
CREATED:20251110T142730Z
LAST-MODIFIED:20260108T094614Z
UID:10003250-1770627600-1770638400@www.circuit-carole.com
SUMMARY:Circuit fermé
DESCRIPTION:
URL:https://www.circuit-carole.com/calendrier/circuit-ferme-45/2026-02-09/
CATEGORIES:Fermeture
ORGANIZER;CN="Association de Gestion du Circuit Carole":MAILTO:info@circuit-carole.com
END:VEVENT
BEGIN:VEVENT
DTSTART;TZID=Europe/Paris:20260209T140000
DTEND;TZID=Europe/Paris:20260209T170000
DTSTAMP:20260421T171348
CREATED:20251110T142947Z
LAST-MODIFIED:20251110T142947Z
UID:10003255-1770645600-1770656400@www.circuit-carole.com
SUMMARY:Accès moto payant
DESCRIPTION:Plus d’infos : https://www.circuit-carole.com/activites/grand-circuit/ \nFormule “Sensation” de 3 h (14h00 à 17h00) : https://www.circuit-carole.com/formules/formule-sensation/
URL:https://www.circuit-carole.com/calendrier/acces-moto-payant-20/2026-02-09/
CATEGORIES:Accès moto payant
ORGANIZER;CN="Association de Gestion du Circuit Carole":MAILTO:info@circuit-carole.com
END:VEVENT
BEGIN:VEVENT
DTSTART;TZID=Europe/Paris:20260210T090000
DTEND;TZID=Europe/Paris:20260210T120000
DTSTAMP:20260421T171348
CREATED:20251110T142730Z
LAST-MODIFIED:20260108T094614Z
UID:10003251-1770714000-1770724800@www.circuit-carole.com
SUMMARY:Circuit fermé
DESCRIPTION:
URL:https://www.circuit-carole.com/calendrier/circuit-ferme-45/2026-02-10/
CATEGORIES:Fermeture
ORGANIZER;CN="Association de Gestion du Circuit Carole":MAILTO:info@circuit-carole.com
END:VEVENT
BEGIN:VEVENT
DTSTART;TZID=Europe/Paris:20260210T140000
DTEND;TZID=Europe/Paris:20260210T170000
DTSTAMP:20260421T171348
CREATED:20251110T142947Z
LAST-MODIFIED:20251110T142947Z
UID:10003256-1770732000-1770742800@www.circuit-carole.com
SUMMARY:Accès moto payant
DESCRIPTION:Plus d’infos : https://www.circuit-carole.com/activites/grand-circuit/ \nFormule “Sensation” de 3 h (14h00 à 17h00) : https://www.circuit-carole.com/formules/formule-sensation/
URL:https://www.circuit-carole.com/calendrier/acces-moto-payant-20/2026-02-10/
CATEGORIES:Accès moto payant
ORGANIZER;CN="Association de Gestion du Circuit Carole":MAILTO:info@circuit-carole.com
END:VEVENT
BEGIN:VEVENT
DTSTART;TZID=Europe/Paris:20260211T090000
DTEND;TZID=Europe/Paris:20260211T120000
DTSTAMP:20260421T171348
CREATED:20251212T133735Z
LAST-MODIFIED:20251212T133735Z
UID:10003503-1770800400-1770811200@www.circuit-carole.com
SUMMARY:Circuit fermé
DESCRIPTION:
URL:https://www.circuit-carole.com/calendrier/circuit-ferme-111/
CATEGORIES:Fermeture
ORGANIZER;CN="Association de Gestion du Circuit Carole":MAILTO:info@circuit-carole.com
END:VEVENT
BEGIN:VEVENT
DTSTART;TZID=Europe/Paris:20260211T140000
DTEND;TZID=Europe/Paris:20260211T170000
DTSTAMP:20260421T171348
CREATED:20251110T142947Z
LAST-MODIFIED:20251110T142947Z
UID:10003257-1770818400-1770829200@www.circuit-carole.com
SUMMARY:Accès moto payant
DESCRIPTION:Plus d’infos : https://www.circuit-carole.com/activites/grand-circuit/ \nFormule “Sensation” de 3 h (14h00 à 17h00) : https://www.circuit-carole.com/formules/formule-sensation/
URL:https://www.circuit-carole.com/calendrier/acces-moto-payant-20/2026-02-11/
CATEGORIES:Accès moto payant
ORGANIZER;CN="Association de Gestion du Circuit Carole":MAILTO:info@circuit-carole.com
END:VEVENT
BEGIN:VEVENT
DTSTART;TZID=Europe/Paris:20260212T090000
DTEND;TZID=Europe/Paris:20260212T120000
DTSTAMP:20260421T171348
CREATED:20251110T142730Z
LAST-MODIFIED:20260108T094614Z
UID:10003252-1770886800-1770897600@www.circuit-carole.com
SUMMARY:Circuit fermé
DESCRIPTION:
URL:https://www.circuit-carole.com/calendrier/circuit-ferme-45/2026-02-12/
CATEGORIES:Fermeture
ORGANIZER;CN="Association de Gestion du Circuit Carole":MAILTO:info@circuit-carole.com
END:VEVENT
BEGIN:VEVENT
DTSTART;TZID=Europe/Paris:20260212T140000
DTEND;TZID=Europe/Paris:20260212T170000
DTSTAMP:20260421T171348
CREATED:20251110T142947Z
LAST-MODIFIED:20251110T142947Z
UID:10003258-1770904800-1770915600@www.circuit-carole.com
SUMMARY:Accès moto payant
DESCRIPTION:Plus d’infos : https://www.circuit-carole.com/activites/grand-circuit/ \nFormule “Sensation” de 3 h (14h00 à 17h00) : https://www.circuit-carole.com/formules/formule-sensation/
URL:https://www.circuit-carole.com/calendrier/acces-moto-payant-20/2026-02-12/
CATEGORIES:Accès moto payant
ORGANIZER;CN="Association de Gestion du Circuit Carole":MAILTO:info@circuit-carole.com
END:VEVENT
BEGIN:VEVENT
DTSTART;TZID=Europe/Paris:20260213T090000
DTEND;TZID=Europe/Paris:20260213T120000
DTSTAMP:20260421T171348
CREATED:20251110T142730Z
LAST-MODIFIED:20260108T094614Z
UID:10003253-1770973200-1770984000@www.circuit-carole.com
SUMMARY:Circuit fermé
DESCRIPTION:
URL:https://www.circuit-carole.com/calendrier/circuit-ferme-45/2026-02-13/
CATEGORIES:Fermeture
ORGANIZER;CN="Association de Gestion du Circuit Carole":MAILTO:info@circuit-carole.com
END:VEVENT
BEGIN:VEVENT
DTSTART;TZID=Europe/Paris:20260213T140000
DTEND;TZID=Europe/Paris:20260213T170000
DTSTAMP:20260421T171348
CREATED:20251107T101519Z
LAST-MODIFIED:20251107T101519Z
UID:10003221-1770991200-1771002000@www.circuit-carole.com
SUMMARY:Week-end gratuit
DESCRIPTION:Ouvert gratuitement aux motos. \nPlus d’infos : https://www.circuit-carole.com/activites/week-ends-gratuits/
URL:https://www.circuit-carole.com/calendrier/week-end-gratuit-12/2026-02-13/
CATEGORIES:Weekend gratuit
ORGANIZER;CN="Association de Gestion du Circuit Carole":MAILTO:info@circuit-carole.com
END:VEVENT
BEGIN:VEVENT
DTSTART;TZID=Europe/Paris:20260214T090000
DTEND;TZID=Europe/Paris:20260214T120000
DTSTAMP:20260421T171348
CREATED:20260108T094442Z
LAST-MODIFIED:20260108T094442Z
UID:10003671-1771059600-1771070400@www.circuit-carole.com
SUMMARY:Roulage S.O.S. Rodéo
DESCRIPTION:
URL:https://www.circuit-carole.com/calendrier/roulage-s-o-s-rodeo-5/2026-02-14/
CATEGORIES:Acrobatie
ORGANIZER;CN="S.O.S. Rod%C3%A9o":MAILTO:sosrodeo@yahoo.com
END:VEVENT
BEGIN:VEVENT
DTSTART;TZID=Europe/Paris:20260214T140000
DTEND;TZID=Europe/Paris:20260214T170000
DTSTAMP:20260421T171348
CREATED:20251107T101519Z
LAST-MODIFIED:20251107T101519Z
UID:10003222-1771077600-1771088400@www.circuit-carole.com
SUMMARY:Week-end gratuit
DESCRIPTION:Ouvert gratuitement aux motos. \nPlus d’infos : https://www.circuit-carole.com/activites/week-ends-gratuits/
URL:https://www.circuit-carole.com/calendrier/week-end-gratuit-12/2026-02-14/
CATEGORIES:Weekend gratuit
ORGANIZER;CN="Association de Gestion du Circuit Carole":MAILTO:info@circuit-carole.com
END:VEVENT
BEGIN:VEVENT
DTSTART;TZID=Europe/Paris:20260215T090000
DTEND;TZID=Europe/Paris:20260215T120000
DTSTAMP:20260421T171348
CREATED:20251204T132242Z
LAST-MODIFIED:20251204T132242Z
UID:10003487-1771146000-1771156800@www.circuit-carole.com
SUMMARY:Side-cars / Kartings
DESCRIPTION:Ouvert gratuitement pour les side-cars. \nForfait 3h00 à 80 € pour les kartings. \nPlus d’infos Kartings : https://www.circuit-carole.com/activites/karting/
URL:https://www.circuit-carole.com/calendrier/side-cars-kartings-6/2026-02-15/
CATEGORIES:Karting/Side-car
ORGANIZER;CN="Association de Gestion du Circuit Carole":MAILTO:info@circuit-carole.com
END:VEVENT
BEGIN:VEVENT
DTSTART;TZID=Europe/Paris:20260215T140000
DTEND;TZID=Europe/Paris:20260215T170000
DTSTAMP:20260421T171348
CREATED:20251107T101519Z
LAST-MODIFIED:20251107T101519Z
UID:10003223-1771164000-1771174800@www.circuit-carole.com
SUMMARY:Week-end gratuit
DESCRIPTION:Ouvert gratuitement aux motos. \nPlus d’infos : https://www.circuit-carole.com/activites/week-ends-gratuits/
URL:https://www.circuit-carole.com/calendrier/week-end-gratuit-12/2026-02-15/
CATEGORIES:Weekend gratuit
ORGANIZER;CN="Association de Gestion du Circuit Carole":MAILTO:info@circuit-carole.com
END:VEVENT
END:VCALENDAR