BEGIN:VCALENDAR
VERSION:2.0
PRODID:-//Circuit Carole - ECPv6.15.18//NONSGML v1.0//EN
CALSCALE:GREGORIAN
METHOD:PUBLISH
X-ORIGINAL-URL:https://www.circuit-carole.com
X-WR-CALDESC:Évènements pour Circuit Carole
REFRESH-INTERVAL;VALUE=DURATION:PT1H
X-Robots-Tag:noindex
X-PUBLISHED-TTL:PT1H
BEGIN:VTIMEZONE
TZID:Europe/Paris
BEGIN:DAYLIGHT
TZOFFSETFROM:+0100
TZOFFSETTO:+0200
TZNAME:CEST
DTSTART:20250330T010000
END:DAYLIGHT
BEGIN:STANDARD
TZOFFSETFROM:+0200
TZOFFSETTO:+0100
TZNAME:CET
DTSTART:20251026T010000
END:STANDARD
BEGIN:DAYLIGHT
TZOFFSETFROM:+0100
TZOFFSETTO:+0200
TZNAME:CEST
DTSTART:20260329T010000
END:DAYLIGHT
BEGIN:STANDARD
TZOFFSETFROM:+0200
TZOFFSETTO:+0100
TZNAME:CET
DTSTART:20261025T010000
END:STANDARD
BEGIN:DAYLIGHT
TZOFFSETFROM:+0100
TZOFFSETTO:+0200
TZNAME:CEST
DTSTART:20270328T010000
END:DAYLIGHT
BEGIN:STANDARD
TZOFFSETFROM:+0200
TZOFFSETTO:+0100
TZNAME:CET
DTSTART:20271031T010000
END:STANDARD
END:VTIMEZONE
BEGIN:VEVENT
DTSTART;TZID=Europe/Paris:20260727T090000
DTEND;TZID=Europe/Paris:20260727T130000
DTSTAMP:20260420T084811
CREATED:20260216T103446Z
LAST-MODIFIED:20260216T103446Z
UID:10003763-1785142800-1785157200@www.circuit-carole.com
SUMMARY:Roulage privé
DESCRIPTION:
URL:https://www.circuit-carole.com/calendrier/roulage-prive-24/2026-07-27/1/
CATEGORIES:Location
END:VEVENT
BEGIN:VEVENT
DTSTART;TZID=Europe/Paris:20260727T140000
DTEND;TZID=Europe/Paris:20260727T180000
DTSTAMP:20260420T084811
CREATED:20260216T103446Z
LAST-MODIFIED:20260216T103446Z
UID:10003764-1785160800-1785175200@www.circuit-carole.com
SUMMARY:Roulage privé
DESCRIPTION:
URL:https://www.circuit-carole.com/calendrier/roulage-prive-24/2026-07-27/2/
CATEGORIES:Location
END:VEVENT
BEGIN:VEVENT
DTSTART;TZID=Europe/Paris:20260728T090000
DTEND;TZID=Europe/Paris:20260728T130000
DTSTAMP:20260420T084811
CREATED:20260216T103446Z
LAST-MODIFIED:20260216T103446Z
UID:10003765-1785229200-1785243600@www.circuit-carole.com
SUMMARY:Roulage privé
DESCRIPTION:
URL:https://www.circuit-carole.com/calendrier/roulage-prive-24/2026-07-28/1/
CATEGORIES:Location
END:VEVENT
BEGIN:VEVENT
DTSTART;TZID=Europe/Paris:20260728T140000
DTEND;TZID=Europe/Paris:20260728T180000
DTSTAMP:20260420T084811
CREATED:20260216T103446Z
LAST-MODIFIED:20260216T103446Z
UID:10003766-1785247200-1785261600@www.circuit-carole.com
SUMMARY:Roulage privé
DESCRIPTION:
URL:https://www.circuit-carole.com/calendrier/roulage-prive-24/2026-07-28/2/
CATEGORIES:Location
END:VEVENT
BEGIN:VEVENT
DTSTART;TZID=Europe/Paris:20260801T090000
DTEND;TZID=Europe/Paris:20260801T130000
DTSTAMP:20260420T084811
CREATED:20260122T091026Z
LAST-MODIFIED:20260122T091026Z
UID:10003722-1785574800-1785589200@www.circuit-carole.com
SUMMARY:Roulage Jim Show
DESCRIPTION:
URL:https://www.circuit-carole.com/calendrier/roulage-jim-show/2026-08-01/1/
CATEGORIES:Location
ORGANIZER;CN="Association Jim Show":MAILTO:bigjim76@hotmail.fr
END:VEVENT
BEGIN:VEVENT
DTSTART;TZID=Europe/Paris:20260801T140000
DTEND;TZID=Europe/Paris:20260801T180000
DTSTAMP:20260420T084811
CREATED:20260122T091026Z
LAST-MODIFIED:20260122T091026Z
UID:10003723-1785592800-1785607200@www.circuit-carole.com
SUMMARY:Roulage Jim Show
DESCRIPTION:
URL:https://www.circuit-carole.com/calendrier/roulage-jim-show/2026-08-01/2/
CATEGORIES:Location
ORGANIZER;CN="Association Jim Show":MAILTO:bigjim76@hotmail.fr
END:VEVENT
BEGIN:VEVENT
DTSTART;TZID=Europe/Paris:20260802T090000
DTEND;TZID=Europe/Paris:20260802T130000
DTSTAMP:20260420T084811
CREATED:20260122T091026Z
LAST-MODIFIED:20260122T091026Z
UID:10003724-1785661200-1785675600@www.circuit-carole.com
SUMMARY:Roulage Jim Show
DESCRIPTION:
URL:https://www.circuit-carole.com/calendrier/roulage-jim-show/2026-08-02/1/
CATEGORIES:Location
ORGANIZER;CN="Association Jim Show":MAILTO:bigjim76@hotmail.fr
END:VEVENT
BEGIN:VEVENT
DTSTART;TZID=Europe/Paris:20260802T140000
DTEND;TZID=Europe/Paris:20260802T180000
DTSTAMP:20260420T084811
CREATED:20260122T091026Z
LAST-MODIFIED:20260122T091026Z
UID:10003725-1785679200-1785693600@www.circuit-carole.com
SUMMARY:Roulage Jim Show
DESCRIPTION:
URL:https://www.circuit-carole.com/calendrier/roulage-jim-show/2026-08-02/2/
CATEGORIES:Location
ORGANIZER;CN="Association Jim Show":MAILTO:bigjim76@hotmail.fr
END:VEVENT
END:VCALENDAR