BEGIN:VCALENDAR
VERSION:2.0
PRODID:-//Circuit Carole - ECPv6.15.18//NONSGML v1.0//EN
CALSCALE:GREGORIAN
METHOD:PUBLISH
X-WR-CALNAME:Circuit Carole
X-ORIGINAL-URL:https://www.circuit-carole.com
X-WR-CALDESC:Évènements pour Circuit Carole
REFRESH-INTERVAL;VALUE=DURATION:PT1H
X-Robots-Tag:noindex
X-PUBLISHED-TTL:PT1H
BEGIN:VTIMEZONE
TZID:Europe/Paris
BEGIN:DAYLIGHT
TZOFFSETFROM:+0100
TZOFFSETTO:+0200
TZNAME:CEST
DTSTART:20250330T010000
END:DAYLIGHT
BEGIN:STANDARD
TZOFFSETFROM:+0200
TZOFFSETTO:+0100
TZNAME:CET
DTSTART:20251026T010000
END:STANDARD
BEGIN:DAYLIGHT
TZOFFSETFROM:+0100
TZOFFSETTO:+0200
TZNAME:CEST
DTSTART:20260329T010000
END:DAYLIGHT
BEGIN:STANDARD
TZOFFSETFROM:+0200
TZOFFSETTO:+0100
TZNAME:CET
DTSTART:20261025T010000
END:STANDARD
BEGIN:DAYLIGHT
TZOFFSETFROM:+0100
TZOFFSETTO:+0200
TZNAME:CEST
DTSTART:20270328T010000
END:DAYLIGHT
BEGIN:STANDARD
TZOFFSETFROM:+0200
TZOFFSETTO:+0100
TZNAME:CET
DTSTART:20271031T010000
END:STANDARD
END:VTIMEZONE
BEGIN:VEVENT
DTSTART;TZID=Europe/Paris:20260424T090000
DTEND;TZID=Europe/Paris:20260424T123000
DTSTAMP:20260420T000518
CREATED:20251204T122159Z
LAST-MODIFIED:20260218T150452Z
UID:10003471-1777021200-1777033800@www.circuit-carole.com
SUMMARY:Stage de pilotage
DESCRIPTION:Niveau : débutant ou pilote occasionnel sur la piste. \nÉducateur : Joey COLLET. \nLocations de motos R3\, R7 et d’équipements possibles. \nAttention\, places limitées ! \n\nPlus d’infos : https://www.circuit-carole.com/decouvrir-la-piste/
URL:https://www.circuit-carole.com/calendrier/stage-de-pilotage-9/2026-04-24/1/
CATEGORIES:Location
ORGANIZER;CN="Association de Gestion du Circuit Carole":MAILTO:info@circuit-carole.com
END:VEVENT
BEGIN:VEVENT
DTSTART;TZID=Europe/Paris:20260424T140000
DTEND;TZID=Europe/Paris:20260424T170000
DTSTAMP:20260420T000518
CREATED:20251204T122159Z
LAST-MODIFIED:20260218T150452Z
UID:10003472-1777039200-1777050000@www.circuit-carole.com
SUMMARY:Stage de pilotage
DESCRIPTION:Niveau : débutant ou pilote occasionnel sur la piste. \nÉducateur : Joey COLLET. \nLocations de motos R3\, R7 et d’équipements possibles. \nAttention\, places limitées ! \n\nPlus d’infos : https://www.circuit-carole.com/decouvrir-la-piste/
URL:https://www.circuit-carole.com/calendrier/stage-de-pilotage-9/2026-04-24/2/
CATEGORIES:Location
ORGANIZER;CN="Association de Gestion du Circuit Carole":MAILTO:info@circuit-carole.com
END:VEVENT
END:VCALENDAR