BEGIN:VCALENDAR
VERSION:2.0
PRODID:-//Circuit Carole - ECPv6.15.18//NONSGML v1.0//EN
CALSCALE:GREGORIAN
METHOD:PUBLISH
X-WR-CALNAME:Circuit Carole
X-ORIGINAL-URL:https://www.circuit-carole.com
X-WR-CALDESC:Évènements pour Circuit Carole
REFRESH-INTERVAL;VALUE=DURATION:PT1H
X-Robots-Tag:noindex
X-PUBLISHED-TTL:PT1H
BEGIN:VTIMEZONE
TZID:Europe/Paris
BEGIN:DAYLIGHT
TZOFFSETFROM:+0100
TZOFFSETTO:+0200
TZNAME:CEST
DTSTART:20250330T010000
END:DAYLIGHT
BEGIN:STANDARD
TZOFFSETFROM:+0200
TZOFFSETTO:+0100
TZNAME:CET
DTSTART:20251026T010000
END:STANDARD
BEGIN:DAYLIGHT
TZOFFSETFROM:+0100
TZOFFSETTO:+0200
TZNAME:CEST
DTSTART:20260329T010000
END:DAYLIGHT
BEGIN:STANDARD
TZOFFSETFROM:+0200
TZOFFSETTO:+0100
TZNAME:CET
DTSTART:20261025T010000
END:STANDARD
BEGIN:DAYLIGHT
TZOFFSETFROM:+0100
TZOFFSETTO:+0200
TZNAME:CEST
DTSTART:20270328T010000
END:DAYLIGHT
BEGIN:STANDARD
TZOFFSETFROM:+0200
TZOFFSETTO:+0100
TZNAME:CET
DTSTART:20271031T010000
END:STANDARD
END:VTIMEZONE
BEGIN:VEVENT
DTSTART;TZID=Europe/Paris:20260406T090000
DTEND;TZID=Europe/Paris:20260406T130000
DTSTAMP:20260419T180932
CREATED:20260108T134210Z
LAST-MODIFIED:20260108T134210Z
UID:10003681-1775466000-1775480400@www.circuit-carole.com
SUMMARY:Roulage LH Racing
DESCRIPTION:
URL:https://www.circuit-carole.com/calendrier/roulage-lh-racing/2026-04-06/1/
CATEGORIES:Location
ORGANIZER;CN="LH Racing":MAILTO:contact@teamlhracing.com
END:VEVENT
BEGIN:VEVENT
DTSTART;TZID=Europe/Paris:20260406T140000
DTEND;TZID=Europe/Paris:20260406T180000
DTSTAMP:20260419T180932
CREATED:20260108T134210Z
LAST-MODIFIED:20260108T134210Z
UID:10003682-1775484000-1775498400@www.circuit-carole.com
SUMMARY:Roulage LH Racing
DESCRIPTION:
URL:https://www.circuit-carole.com/calendrier/roulage-lh-racing/2026-04-06/2/
CATEGORIES:Location
ORGANIZER;CN="LH Racing":MAILTO:contact@teamlhracing.com
END:VEVENT
BEGIN:VEVENT
DTSTART;TZID=Europe/Paris:20260410T090000
DTEND;TZID=Europe/Paris:20260410T130000
DTSTAMP:20260419T180932
CREATED:20260210T142838Z
LAST-MODIFIED:20260210T142838Z
UID:10003761-1775811600-1775826000@www.circuit-carole.com
SUMMARY:Roulage privé
DESCRIPTION:
URL:https://www.circuit-carole.com/calendrier/roulage-prive-23/2026-04-10/1/
CATEGORIES:Location
END:VEVENT
BEGIN:VEVENT
DTSTART;TZID=Europe/Paris:20260410T140000
DTEND;TZID=Europe/Paris:20260410T180000
DTSTAMP:20260419T180932
CREATED:20260210T142838Z
LAST-MODIFIED:20260210T142838Z
UID:10003762-1775829600-1775844000@www.circuit-carole.com
SUMMARY:Roulage privé
DESCRIPTION:
URL:https://www.circuit-carole.com/calendrier/roulage-prive-23/2026-04-10/2/
CATEGORIES:Location
END:VEVENT
BEGIN:VEVENT
DTSTART;TZID=Europe/Paris:20260411T090000
DTEND;TZID=Europe/Paris:20260411T130000
DTSTAMP:20260419T180932
CREATED:20260210T093815Z
LAST-MODIFIED:20260210T093815Z
UID:10003743-1775898000-1775912400@www.circuit-carole.com
SUMMARY:Roulage PK Racing
DESCRIPTION:
URL:https://www.circuit-carole.com/calendrier/roulage-pk-racing-3/2026-04-11/1/
CATEGORIES:Location
ORGANIZER;CN="PK Racing Days":MAILTO:pkracingdays@gmail.com
END:VEVENT
BEGIN:VEVENT
DTSTART;TZID=Europe/Paris:20260411T140000
DTEND;TZID=Europe/Paris:20260411T180000
DTSTAMP:20260419T180932
CREATED:20260210T093815Z
LAST-MODIFIED:20260210T093815Z
UID:10003744-1775916000-1775930400@www.circuit-carole.com
SUMMARY:Roulage PK Racing
DESCRIPTION:
URL:https://www.circuit-carole.com/calendrier/roulage-pk-racing-3/2026-04-11/2/
CATEGORIES:Location
ORGANIZER;CN="PK Racing Days":MAILTO:pkracingdays@gmail.com
END:VEVENT
BEGIN:VEVENT
DTSTART;TZID=Europe/Paris:20260412T090000
DTEND;TZID=Europe/Paris:20260412T130000
DTSTAMP:20260419T180932
CREATED:20260119T133155Z
LAST-MODIFIED:20260119T133655Z
UID:10003704-1775984400-1775998800@www.circuit-carole.com
SUMMARY:Roulage Riding Sensation
DESCRIPTION:
URL:https://www.circuit-carole.com/calendrier/roulage-riding-sensation/2026-04-12/1/
CATEGORIES:Location
ORGANIZER;CN="Riding Sensation":MAILTO:infos@riding-sensation.fr
END:VEVENT
BEGIN:VEVENT
DTSTART;TZID=Europe/Paris:20260412T140000
DTEND;TZID=Europe/Paris:20260412T180000
DTSTAMP:20260419T180932
CREATED:20260119T133155Z
LAST-MODIFIED:20260119T133655Z
UID:10003705-1776002400-1776016800@www.circuit-carole.com
SUMMARY:Roulage Riding Sensation
DESCRIPTION:
URL:https://www.circuit-carole.com/calendrier/roulage-riding-sensation/2026-04-12/2/
CATEGORIES:Location
ORGANIZER;CN="Riding Sensation":MAILTO:infos@riding-sensation.fr
END:VEVENT
END:VCALENDAR