BEGIN:VCALENDAR
VERSION:2.0
PRODID:-//Circuit Carole - ECPv6.15.18//NONSGML v1.0//EN
CALSCALE:GREGORIAN
METHOD:PUBLISH
X-ORIGINAL-URL:https://www.circuit-carole.com
X-WR-CALDESC:Évènements pour Circuit Carole
REFRESH-INTERVAL;VALUE=DURATION:PT1H
X-Robots-Tag:noindex
X-PUBLISHED-TTL:PT1H
BEGIN:VTIMEZONE
TZID:Europe/Paris
BEGIN:DAYLIGHT
TZOFFSETFROM:+0100
TZOFFSETTO:+0200
TZNAME:CEST
DTSTART:20240331T010000
END:DAYLIGHT
BEGIN:STANDARD
TZOFFSETFROM:+0200
TZOFFSETTO:+0100
TZNAME:CET
DTSTART:20241027T010000
END:STANDARD
BEGIN:DAYLIGHT
TZOFFSETFROM:+0100
TZOFFSETTO:+0200
TZNAME:CEST
DTSTART:20250330T010000
END:DAYLIGHT
BEGIN:STANDARD
TZOFFSETFROM:+0200
TZOFFSETTO:+0100
TZNAME:CET
DTSTART:20251026T010000
END:STANDARD
BEGIN:DAYLIGHT
TZOFFSETFROM:+0100
TZOFFSETTO:+0200
TZNAME:CEST
DTSTART:20260329T010000
END:DAYLIGHT
BEGIN:STANDARD
TZOFFSETFROM:+0200
TZOFFSETTO:+0100
TZNAME:CET
DTSTART:20261025T010000
END:STANDARD
END:VTIMEZONE
BEGIN:VEVENT
DTSTART;TZID=Europe/Paris:20251004T090000
DTEND;TZID=Europe/Paris:20251004T130000
DTSTAMP:20260420T132212
CREATED:20250123T151924Z
LAST-MODIFIED:20250123T151924Z
UID:10002428-1759568400-1759582800@www.circuit-carole.com
SUMMARY:Roulage PK Racing
DESCRIPTION:4 groupes de niveaux : Débutants\, Intermédiaires\, Confirmés\, Experts.
URL:https://www.circuit-carole.com/calendrier/roulage-pk-racing-2/2025-10-04/1/
CATEGORIES:Location
ORGANIZER;CN="PK Racing Days":MAILTO:pkracingdays@gmail.com
END:VEVENT
BEGIN:VEVENT
DTSTART;TZID=Europe/Paris:20251004T140000
DTEND;TZID=Europe/Paris:20251004T180000
DTSTAMP:20260420T132212
CREATED:20250123T151924Z
LAST-MODIFIED:20250123T151924Z
UID:10002429-1759586400-1759600800@www.circuit-carole.com
SUMMARY:Roulage PK Racing
DESCRIPTION:4 groupes de niveaux : Débutants\, Intermédiaires\, Confirmés\, Experts.
URL:https://www.circuit-carole.com/calendrier/roulage-pk-racing-2/2025-10-04/2/
CATEGORIES:Location
ORGANIZER;CN="PK Racing Days":MAILTO:pkracingdays@gmail.com
END:VEVENT
BEGIN:VEVENT
DTSTART;TZID=Europe/Paris:20251005T090000
DTEND;TZID=Europe/Paris:20251005T130000
DTSTAMP:20260420T132212
CREATED:20250204T125602Z
LAST-MODIFIED:20250224T155223Z
UID:10002484-1759654800-1759669200@www.circuit-carole.com
SUMMARY:Roulage Riding Sensation
DESCRIPTION:Groupes de niveaux.
URL:https://www.circuit-carole.com/calendrier/roulage-france-track-days-2/2025-10-05/1/
CATEGORIES:Location
ORGANIZER;CN="Riding Sensation":MAILTO:infos@riding-sensation.fr
END:VEVENT
BEGIN:VEVENT
DTSTART;TZID=Europe/Paris:20251005T140000
DTEND;TZID=Europe/Paris:20251005T180000
DTSTAMP:20260420T132212
CREATED:20250204T125602Z
LAST-MODIFIED:20250224T155223Z
UID:10002485-1759672800-1759687200@www.circuit-carole.com
SUMMARY:Roulage Riding Sensation
DESCRIPTION:Groupes de niveaux.
URL:https://www.circuit-carole.com/calendrier/roulage-france-track-days-2/2025-10-05/2/
CATEGORIES:Location
ORGANIZER;CN="Riding Sensation":MAILTO:infos@riding-sensation.fr
END:VEVENT
END:VCALENDAR