BEGIN:VCALENDAR
VERSION:2.0
PRODID:-//Circuit Carole - ECPv6.15.18//NONSGML v1.0//EN
CALSCALE:GREGORIAN
METHOD:PUBLISH
X-ORIGINAL-URL:https://www.circuit-carole.com
X-WR-CALDESC:Évènements pour Circuit Carole
REFRESH-INTERVAL;VALUE=DURATION:PT1H
X-Robots-Tag:noindex
X-PUBLISHED-TTL:PT1H
BEGIN:VTIMEZONE
TZID:Europe/Paris
BEGIN:DAYLIGHT
TZOFFSETFROM:+0100
TZOFFSETTO:+0200
TZNAME:CEST
DTSTART:20240331T010000
END:DAYLIGHT
BEGIN:STANDARD
TZOFFSETFROM:+0200
TZOFFSETTO:+0100
TZNAME:CET
DTSTART:20241027T010000
END:STANDARD
BEGIN:DAYLIGHT
TZOFFSETFROM:+0100
TZOFFSETTO:+0200
TZNAME:CEST
DTSTART:20250330T010000
END:DAYLIGHT
BEGIN:STANDARD
TZOFFSETFROM:+0200
TZOFFSETTO:+0100
TZNAME:CET
DTSTART:20251026T010000
END:STANDARD
BEGIN:DAYLIGHT
TZOFFSETFROM:+0100
TZOFFSETTO:+0200
TZNAME:CEST
DTSTART:20260329T010000
END:DAYLIGHT
BEGIN:STANDARD
TZOFFSETFROM:+0200
TZOFFSETTO:+0100
TZNAME:CET
DTSTART:20261025T010000
END:STANDARD
END:VTIMEZONE
BEGIN:VEVENT
DTSTART;TZID=Europe/Paris:20250915T090000
DTEND;TZID=Europe/Paris:20250915T130000
DTSTAMP:20260422T133620
CREATED:20250210T153624Z
LAST-MODIFIED:20250210T153624Z
UID:10002894-1757926800-1757941200@www.circuit-carole.com
SUMMARY:Roulage privé
DESCRIPTION:
URL:https://www.circuit-carole.com/calendrier/roulage-prive-11/2025-09-15/1/
CATEGORIES:Location
END:VEVENT
BEGIN:VEVENT
DTSTART;TZID=Europe/Paris:20250915T140000
DTEND;TZID=Europe/Paris:20250915T180000
DTSTAMP:20260422T133620
CREATED:20250210T153624Z
LAST-MODIFIED:20250210T153624Z
UID:10002895-1757944800-1757959200@www.circuit-carole.com
SUMMARY:Roulage privé
DESCRIPTION:
URL:https://www.circuit-carole.com/calendrier/roulage-prive-11/2025-09-15/2/
CATEGORIES:Location
END:VEVENT
BEGIN:VEVENT
DTSTART;TZID=Europe/Paris:20250920T090000
DTEND;TZID=Europe/Paris:20250920T130000
DTSTAMP:20260422T133620
CREATED:20250129T133520Z
LAST-MODIFIED:20250129T133520Z
UID:10002439-1758358800-1758373200@www.circuit-carole.com
SUMMARY:Roulage Carole Moto Club
DESCRIPTION:4 groupes de niveaux : Débutant\, Intermédiaire\, Confirmé\, Expert.
URL:https://www.circuit-carole.com/calendrier/roulage-carole-moto-club-2/2025-09-20/
CATEGORIES:Location
ORGANIZER;CN="Carole Moto Club":MAILTO:lefel.dimitri@hotmail.fr
END:VEVENT
END:VCALENDAR