BEGIN:VCALENDAR
VERSION:2.0
PRODID:-//Circuit Carole - ECPv6.15.18//NONSGML v1.0//EN
CALSCALE:GREGORIAN
METHOD:PUBLISH
X-ORIGINAL-URL:https://www.circuit-carole.com
X-WR-CALDESC:Évènements pour Circuit Carole
REFRESH-INTERVAL;VALUE=DURATION:PT1H
X-Robots-Tag:noindex
X-PUBLISHED-TTL:PT1H
BEGIN:VTIMEZONE
TZID:Europe/Paris
BEGIN:DAYLIGHT
TZOFFSETFROM:+0100
TZOFFSETTO:+0200
TZNAME:CEST
DTSTART:20240331T010000
END:DAYLIGHT
BEGIN:STANDARD
TZOFFSETFROM:+0200
TZOFFSETTO:+0100
TZNAME:CET
DTSTART:20241027T010000
END:STANDARD
BEGIN:DAYLIGHT
TZOFFSETFROM:+0100
TZOFFSETTO:+0200
TZNAME:CEST
DTSTART:20250330T010000
END:DAYLIGHT
BEGIN:STANDARD
TZOFFSETFROM:+0200
TZOFFSETTO:+0100
TZNAME:CET
DTSTART:20251026T010000
END:STANDARD
BEGIN:DAYLIGHT
TZOFFSETFROM:+0100
TZOFFSETTO:+0200
TZNAME:CEST
DTSTART:20260329T010000
END:DAYLIGHT
BEGIN:STANDARD
TZOFFSETFROM:+0200
TZOFFSETTO:+0100
TZNAME:CET
DTSTART:20261025T010000
END:STANDARD
END:VTIMEZONE
BEGIN:VEVENT
DTSTART;TZID=Europe/Paris:20250823T090000
DTEND;TZID=Europe/Paris:20250823T120000
DTSTAMP:20260422T133235
CREATED:20250305T141550Z
LAST-MODIFIED:20250305T141550Z
UID:10002927-1755939600-1755950400@www.circuit-carole.com
SUMMARY:Roulage conseils féminin
DESCRIPTION:Roulages conseils exclusivement réservés aux femmes débutantes. \nÉducateur : COLLET Joey.
URL:https://www.circuit-carole.com/calendrier/roulage-conseils-feminin-2/2025-08-23/
CATEGORIES:Location
ORGANIZER;CN="Association de Gestion du Circuit Carole":MAILTO:info@circuit-carole.com
END:VEVENT
BEGIN:VEVENT
DTSTART;TZID=Europe/Paris:20250824T090000
DTEND;TZID=Europe/Paris:20250824T120000
DTSTAMP:20260422T133235
CREATED:20250305T141550Z
LAST-MODIFIED:20250305T141550Z
UID:10002928-1756026000-1756036800@www.circuit-carole.com
SUMMARY:Roulage conseils féminin
DESCRIPTION:Roulages conseils exclusivement réservés aux femmes débutantes. \nÉducateur : COLLET Joey.
URL:https://www.circuit-carole.com/calendrier/roulage-conseils-feminin-2/2025-08-24/
CATEGORIES:Location
ORGANIZER;CN="Association de Gestion du Circuit Carole":MAILTO:info@circuit-carole.com
END:VEVENT
END:VCALENDAR