BEGIN:VCALENDAR
VERSION:2.0
PRODID:-//Circuit Carole - ECPv6.15.18//NONSGML v1.0//EN
CALSCALE:GREGORIAN
METHOD:PUBLISH
X-WR-CALNAME:Circuit Carole
X-ORIGINAL-URL:https://www.circuit-carole.com
X-WR-CALDESC:Évènements pour Circuit Carole
REFRESH-INTERVAL;VALUE=DURATION:PT1H
X-Robots-Tag:noindex
X-PUBLISHED-TTL:PT1H
BEGIN:VTIMEZONE
TZID:Europe/Paris
BEGIN:DAYLIGHT
TZOFFSETFROM:+0100
TZOFFSETTO:+0200
TZNAME:CEST
DTSTART:20240331T010000
END:DAYLIGHT
BEGIN:STANDARD
TZOFFSETFROM:+0200
TZOFFSETTO:+0100
TZNAME:CET
DTSTART:20241027T010000
END:STANDARD
BEGIN:DAYLIGHT
TZOFFSETFROM:+0100
TZOFFSETTO:+0200
TZNAME:CEST
DTSTART:20250330T010000
END:DAYLIGHT
BEGIN:STANDARD
TZOFFSETFROM:+0200
TZOFFSETTO:+0100
TZNAME:CET
DTSTART:20251026T010000
END:STANDARD
BEGIN:DAYLIGHT
TZOFFSETFROM:+0100
TZOFFSETTO:+0200
TZNAME:CEST
DTSTART:20260329T010000
END:DAYLIGHT
BEGIN:STANDARD
TZOFFSETFROM:+0200
TZOFFSETTO:+0100
TZNAME:CET
DTSTART:20261025T010000
END:STANDARD
END:VTIMEZONE
BEGIN:VEVENT
DTSTART;TZID=Europe/Paris:20250811T090000
DTEND;TZID=Europe/Paris:20250811T130000
DTSTAMP:20260422T130514
CREATED:20250804T153632Z
LAST-MODIFIED:20250804T153632Z
UID:10002933-1754902800-1754917200@www.circuit-carole.com
SUMMARY:Roulage privé
DESCRIPTION:
URL:https://www.circuit-carole.com/calendrier/roulage-prive-12/2025-08-11/1/
CATEGORIES:Location
END:VEVENT
BEGIN:VEVENT
DTSTART;TZID=Europe/Paris:20250811T140000
DTEND;TZID=Europe/Paris:20250811T180000
DTSTAMP:20260422T130514
CREATED:20250804T153632Z
LAST-MODIFIED:20250804T153632Z
UID:10002934-1754920800-1754935200@www.circuit-carole.com
SUMMARY:Roulage privé
DESCRIPTION:
URL:https://www.circuit-carole.com/calendrier/roulage-prive-12/2025-08-11/2/
CATEGORIES:Location
END:VEVENT
BEGIN:VEVENT
DTSTART;TZID=Europe/Paris:20250812T090000
DTEND;TZID=Europe/Paris:20250812T130000
DTSTAMP:20260422T130514
CREATED:20250804T153632Z
LAST-MODIFIED:20250804T153632Z
UID:10002935-1754989200-1755003600@www.circuit-carole.com
SUMMARY:Roulage privé
DESCRIPTION:
URL:https://www.circuit-carole.com/calendrier/roulage-prive-12/2025-08-12/1/
CATEGORIES:Location
END:VEVENT
BEGIN:VEVENT
DTSTART;TZID=Europe/Paris:20250812T140000
DTEND;TZID=Europe/Paris:20250812T180000
DTSTAMP:20260422T130514
CREATED:20250804T153632Z
LAST-MODIFIED:20250804T153632Z
UID:10002936-1755007200-1755021600@www.circuit-carole.com
SUMMARY:Roulage privé
DESCRIPTION:
URL:https://www.circuit-carole.com/calendrier/roulage-prive-12/2025-08-12/2/
CATEGORIES:Location
END:VEVENT
BEGIN:VEVENT
DTSTART;TZID=Europe/Paris:20250815T090000
DTEND;TZID=Europe/Paris:20250815T130000
DTSTAMP:20260422T130514
CREATED:20250130T155249Z
LAST-MODIFIED:20250130T155249Z
UID:10002446-1755248400-1755262800@www.circuit-carole.com
SUMMARY:Roulage Moto Sport 76
DESCRIPTION:3 groupes de niveaux : Débutants\, Moyens\, Confirmés.
URL:https://www.circuit-carole.com/calendrier/roulage-moto-sport-76-2/2025-08-15/1/
CATEGORIES:Location
ORGANIZER;CN="Moto Sport 76":MAILTO:marc.wormser@free.fr
END:VEVENT
BEGIN:VEVENT
DTSTART;TZID=Europe/Paris:20250815T140000
DTEND;TZID=Europe/Paris:20250815T180000
DTSTAMP:20260422T130514
CREATED:20250130T155249Z
LAST-MODIFIED:20250130T155249Z
UID:10002447-1755266400-1755280800@www.circuit-carole.com
SUMMARY:Roulage Moto Sport 76
DESCRIPTION:3 groupes de niveaux : Débutants\, Moyens\, Confirmés.
URL:https://www.circuit-carole.com/calendrier/roulage-moto-sport-76-2/2025-08-15/2/
CATEGORIES:Location
ORGANIZER;CN="Moto Sport 76":MAILTO:marc.wormser@free.fr
END:VEVENT
BEGIN:VEVENT
DTSTART;TZID=Europe/Paris:20250816T090000
DTEND;TZID=Europe/Paris:20250816T130000
DTSTAMP:20260422T130514
CREATED:20250123T130702Z
LAST-MODIFIED:20251002T073415Z
UID:10002416-1755334800-1755349200@www.circuit-carole.com
SUMMARY:Roulage LH Racing
DESCRIPTION:4 groupes de niveaux : Débutants\, Moyens\, Moyens Plus\, Confirmés.
URL:https://www.circuit-carole.com/calendrier/roulage-lh-racing-5/2025-08-16/1/
CATEGORIES:Location
ORGANIZER;CN="LH Racing":MAILTO:contact@teamlhracing.com
END:VEVENT
BEGIN:VEVENT
DTSTART;TZID=Europe/Paris:20250816T140000
DTEND;TZID=Europe/Paris:20250816T180000
DTSTAMP:20260422T130514
CREATED:20250123T130702Z
LAST-MODIFIED:20251002T073415Z
UID:10002417-1755352800-1755367200@www.circuit-carole.com
SUMMARY:Roulage LH Racing
DESCRIPTION:4 groupes de niveaux : Débutants\, Moyens\, Moyens Plus\, Confirmés.
URL:https://www.circuit-carole.com/calendrier/roulage-lh-racing-5/2025-08-16/2/
CATEGORIES:Location
ORGANIZER;CN="LH Racing":MAILTO:contact@teamlhracing.com
END:VEVENT
BEGIN:VEVENT
DTSTART;TZID=Europe/Paris:20250817T090000
DTEND;TZID=Europe/Paris:20250817T130000
DTSTAMP:20260422T130514
CREATED:20250123T130702Z
LAST-MODIFIED:20251002T073415Z
UID:10002418-1755421200-1755435600@www.circuit-carole.com
SUMMARY:Roulage LH Racing
DESCRIPTION:4 groupes de niveaux : Débutants\, Moyens\, Moyens Plus\, Confirmés.
URL:https://www.circuit-carole.com/calendrier/roulage-lh-racing-5/2025-08-17/1/
CATEGORIES:Location
ORGANIZER;CN="LH Racing":MAILTO:contact@teamlhracing.com
END:VEVENT
BEGIN:VEVENT
DTSTART;TZID=Europe/Paris:20250817T140000
DTEND;TZID=Europe/Paris:20250817T180000
DTSTAMP:20260422T130514
CREATED:20250123T130702Z
LAST-MODIFIED:20251002T073415Z
UID:10002419-1755439200-1755453600@www.circuit-carole.com
SUMMARY:Roulage LH Racing
DESCRIPTION:4 groupes de niveaux : Débutants\, Moyens\, Moyens Plus\, Confirmés.
URL:https://www.circuit-carole.com/calendrier/roulage-lh-racing-5/2025-08-17/2/
CATEGORIES:Location
ORGANIZER;CN="LH Racing":MAILTO:contact@teamlhracing.com
END:VEVENT
END:VCALENDAR