BEGIN:VCALENDAR
VERSION:2.0
PRODID:-//Circuit Carole - ECPv6.15.18//NONSGML v1.0//EN
CALSCALE:GREGORIAN
METHOD:PUBLISH
X-ORIGINAL-URL:https://www.circuit-carole.com
X-WR-CALDESC:Évènements pour Circuit Carole
REFRESH-INTERVAL;VALUE=DURATION:PT1H
X-Robots-Tag:noindex
X-PUBLISHED-TTL:PT1H
BEGIN:VTIMEZONE
TZID:Europe/Paris
BEGIN:DAYLIGHT
TZOFFSETFROM:+0100
TZOFFSETTO:+0200
TZNAME:CEST
DTSTART:20240331T010000
END:DAYLIGHT
BEGIN:STANDARD
TZOFFSETFROM:+0200
TZOFFSETTO:+0100
TZNAME:CET
DTSTART:20241027T010000
END:STANDARD
BEGIN:DAYLIGHT
TZOFFSETFROM:+0100
TZOFFSETTO:+0200
TZNAME:CEST
DTSTART:20250330T010000
END:DAYLIGHT
BEGIN:STANDARD
TZOFFSETFROM:+0200
TZOFFSETTO:+0100
TZNAME:CET
DTSTART:20251026T010000
END:STANDARD
BEGIN:DAYLIGHT
TZOFFSETFROM:+0100
TZOFFSETTO:+0200
TZNAME:CEST
DTSTART:20260329T010000
END:DAYLIGHT
BEGIN:STANDARD
TZOFFSETFROM:+0200
TZOFFSETTO:+0100
TZNAME:CET
DTSTART:20261025T010000
END:STANDARD
END:VTIMEZONE
BEGIN:VEVENT
DTSTART;TZID=Europe/Paris:20250729T090000
DTEND;TZID=Europe/Paris:20250729T130000
DTSTAMP:20260422T132538
CREATED:20250210T152604Z
LAST-MODIFIED:20250210T152604Z
UID:10002888-1753779600-1753794000@www.circuit-carole.com
SUMMARY:Détection CIP
DESCRIPTION:
URL:https://www.circuit-carole.com/calendrier/detection-cip-3/2025-07-29/1/
CATEGORIES:Location
END:VEVENT
BEGIN:VEVENT
DTSTART;TZID=Europe/Paris:20250729T140000
DTEND;TZID=Europe/Paris:20250729T180000
DTSTAMP:20260422T132538
CREATED:20250210T152604Z
LAST-MODIFIED:20250210T152604Z
UID:10002889-1753797600-1753812000@www.circuit-carole.com
SUMMARY:Détection CIP
DESCRIPTION:
URL:https://www.circuit-carole.com/calendrier/detection-cip-3/2025-07-29/2/
CATEGORIES:Location
END:VEVENT
BEGIN:VEVENT
DTSTART;TZID=Europe/Paris:20250730T090000
DTEND;TZID=Europe/Paris:20250730T130000
DTSTAMP:20260422T132538
CREATED:20250210T152604Z
LAST-MODIFIED:20250210T152604Z
UID:10002890-1753866000-1753880400@www.circuit-carole.com
SUMMARY:Détection CIP
DESCRIPTION:
URL:https://www.circuit-carole.com/calendrier/detection-cip-3/2025-07-30/1/
CATEGORIES:Location
END:VEVENT
BEGIN:VEVENT
DTSTART;TZID=Europe/Paris:20250730T140000
DTEND;TZID=Europe/Paris:20250730T180000
DTSTAMP:20260422T132538
CREATED:20250210T152604Z
LAST-MODIFIED:20250210T152604Z
UID:10002891-1753884000-1753898400@www.circuit-carole.com
SUMMARY:Détection CIP
DESCRIPTION:
URL:https://www.circuit-carole.com/calendrier/detection-cip-3/2025-07-30/2/
CATEGORIES:Location
END:VEVENT
BEGIN:VEVENT
DTSTART;TZID=Europe/Paris:20250802T090000
DTEND;TZID=Europe/Paris:20250802T130000
DTSTAMP:20260422T132538
CREATED:20250113T154903Z
LAST-MODIFIED:20250113T154903Z
UID:10002360-1754125200-1754139600@www.circuit-carole.com
SUMMARY:Roulage Jim Show
DESCRIPTION:5 groupes de niveaux.
URL:https://www.circuit-carole.com/calendrier/roulage-jim-show-3/2025-08-02/1/
CATEGORIES:Location
ORGANIZER;CN="Association Jim Show":MAILTO:bigjim76@hotmail.fr
END:VEVENT
BEGIN:VEVENT
DTSTART;TZID=Europe/Paris:20250802T140000
DTEND;TZID=Europe/Paris:20250802T180000
DTSTAMP:20260422T132538
CREATED:20250113T154903Z
LAST-MODIFIED:20250113T154903Z
UID:10002361-1754143200-1754157600@www.circuit-carole.com
SUMMARY:Roulage Jim Show
DESCRIPTION:5 groupes de niveaux.
URL:https://www.circuit-carole.com/calendrier/roulage-jim-show-3/2025-08-02/2/
CATEGORIES:Location
ORGANIZER;CN="Association Jim Show":MAILTO:bigjim76@hotmail.fr
END:VEVENT
BEGIN:VEVENT
DTSTART;TZID=Europe/Paris:20250803T090000
DTEND;TZID=Europe/Paris:20250803T130000
DTSTAMP:20260422T132538
CREATED:20250113T154903Z
LAST-MODIFIED:20250113T154903Z
UID:10002362-1754211600-1754226000@www.circuit-carole.com
SUMMARY:Roulage Jim Show
DESCRIPTION:5 groupes de niveaux.
URL:https://www.circuit-carole.com/calendrier/roulage-jim-show-3/2025-08-03/1/
CATEGORIES:Location
ORGANIZER;CN="Association Jim Show":MAILTO:bigjim76@hotmail.fr
END:VEVENT
BEGIN:VEVENT
DTSTART;TZID=Europe/Paris:20250803T140000
DTEND;TZID=Europe/Paris:20250803T180000
DTSTAMP:20260422T132538
CREATED:20250113T154903Z
LAST-MODIFIED:20250113T154903Z
UID:10002363-1754229600-1754244000@www.circuit-carole.com
SUMMARY:Roulage Jim Show
DESCRIPTION:5 groupes de niveaux.
URL:https://www.circuit-carole.com/calendrier/roulage-jim-show-3/2025-08-03/2/
CATEGORIES:Location
ORGANIZER;CN="Association Jim Show":MAILTO:bigjim76@hotmail.fr
END:VEVENT
END:VCALENDAR