BEGIN:VCALENDAR
VERSION:2.0
PRODID:-//Circuit Carole - ECPv6.15.18//NONSGML v1.0//EN
CALSCALE:GREGORIAN
METHOD:PUBLISH
X-ORIGINAL-URL:https://www.circuit-carole.com
X-WR-CALDESC:Évènements pour Circuit Carole
REFRESH-INTERVAL;VALUE=DURATION:PT1H
X-Robots-Tag:noindex
X-PUBLISHED-TTL:PT1H
BEGIN:VTIMEZONE
TZID:Europe/Paris
BEGIN:DAYLIGHT
TZOFFSETFROM:+0100
TZOFFSETTO:+0200
TZNAME:CEST
DTSTART:20240331T010000
END:DAYLIGHT
BEGIN:STANDARD
TZOFFSETFROM:+0200
TZOFFSETTO:+0100
TZNAME:CET
DTSTART:20241027T010000
END:STANDARD
BEGIN:DAYLIGHT
TZOFFSETFROM:+0100
TZOFFSETTO:+0200
TZNAME:CEST
DTSTART:20250330T010000
END:DAYLIGHT
BEGIN:STANDARD
TZOFFSETFROM:+0200
TZOFFSETTO:+0100
TZNAME:CET
DTSTART:20251026T010000
END:STANDARD
BEGIN:DAYLIGHT
TZOFFSETFROM:+0100
TZOFFSETTO:+0200
TZNAME:CEST
DTSTART:20260329T010000
END:DAYLIGHT
BEGIN:STANDARD
TZOFFSETFROM:+0200
TZOFFSETTO:+0100
TZNAME:CET
DTSTART:20261025T010000
END:STANDARD
END:VTIMEZONE
BEGIN:VEVENT
DTSTART;TZID=Europe/Paris:20250714T090000
DTEND;TZID=Europe/Paris:20250714T130000
DTSTAMP:20260422T144506
CREATED:20250130T155249Z
LAST-MODIFIED:20250130T155249Z
UID:10002444-1752483600-1752498000@www.circuit-carole.com
SUMMARY:Roulage Moto Sport 76
DESCRIPTION:3 groupes de niveaux : Débutants\, Moyens\, Confirmés.
URL:https://www.circuit-carole.com/calendrier/roulage-moto-sport-76-2/2025-07-14/1/
CATEGORIES:Location
ORGANIZER;CN="Moto Sport 76":MAILTO:marc.wormser@free.fr
END:VEVENT
BEGIN:VEVENT
DTSTART;TZID=Europe/Paris:20250714T140000
DTEND;TZID=Europe/Paris:20250714T180000
DTSTAMP:20260422T144506
CREATED:20250130T155249Z
LAST-MODIFIED:20250130T155249Z
UID:10002445-1752501600-1752516000@www.circuit-carole.com
SUMMARY:Roulage Moto Sport 76
DESCRIPTION:3 groupes de niveaux : Débutants\, Moyens\, Confirmés.
URL:https://www.circuit-carole.com/calendrier/roulage-moto-sport-76-2/2025-07-14/2/
CATEGORIES:Location
ORGANIZER;CN="Moto Sport 76":MAILTO:marc.wormser@free.fr
END:VEVENT
BEGIN:VEVENT
DTSTART;TZID=Europe/Paris:20250718T090000
DTEND;TZID=Europe/Paris:20250718T130000
DTSTAMP:20260422T144506
CREATED:20250114T131533Z
LAST-MODIFIED:20250114T131533Z
UID:10002364-1752829200-1752843600@www.circuit-carole.com
SUMMARY:Roulage Inter Track
DESCRIPTION:4 groupes : Rookie\, Rookie-Advanced\, Advanced\, Expert.
URL:https://www.circuit-carole.com/calendrier/roulage-inter-track-3/2025-07-18/1/
CATEGORIES:Location
ORGANIZER;CN="Inter Track":MAILTO:info@inter-track.be
END:VEVENT
BEGIN:VEVENT
DTSTART;TZID=Europe/Paris:20250718T140000
DTEND;TZID=Europe/Paris:20250718T180000
DTSTAMP:20260422T144506
CREATED:20250114T131533Z
LAST-MODIFIED:20250114T131533Z
UID:10002365-1752847200-1752861600@www.circuit-carole.com
SUMMARY:Roulage Inter Track
DESCRIPTION:4 groupes : Rookie\, Rookie-Advanced\, Advanced\, Expert.
URL:https://www.circuit-carole.com/calendrier/roulage-inter-track-3/2025-07-18/2/
CATEGORIES:Location
ORGANIZER;CN="Inter Track":MAILTO:info@inter-track.be
END:VEVENT
BEGIN:VEVENT
DTSTART;TZID=Europe/Paris:20250719T090000
DTEND;TZID=Europe/Paris:20250719T130000
DTSTAMP:20260422T144506
CREATED:20250114T131533Z
LAST-MODIFIED:20250114T131533Z
UID:10002366-1752915600-1752930000@www.circuit-carole.com
SUMMARY:Roulage Inter Track
DESCRIPTION:4 groupes : Rookie\, Rookie-Advanced\, Advanced\, Expert.
URL:https://www.circuit-carole.com/calendrier/roulage-inter-track-3/2025-07-19/1/
CATEGORIES:Location
ORGANIZER;CN="Inter Track":MAILTO:info@inter-track.be
END:VEVENT
BEGIN:VEVENT
DTSTART;TZID=Europe/Paris:20250719T140000
DTEND;TZID=Europe/Paris:20250719T180000
DTSTAMP:20260422T144506
CREATED:20250114T131533Z
LAST-MODIFIED:20250114T131533Z
UID:10002367-1752933600-1752948000@www.circuit-carole.com
SUMMARY:Roulage Inter Track
DESCRIPTION:4 groupes : Rookie\, Rookie-Advanced\, Advanced\, Expert.
URL:https://www.circuit-carole.com/calendrier/roulage-inter-track-3/2025-07-19/2/
CATEGORIES:Location
ORGANIZER;CN="Inter Track":MAILTO:info@inter-track.be
END:VEVENT
BEGIN:VEVENT
DTSTART;TZID=Europe/Paris:20250720T090000
DTEND;TZID=Europe/Paris:20250720T130000
DTSTAMP:20260422T144506
CREATED:20250114T131533Z
LAST-MODIFIED:20250114T131533Z
UID:10002368-1753002000-1753016400@www.circuit-carole.com
SUMMARY:Roulage Inter Track
DESCRIPTION:4 groupes : Rookie\, Rookie-Advanced\, Advanced\, Expert.
URL:https://www.circuit-carole.com/calendrier/roulage-inter-track-3/2025-07-20/1/
CATEGORIES:Location
ORGANIZER;CN="Inter Track":MAILTO:info@inter-track.be
END:VEVENT
BEGIN:VEVENT
DTSTART;TZID=Europe/Paris:20250720T140000
DTEND;TZID=Europe/Paris:20250720T180000
DTSTAMP:20260422T144506
CREATED:20250114T131533Z
LAST-MODIFIED:20250114T131533Z
UID:10002369-1753020000-1753034400@www.circuit-carole.com
SUMMARY:Roulage Inter Track
DESCRIPTION:4 groupes : Rookie\, Rookie-Advanced\, Advanced\, Expert.
URL:https://www.circuit-carole.com/calendrier/roulage-inter-track-3/2025-07-20/2/
CATEGORIES:Location
ORGANIZER;CN="Inter Track":MAILTO:info@inter-track.be
END:VEVENT
END:VCALENDAR