BEGIN:VCALENDAR
VERSION:2.0
PRODID:-//Circuit Carole - ECPv6.15.18//NONSGML v1.0//EN
CALSCALE:GREGORIAN
METHOD:PUBLISH
X-WR-CALNAME:Circuit Carole
X-ORIGINAL-URL:https://www.circuit-carole.com
X-WR-CALDESC:Évènements pour Circuit Carole
REFRESH-INTERVAL;VALUE=DURATION:PT1H
X-Robots-Tag:noindex
X-PUBLISHED-TTL:PT1H
BEGIN:VTIMEZONE
TZID:Europe/Paris
BEGIN:DAYLIGHT
TZOFFSETFROM:+0100
TZOFFSETTO:+0200
TZNAME:CEST
DTSTART:20240331T010000
END:DAYLIGHT
BEGIN:STANDARD
TZOFFSETFROM:+0200
TZOFFSETTO:+0100
TZNAME:CET
DTSTART:20241027T010000
END:STANDARD
BEGIN:DAYLIGHT
TZOFFSETFROM:+0100
TZOFFSETTO:+0200
TZNAME:CEST
DTSTART:20250330T010000
END:DAYLIGHT
BEGIN:STANDARD
TZOFFSETFROM:+0200
TZOFFSETTO:+0100
TZNAME:CET
DTSTART:20251026T010000
END:STANDARD
BEGIN:DAYLIGHT
TZOFFSETFROM:+0100
TZOFFSETTO:+0200
TZNAME:CEST
DTSTART:20260329T010000
END:DAYLIGHT
BEGIN:STANDARD
TZOFFSETFROM:+0200
TZOFFSETTO:+0100
TZNAME:CET
DTSTART:20261025T010000
END:STANDARD
END:VTIMEZONE
BEGIN:VEVENT
DTSTART;TZID=Europe/Paris:20250404T090000
DTEND;TZID=Europe/Paris:20250404T130000
DTSTAMP:20260422T201535
CREATED:20250305T140203Z
LAST-MODIFIED:20250305T140203Z
UID:10002915-1743757200-1743771600@www.circuit-carole.com
SUMMARY:Roulage privé
DESCRIPTION:
URL:https://www.circuit-carole.com/calendrier/roulage-prive-21/2025-04-04/1/
CATEGORIES:Location
END:VEVENT
BEGIN:VEVENT
DTSTART;TZID=Europe/Paris:20250404T140000
DTEND;TZID=Europe/Paris:20250404T180000
DTSTAMP:20260422T201535
CREATED:20250305T140203Z
LAST-MODIFIED:20250305T140203Z
UID:10002916-1743775200-1743789600@www.circuit-carole.com
SUMMARY:Roulage privé
DESCRIPTION:
URL:https://www.circuit-carole.com/calendrier/roulage-prive-21/2025-04-04/2/
CATEGORIES:Location
END:VEVENT
BEGIN:VEVENT
DTSTART;TZID=Europe/Paris:20250405T090000
DTEND;TZID=Europe/Paris:20250405T130000
DTSTAMP:20260422T201535
CREATED:20250120T135949Z
LAST-MODIFIED:20250120T135949Z
UID:10002763-1743843600-1743858000@www.circuit-carole.com
SUMMARY:Roulage Avenir Moto
DESCRIPTION:4 groupes de niveaux : Débutants\, Intermédiaires\, Confirmés\, Experts.
URL:https://www.circuit-carole.com/calendrier/roulage-avenir-moto-5/2025-04-05/1/
CATEGORIES:Location
ORGANIZER;CN="Avenir Moto":MAILTO:contact@avenir-moto.com
END:VEVENT
BEGIN:VEVENT
DTSTART;TZID=Europe/Paris:20250405T140000
DTEND;TZID=Europe/Paris:20250405T180000
DTSTAMP:20260422T201535
CREATED:20250120T135949Z
LAST-MODIFIED:20250120T135949Z
UID:10002764-1743861600-1743876000@www.circuit-carole.com
SUMMARY:Roulage Avenir Moto
DESCRIPTION:4 groupes de niveaux : Débutants\, Intermédiaires\, Confirmés\, Experts.
URL:https://www.circuit-carole.com/calendrier/roulage-avenir-moto-5/2025-04-05/2/
CATEGORIES:Location
ORGANIZER;CN="Avenir Moto":MAILTO:contact@avenir-moto.com
END:VEVENT
BEGIN:VEVENT
DTSTART;TZID=Europe/Paris:20250406T090000
DTEND;TZID=Europe/Paris:20250406T130000
DTSTAMP:20260422T201535
CREATED:20250204T125340Z
LAST-MODIFIED:20250224T155139Z
UID:10002468-1743930000-1743944400@www.circuit-carole.com
SUMMARY:Roulage Riding Sensation
DESCRIPTION:Groupes de niveaux.
URL:https://www.circuit-carole.com/calendrier/roulage-france-track-days/2025-04-06/1/
CATEGORIES:Location
ORGANIZER;CN="Riding Sensation":MAILTO:infos@riding-sensation.fr
END:VEVENT
BEGIN:VEVENT
DTSTART;TZID=Europe/Paris:20250406T140000
DTEND;TZID=Europe/Paris:20250406T180000
DTSTAMP:20260422T201535
CREATED:20250204T125340Z
LAST-MODIFIED:20250224T155139Z
UID:10002469-1743948000-1743962400@www.circuit-carole.com
SUMMARY:Roulage Riding Sensation
DESCRIPTION:Groupes de niveaux.
URL:https://www.circuit-carole.com/calendrier/roulage-france-track-days/2025-04-06/2/
CATEGORIES:Location
ORGANIZER;CN="Riding Sensation":MAILTO:infos@riding-sensation.fr
END:VEVENT
END:VCALENDAR