BEGIN:VCALENDAR
VERSION:2.0
PRODID:-//Circuit Carole - ECPv6.15.18//NONSGML v1.0//EN
CALSCALE:GREGORIAN
METHOD:PUBLISH
X-WR-CALNAME:Circuit Carole
X-ORIGINAL-URL:https://www.circuit-carole.com
X-WR-CALDESC:Évènements pour Circuit Carole
REFRESH-INTERVAL;VALUE=DURATION:PT1H
X-Robots-Tag:noindex
X-PUBLISHED-TTL:PT1H
BEGIN:VTIMEZONE
TZID:Europe/Paris
BEGIN:DAYLIGHT
TZOFFSETFROM:+0100
TZOFFSETTO:+0200
TZNAME:CEST
DTSTART:20240331T010000
END:DAYLIGHT
BEGIN:STANDARD
TZOFFSETFROM:+0200
TZOFFSETTO:+0100
TZNAME:CET
DTSTART:20241027T010000
END:STANDARD
BEGIN:DAYLIGHT
TZOFFSETFROM:+0100
TZOFFSETTO:+0200
TZNAME:CEST
DTSTART:20250330T010000
END:DAYLIGHT
BEGIN:STANDARD
TZOFFSETFROM:+0200
TZOFFSETTO:+0100
TZNAME:CET
DTSTART:20251026T010000
END:STANDARD
BEGIN:DAYLIGHT
TZOFFSETFROM:+0100
TZOFFSETTO:+0200
TZNAME:CEST
DTSTART:20260329T010000
END:DAYLIGHT
BEGIN:STANDARD
TZOFFSETFROM:+0200
TZOFFSETTO:+0100
TZNAME:CET
DTSTART:20261025T010000
END:STANDARD
END:VTIMEZONE
BEGIN:VEVENT
DTSTART;TZID=Europe/Paris:20250329T090000
DTEND;TZID=Europe/Paris:20250329T130000
DTSTAMP:20260423T010811
CREATED:20250206T093052Z
LAST-MODIFIED:20250206T093052Z
UID:10002778-1743238800-1743253200@www.circuit-carole.com
SUMMARY:Roulage Moto Team 95
DESCRIPTION:4 groupes de niveaux : Débutant\, Moyen\, Moyen +\, Confirmé.
URL:https://www.circuit-carole.com/calendrier/roulage-moto-team-95-4/2025-03-29/1/
CATEGORIES:Location
END:VEVENT
BEGIN:VEVENT
DTSTART;TZID=Europe/Paris:20250329T140000
DTEND;TZID=Europe/Paris:20250329T180000
DTSTAMP:20260423T010811
CREATED:20250206T093052Z
LAST-MODIFIED:20250206T093052Z
UID:10002779-1743256800-1743271200@www.circuit-carole.com
SUMMARY:Roulage Moto Team 95
DESCRIPTION:4 groupes de niveaux : Débutant\, Moyen\, Moyen +\, Confirmé.
URL:https://www.circuit-carole.com/calendrier/roulage-moto-team-95-4/2025-03-29/2/
CATEGORIES:Location
END:VEVENT
BEGIN:VEVENT
DTSTART;TZID=Europe/Paris:20250330T090000
DTEND;TZID=Europe/Paris:20250330T130000
DTSTAMP:20260423T010811
CREATED:20250206T093052Z
LAST-MODIFIED:20250206T093052Z
UID:10002780-1743325200-1743339600@www.circuit-carole.com
SUMMARY:Roulage Moto Team 95
DESCRIPTION:4 groupes de niveaux : Débutant\, Moyen\, Moyen +\, Confirmé.
URL:https://www.circuit-carole.com/calendrier/roulage-moto-team-95-4/2025-03-30/1/
CATEGORIES:Location
END:VEVENT
BEGIN:VEVENT
DTSTART;TZID=Europe/Paris:20250330T140000
DTEND;TZID=Europe/Paris:20250330T180000
DTSTAMP:20260423T010811
CREATED:20250206T093052Z
LAST-MODIFIED:20250206T093052Z
UID:10002781-1743343200-1743357600@www.circuit-carole.com
SUMMARY:Roulage Moto Team 95
DESCRIPTION:4 groupes de niveaux : Débutant\, Moyen\, Moyen +\, Confirmé.
URL:https://www.circuit-carole.com/calendrier/roulage-moto-team-95-4/2025-03-30/2/
CATEGORIES:Location
END:VEVENT
END:VCALENDAR