BEGIN:VCALENDAR
VERSION:2.0
PRODID:-//Circuit Carole - ECPv6.15.18//NONSGML v1.0//EN
CALSCALE:GREGORIAN
METHOD:PUBLISH
X-ORIGINAL-URL:https://www.circuit-carole.com
X-WR-CALDESC:Évènements pour Circuit Carole
REFRESH-INTERVAL;VALUE=DURATION:PT1H
X-Robots-Tag:noindex
X-PUBLISHED-TTL:PT1H
BEGIN:VTIMEZONE
TZID:Europe/Paris
BEGIN:DAYLIGHT
TZOFFSETFROM:+0100
TZOFFSETTO:+0200
TZNAME:CEST
DTSTART:20240331T010000
END:DAYLIGHT
BEGIN:STANDARD
TZOFFSETFROM:+0200
TZOFFSETTO:+0100
TZNAME:CET
DTSTART:20241027T010000
END:STANDARD
BEGIN:DAYLIGHT
TZOFFSETFROM:+0100
TZOFFSETTO:+0200
TZNAME:CEST
DTSTART:20250330T010000
END:DAYLIGHT
BEGIN:STANDARD
TZOFFSETFROM:+0200
TZOFFSETTO:+0100
TZNAME:CET
DTSTART:20251026T010000
END:STANDARD
BEGIN:DAYLIGHT
TZOFFSETFROM:+0100
TZOFFSETTO:+0200
TZNAME:CEST
DTSTART:20260329T010000
END:DAYLIGHT
BEGIN:STANDARD
TZOFFSETFROM:+0200
TZOFFSETTO:+0100
TZNAME:CET
DTSTART:20261025T010000
END:STANDARD
END:VTIMEZONE
BEGIN:VEVENT
DTSTART;TZID=Europe/Paris:20250816T090000
DTEND;TZID=Europe/Paris:20250816T130000
DTSTAMP:20260422T132354
CREATED:20250123T130702Z
LAST-MODIFIED:20251002T073415Z
UID:10002416-1755334800-1755349200@www.circuit-carole.com
SUMMARY:Roulage LH Racing
DESCRIPTION:4 groupes de niveaux : Débutants\, Moyens\, Moyens Plus\, Confirmés.
URL:https://www.circuit-carole.com/calendrier/roulage-lh-racing-5/2025-08-16/1/
CATEGORIES:Location
ORGANIZER;CN="LH Racing":MAILTO:contact@teamlhracing.com
END:VEVENT
BEGIN:VEVENT
DTSTART;TZID=Europe/Paris:20250816T140000
DTEND;TZID=Europe/Paris:20250816T180000
DTSTAMP:20260422T132354
CREATED:20250123T130702Z
LAST-MODIFIED:20251002T073415Z
UID:10002417-1755352800-1755367200@www.circuit-carole.com
SUMMARY:Roulage LH Racing
DESCRIPTION:4 groupes de niveaux : Débutants\, Moyens\, Moyens Plus\, Confirmés.
URL:https://www.circuit-carole.com/calendrier/roulage-lh-racing-5/2025-08-16/2/
CATEGORIES:Location
ORGANIZER;CN="LH Racing":MAILTO:contact@teamlhracing.com
END:VEVENT
END:VCALENDAR