BEGIN:VCALENDAR
VERSION:2.0
PRODID:-//Circuit Carole - ECPv6.15.18//NONSGML v1.0//EN
CALSCALE:GREGORIAN
METHOD:PUBLISH
X-ORIGINAL-URL:https://www.circuit-carole.com
X-WR-CALDESC:Évènements pour Circuit Carole
REFRESH-INTERVAL;VALUE=DURATION:PT1H
X-Robots-Tag:noindex
X-PUBLISHED-TTL:PT1H
BEGIN:VTIMEZONE
TZID:Europe/Paris
BEGIN:DAYLIGHT
TZOFFSETFROM:+0100
TZOFFSETTO:+0200
TZNAME:CEST
DTSTART:20240331T010000
END:DAYLIGHT
BEGIN:STANDARD
TZOFFSETFROM:+0200
TZOFFSETTO:+0100
TZNAME:CET
DTSTART:20241027T010000
END:STANDARD
BEGIN:DAYLIGHT
TZOFFSETFROM:+0100
TZOFFSETTO:+0200
TZNAME:CEST
DTSTART:20250330T010000
END:DAYLIGHT
BEGIN:STANDARD
TZOFFSETFROM:+0200
TZOFFSETTO:+0100
TZNAME:CET
DTSTART:20251026T010000
END:STANDARD
BEGIN:DAYLIGHT
TZOFFSETFROM:+0100
TZOFFSETTO:+0200
TZNAME:CEST
DTSTART:20260329T010000
END:DAYLIGHT
BEGIN:STANDARD
TZOFFSETFROM:+0200
TZOFFSETTO:+0100
TZNAME:CET
DTSTART:20261025T010000
END:STANDARD
END:VTIMEZONE
BEGIN:VEVENT
DTSTART;TZID=Europe/Paris:20250624T090000
DTEND;TZID=Europe/Paris:20250624T130000
DTSTAMP:20260422T160001
CREATED:20250416T081738Z
LAST-MODIFIED:20250416T081738Z
UID:10002583-1750755600-1750770000@www.circuit-carole.com
SUMMARY:Roulage Mutuelle des Motards
DESCRIPTION:2 groupes de niveaux : Débutants\, Intermédiaires.
URL:https://www.circuit-carole.com/calendrier/roulage-mutuelle-des-motards-3/2025-06-24/1/
CATEGORIES:Location
ORGANIZER;CN="Assurance Mutuelle des Motards":MAILTO:event@amdm.fr
END:VEVENT
BEGIN:VEVENT
DTSTART;TZID=Europe/Paris:20250624T140000
DTEND;TZID=Europe/Paris:20250624T180000
DTSTAMP:20260422T160001
CREATED:20250416T081738Z
LAST-MODIFIED:20250416T081738Z
UID:10002584-1750773600-1750788000@www.circuit-carole.com
SUMMARY:Roulage Mutuelle des Motards
DESCRIPTION:2 groupes de niveaux : Débutants\, Intermédiaires.
URL:https://www.circuit-carole.com/calendrier/roulage-mutuelle-des-motards-3/2025-06-24/2/
CATEGORIES:Location
ORGANIZER;CN="Assurance Mutuelle des Motards":MAILTO:event@amdm.fr
END:VEVENT
END:VCALENDAR