BEGIN:VCALENDAR
VERSION:2.0
PRODID:-//Circuit Carole - ECPv6.15.18//NONSGML v1.0//EN
CALSCALE:GREGORIAN
METHOD:PUBLISH
X-ORIGINAL-URL:https://www.circuit-carole.com
X-WR-CALDESC:Évènements pour Circuit Carole
REFRESH-INTERVAL;VALUE=DURATION:PT1H
X-Robots-Tag:noindex
X-PUBLISHED-TTL:PT1H
BEGIN:VTIMEZONE
TZID:Europe/Paris
BEGIN:DAYLIGHT
TZOFFSETFROM:+0100
TZOFFSETTO:+0200
TZNAME:CEST
DTSTART:20240331T010000
END:DAYLIGHT
BEGIN:STANDARD
TZOFFSETFROM:+0200
TZOFFSETTO:+0100
TZNAME:CET
DTSTART:20241027T010000
END:STANDARD
BEGIN:DAYLIGHT
TZOFFSETFROM:+0100
TZOFFSETTO:+0200
TZNAME:CEST
DTSTART:20250330T010000
END:DAYLIGHT
BEGIN:STANDARD
TZOFFSETFROM:+0200
TZOFFSETTO:+0100
TZNAME:CET
DTSTART:20251026T010000
END:STANDARD
BEGIN:DAYLIGHT
TZOFFSETFROM:+0100
TZOFFSETTO:+0200
TZNAME:CEST
DTSTART:20260329T010000
END:DAYLIGHT
BEGIN:STANDARD
TZOFFSETFROM:+0200
TZOFFSETTO:+0100
TZNAME:CET
DTSTART:20261025T010000
END:STANDARD
END:VTIMEZONE
BEGIN:VEVENT
DTSTART;TZID=Europe/Paris:20250420T090000
DTEND;TZID=Europe/Paris:20250420T130000
DTSTAMP:20260422T172345
CREATED:20250117T103350Z
LAST-MODIFIED:20250117T103350Z
UID:10002703-1745139600-1745154000@www.circuit-carole.com
SUMMARY:Roulage Accès Piste
DESCRIPTION:4 groupes de niveaux : Débutants\, Intermédiaires\, Confirmés\, Pilotes.
URL:https://www.circuit-carole.com/calendrier/roulage-acces-piste-2/2025-04-20/1/
CATEGORIES:Location
ORGANIZER;CN="Acc%C3%A8s Piste":MAILTO:thomasfort71@hotmail.com
END:VEVENT
BEGIN:VEVENT
DTSTART;TZID=Europe/Paris:20250420T140000
DTEND;TZID=Europe/Paris:20250420T180000
DTSTAMP:20260422T172345
CREATED:20250117T103350Z
LAST-MODIFIED:20250117T103350Z
UID:10002704-1745157600-1745172000@www.circuit-carole.com
SUMMARY:Roulage Accès Piste
DESCRIPTION:4 groupes de niveaux : Débutants\, Intermédiaires\, Confirmés\, Pilotes.
URL:https://www.circuit-carole.com/calendrier/roulage-acces-piste-2/2025-04-20/2/
CATEGORIES:Location
ORGANIZER;CN="Acc%C3%A8s Piste":MAILTO:thomasfort71@hotmail.com
END:VEVENT
END:VCALENDAR