BEGIN:VCALENDAR
VERSION:2.0
PRODID:-//Circuit Carole - ECPv6.15.18//NONSGML v1.0//EN
CALSCALE:GREGORIAN
METHOD:PUBLISH
X-WR-CALNAME:Circuit Carole
X-ORIGINAL-URL:https://www.circuit-carole.com
X-WR-CALDESC:Évènements pour Circuit Carole
REFRESH-INTERVAL;VALUE=DURATION:PT1H
X-Robots-Tag:noindex
X-PUBLISHED-TTL:PT1H
BEGIN:VTIMEZONE
TZID:Europe/Paris
BEGIN:DAYLIGHT
TZOFFSETFROM:+0100
TZOFFSETTO:+0200
TZNAME:CEST
DTSTART:20250330T010000
END:DAYLIGHT
BEGIN:STANDARD
TZOFFSETFROM:+0200
TZOFFSETTO:+0100
TZNAME:CET
DTSTART:20251026T010000
END:STANDARD
BEGIN:DAYLIGHT
TZOFFSETFROM:+0100
TZOFFSETTO:+0200
TZNAME:CEST
DTSTART:20260329T010000
END:DAYLIGHT
BEGIN:STANDARD
TZOFFSETFROM:+0200
TZOFFSETTO:+0100
TZNAME:CET
DTSTART:20261025T010000
END:STANDARD
BEGIN:DAYLIGHT
TZOFFSETFROM:+0100
TZOFFSETTO:+0200
TZNAME:CEST
DTSTART:20270328T010000
END:DAYLIGHT
BEGIN:STANDARD
TZOFFSETFROM:+0200
TZOFFSETTO:+0100
TZNAME:CET
DTSTART:20271031T010000
END:STANDARD
END:VTIMEZONE
BEGIN:VEVENT
DTSTART;TZID=Europe/Paris:20260905T090000
DTEND;TZID=Europe/Paris:20260905T130000
DTSTAMP:20260420T084056
CREATED:20260108T134210Z
LAST-MODIFIED:20260108T134210Z
UID:10003687-1788598800-1788613200@www.circuit-carole.com
SUMMARY:Roulage LH Racing
DESCRIPTION:
URL:https://www.circuit-carole.com/calendrier/roulage-lh-racing/2026-09-05/1/
CATEGORIES:Location
ORGANIZER;CN="LH Racing":MAILTO:contact@teamlhracing.com
END:VEVENT
BEGIN:VEVENT
DTSTART;TZID=Europe/Paris:20260905T140000
DTEND;TZID=Europe/Paris:20260905T180000
DTSTAMP:20260420T084056
CREATED:20260108T134210Z
LAST-MODIFIED:20260108T134210Z
UID:10003688-1788616800-1788631200@www.circuit-carole.com
SUMMARY:Roulage LH Racing
DESCRIPTION:
URL:https://www.circuit-carole.com/calendrier/roulage-lh-racing/2026-09-05/2/
CATEGORIES:Location
ORGANIZER;CN="LH Racing":MAILTO:contact@teamlhracing.com
END:VEVENT
BEGIN:VEVENT
DTSTART;TZID=Europe/Paris:20260906T090000
DTEND;TZID=Europe/Paris:20260906T130000
DTSTAMP:20260420T084056
CREATED:20260127T102346Z
LAST-MODIFIED:20260127T102346Z
UID:10003731-1788685200-1788699600@www.circuit-carole.com
SUMMARY:Roulage Avenir Moto
DESCRIPTION:
URL:https://www.circuit-carole.com/calendrier/roulage-avenir-moto-2/2026-09-06/1/
CATEGORIES:Location
ORGANIZER;CN="Avenir Moto":MAILTO:contact@avenir-moto.com
END:VEVENT
BEGIN:VEVENT
DTSTART;TZID=Europe/Paris:20260906T140000
DTEND;TZID=Europe/Paris:20260906T180000
DTSTAMP:20260420T084056
CREATED:20260127T102346Z
LAST-MODIFIED:20260127T102346Z
UID:10003732-1788703200-1788717600@www.circuit-carole.com
SUMMARY:Roulage Avenir Moto
DESCRIPTION:
URL:https://www.circuit-carole.com/calendrier/roulage-avenir-moto-2/2026-09-06/2/
CATEGORIES:Location
ORGANIZER;CN="Avenir Moto":MAILTO:contact@avenir-moto.com
END:VEVENT
BEGIN:VEVENT
DTSTART;TZID=Europe/Paris:20260907T090000
DTEND;TZID=Europe/Paris:20260907T130000
DTSTAMP:20260420T084056
CREATED:20260129T150157Z
LAST-MODIFIED:20260129T150157Z
UID:10003737-1788771600-1788786000@www.circuit-carole.com
SUMMARY:Roulage Pilote Moto Production
DESCRIPTION:
URL:https://www.circuit-carole.com/calendrier/roulage-pilote-moto-production/2026-09-07/1/
CATEGORIES:Location
ORGANIZER;CN="Pilote Moto Production":MAILTO:pilotemotoproduction@gmail.com
END:VEVENT
BEGIN:VEVENT
DTSTART;TZID=Europe/Paris:20260907T140000
DTEND;TZID=Europe/Paris:20260907T180000
DTSTAMP:20260420T084056
CREATED:20260129T150157Z
LAST-MODIFIED:20260129T150157Z
UID:10003738-1788789600-1788804000@www.circuit-carole.com
SUMMARY:Roulage Pilote Moto Production
DESCRIPTION:
URL:https://www.circuit-carole.com/calendrier/roulage-pilote-moto-production/2026-09-07/2/
CATEGORIES:Location
ORGANIZER;CN="Pilote Moto Production":MAILTO:pilotemotoproduction@gmail.com
END:VEVENT
BEGIN:VEVENT
DTSTART;TZID=Europe/Paris:20260914T090000
DTEND;TZID=Europe/Paris:20260914T123000
DTSTAMP:20260420T084056
CREATED:20251204T123417Z
LAST-MODIFIED:20260303T134823Z
UID:10003481-1789376400-1789389000@www.circuit-carole.com
SUMMARY:Stage de pilotage
DESCRIPTION:Niveau : débutant ou pilote occasionnel sur la piste. \nÉducateurs : Christophe GUYOT et Thibaut NAGORSKI. \nLocations de motos R3\, R7 et d’équipements possibles. \nAttention\, places limitées ! \n\nPlus d’infos : https://www.circuit-carole.com/decouvrir-la-piste/
URL:https://www.circuit-carole.com/calendrier/stage-de-pilotage-14/2026-09-14/1/
CATEGORIES:Location
ORGANIZER;CN="Association de Gestion du Circuit Carole":MAILTO:info@circuit-carole.com
END:VEVENT
BEGIN:VEVENT
DTSTART;TZID=Europe/Paris:20260914T140000
DTEND;TZID=Europe/Paris:20260914T170000
DTSTAMP:20260420T084056
CREATED:20251204T123417Z
LAST-MODIFIED:20260303T134823Z
UID:10003482-1789394400-1789405200@www.circuit-carole.com
SUMMARY:Stage de pilotage
DESCRIPTION:Niveau : débutant ou pilote occasionnel sur la piste. \nÉducateurs : Christophe GUYOT et Thibaut NAGORSKI. \nLocations de motos R3\, R7 et d’équipements possibles. \nAttention\, places limitées ! \n\nPlus d’infos : https://www.circuit-carole.com/decouvrir-la-piste/
URL:https://www.circuit-carole.com/calendrier/stage-de-pilotage-14/2026-09-14/2/
CATEGORIES:Location
ORGANIZER;CN="Association de Gestion du Circuit Carole":MAILTO:info@circuit-carole.com
END:VEVENT
BEGIN:VEVENT
DTSTART;TZID=Europe/Paris:20260919T090000
DTEND;TZID=Europe/Paris:20260919T130000
DTSTAMP:20260420T084056
CREATED:20260115T130814Z
LAST-MODIFIED:20260115T130814Z
UID:10003702-1789808400-1789822800@www.circuit-carole.com
SUMMARY:Roulage Carole Moto Club
DESCRIPTION:
URL:https://www.circuit-carole.com/calendrier/roulage-carole-moto-club-3/2026-09-19/
CATEGORIES:Location
ORGANIZER;CN="Carole Moto Club":MAILTO:lefel.dimitri@hotmail.fr
END:VEVENT
BEGIN:VEVENT
DTSTART;TZID=Europe/Paris:20260928T090000
DTEND;TZID=Europe/Paris:20260928T130000
DTSTAMP:20260420T084056
CREATED:20260119T145500Z
LAST-MODIFIED:20260119T145500Z
UID:10003720-1790586000-1790600400@www.circuit-carole.com
SUMMARY:Stage Monneret Formation
DESCRIPTION:
URL:https://www.circuit-carole.com/calendrier/stage-monneret-formation/2026-09-28/1/
CATEGORIES:Location
ORGANIZER;CN="Monneret Formation":MAILTO:contact@easymonneret.com
END:VEVENT
BEGIN:VEVENT
DTSTART;TZID=Europe/Paris:20260928T140000
DTEND;TZID=Europe/Paris:20260928T180000
DTSTAMP:20260420T084056
CREATED:20260119T145500Z
LAST-MODIFIED:20260119T145500Z
UID:10003721-1790604000-1790618400@www.circuit-carole.com
SUMMARY:Stage Monneret Formation
DESCRIPTION:
URL:https://www.circuit-carole.com/calendrier/stage-monneret-formation/2026-09-28/2/
CATEGORIES:Location
ORGANIZER;CN="Monneret Formation":MAILTO:contact@easymonneret.com
END:VEVENT
END:VCALENDAR