BEGIN:VCALENDAR
VERSION:2.0
PRODID:-//Circuit Carole - ECPv6.15.18//NONSGML v1.0//EN
CALSCALE:GREGORIAN
METHOD:PUBLISH
X-ORIGINAL-URL:https://www.circuit-carole.com
X-WR-CALDESC:Évènements pour Circuit Carole
REFRESH-INTERVAL;VALUE=DURATION:PT1H
X-Robots-Tag:noindex
X-PUBLISHED-TTL:PT1H
BEGIN:VTIMEZONE
TZID:Europe/Paris
BEGIN:DAYLIGHT
TZOFFSETFROM:+0100
TZOFFSETTO:+0200
TZNAME:CEST
DTSTART:20250330T010000
END:DAYLIGHT
BEGIN:STANDARD
TZOFFSETFROM:+0200
TZOFFSETTO:+0100
TZNAME:CET
DTSTART:20251026T010000
END:STANDARD
BEGIN:DAYLIGHT
TZOFFSETFROM:+0100
TZOFFSETTO:+0200
TZNAME:CEST
DTSTART:20260329T010000
END:DAYLIGHT
BEGIN:STANDARD
TZOFFSETFROM:+0200
TZOFFSETTO:+0100
TZNAME:CET
DTSTART:20261025T010000
END:STANDARD
BEGIN:DAYLIGHT
TZOFFSETFROM:+0100
TZOFFSETTO:+0200
TZNAME:CEST
DTSTART:20270328T010000
END:DAYLIGHT
BEGIN:STANDARD
TZOFFSETFROM:+0200
TZOFFSETTO:+0100
TZNAME:CET
DTSTART:20271031T010000
END:STANDARD
END:VTIMEZONE
BEGIN:VEVENT
DTSTART;TZID=Europe/Paris:20260801T090000
DTEND;TZID=Europe/Paris:20260801T130000
DTSTAMP:20260420T072520
CREATED:20260122T091026Z
LAST-MODIFIED:20260122T091026Z
UID:10003722-1785574800-1785589200@www.circuit-carole.com
SUMMARY:Roulage Jim Show
DESCRIPTION:
URL:https://www.circuit-carole.com/calendrier/roulage-jim-show/2026-08-01/1/
CATEGORIES:Location
ORGANIZER;CN="Association Jim Show":MAILTO:bigjim76@hotmail.fr
END:VEVENT
BEGIN:VEVENT
DTSTART;TZID=Europe/Paris:20260801T140000
DTEND;TZID=Europe/Paris:20260801T180000
DTSTAMP:20260420T072520
CREATED:20260122T091026Z
LAST-MODIFIED:20260122T091026Z
UID:10003723-1785592800-1785607200@www.circuit-carole.com
SUMMARY:Roulage Jim Show
DESCRIPTION:
URL:https://www.circuit-carole.com/calendrier/roulage-jim-show/2026-08-01/2/
CATEGORIES:Location
ORGANIZER;CN="Association Jim Show":MAILTO:bigjim76@hotmail.fr
END:VEVENT
BEGIN:VEVENT
DTSTART;TZID=Europe/Paris:20260802T090000
DTEND;TZID=Europe/Paris:20260802T130000
DTSTAMP:20260420T072520
CREATED:20260122T091026Z
LAST-MODIFIED:20260122T091026Z
UID:10003724-1785661200-1785675600@www.circuit-carole.com
SUMMARY:Roulage Jim Show
DESCRIPTION:
URL:https://www.circuit-carole.com/calendrier/roulage-jim-show/2026-08-02/1/
CATEGORIES:Location
ORGANIZER;CN="Association Jim Show":MAILTO:bigjim76@hotmail.fr
END:VEVENT
BEGIN:VEVENT
DTSTART;TZID=Europe/Paris:20260802T140000
DTEND;TZID=Europe/Paris:20260802T180000
DTSTAMP:20260420T072520
CREATED:20260122T091026Z
LAST-MODIFIED:20260122T091026Z
UID:10003725-1785679200-1785693600@www.circuit-carole.com
SUMMARY:Roulage Jim Show
DESCRIPTION:
URL:https://www.circuit-carole.com/calendrier/roulage-jim-show/2026-08-02/2/
CATEGORIES:Location
ORGANIZER;CN="Association Jim Show":MAILTO:bigjim76@hotmail.fr
END:VEVENT
BEGIN:VEVENT
DTSTART;TZID=Europe/Paris:20260808T090000
DTEND;TZID=Europe/Paris:20260808T130000
DTSTAMP:20260420T072520
CREATED:20260202T140716Z
LAST-MODIFIED:20260202T140716Z
UID:10003739-1786179600-1786194000@www.circuit-carole.com
SUMMARY:Roulage Track Days
DESCRIPTION:
URL:https://www.circuit-carole.com/calendrier/roulage-track-days-3/2026-08-08/1/
CATEGORIES:Location
ORGANIZER;CN="Track Days":MAILTO:info@trackdays.be
END:VEVENT
BEGIN:VEVENT
DTSTART;TZID=Europe/Paris:20260808T140000
DTEND;TZID=Europe/Paris:20260808T180000
DTSTAMP:20260420T072520
CREATED:20260202T140716Z
LAST-MODIFIED:20260202T140716Z
UID:10003740-1786197600-1786212000@www.circuit-carole.com
SUMMARY:Roulage Track Days
DESCRIPTION:
URL:https://www.circuit-carole.com/calendrier/roulage-track-days-3/2026-08-08/2/
CATEGORIES:Location
ORGANIZER;CN="Track Days":MAILTO:info@trackdays.be
END:VEVENT
BEGIN:VEVENT
DTSTART;TZID=Europe/Paris:20260809T090000
DTEND;TZID=Europe/Paris:20260809T130000
DTSTAMP:20260420T072520
CREATED:20260202T140716Z
LAST-MODIFIED:20260202T140716Z
UID:10003741-1786266000-1786280400@www.circuit-carole.com
SUMMARY:Roulage Track Days
DESCRIPTION:
URL:https://www.circuit-carole.com/calendrier/roulage-track-days-3/2026-08-09/1/
CATEGORIES:Location
ORGANIZER;CN="Track Days":MAILTO:info@trackdays.be
END:VEVENT
BEGIN:VEVENT
DTSTART;TZID=Europe/Paris:20260809T140000
DTEND;TZID=Europe/Paris:20260809T180000
DTSTAMP:20260420T072520
CREATED:20260202T140716Z
LAST-MODIFIED:20260202T140716Z
UID:10003742-1786284000-1786298400@www.circuit-carole.com
SUMMARY:Roulage Track Days
DESCRIPTION:
URL:https://www.circuit-carole.com/calendrier/roulage-track-days-3/2026-08-09/2/
CATEGORIES:Location
ORGANIZER;CN="Track Days":MAILTO:info@trackdays.be
END:VEVENT
BEGIN:VEVENT
DTSTART;TZID=Europe/Paris:20260815T090000
DTEND;TZID=Europe/Paris:20260815T130000
DTSTAMP:20260420T072520
CREATED:20260112T144925Z
LAST-MODIFIED:20260112T144925Z
UID:10003699-1786784400-1786798800@www.circuit-carole.com
SUMMARY:Roulage Moto Sport 76
DESCRIPTION:
URL:https://www.circuit-carole.com/calendrier/roulage-moto-sport-76-3/2026-08-15/1/
CATEGORIES:Location
ORGANIZER;CN="Moto Sport 76":MAILTO:marc.wormser@free.fr
END:VEVENT
BEGIN:VEVENT
DTSTART;TZID=Europe/Paris:20260815T140000
DTEND;TZID=Europe/Paris:20260815T180000
DTSTAMP:20260420T072520
CREATED:20260112T144925Z
LAST-MODIFIED:20260112T144925Z
UID:10003700-1786802400-1786816800@www.circuit-carole.com
SUMMARY:Roulage Moto Sport 76
DESCRIPTION:
URL:https://www.circuit-carole.com/calendrier/roulage-moto-sport-76-3/2026-08-15/2/
CATEGORIES:Location
ORGANIZER;CN="Moto Sport 76":MAILTO:marc.wormser@free.fr
END:VEVENT
BEGIN:VEVENT
DTSTART;TZID=Europe/Paris:20260816T090000
DTEND;TZID=Europe/Paris:20260816T130000
DTSTAMP:20260420T072520
CREATED:20260108T134210Z
LAST-MODIFIED:20260108T134210Z
UID:10003685-1786870800-1786885200@www.circuit-carole.com
SUMMARY:Roulage LH Racing
DESCRIPTION:
URL:https://www.circuit-carole.com/calendrier/roulage-lh-racing/2026-08-16/1/
CATEGORIES:Location
ORGANIZER;CN="LH Racing":MAILTO:contact@teamlhracing.com
END:VEVENT
BEGIN:VEVENT
DTSTART;TZID=Europe/Paris:20260816T140000
DTEND;TZID=Europe/Paris:20260816T180000
DTSTAMP:20260420T072520
CREATED:20260108T134210Z
LAST-MODIFIED:20260108T134210Z
UID:10003686-1786888800-1786903200@www.circuit-carole.com
SUMMARY:Roulage LH Racing
DESCRIPTION:
URL:https://www.circuit-carole.com/calendrier/roulage-lh-racing/2026-08-16/2/
CATEGORIES:Location
ORGANIZER;CN="LH Racing":MAILTO:contact@teamlhracing.com
END:VEVENT
BEGIN:VEVENT
DTSTART;TZID=Europe/Paris:20260822T090000
DTEND;TZID=Europe/Paris:20260822T120000
DTSTAMP:20260420T072520
CREATED:20260218T152018Z
LAST-MODIFIED:20260218T152018Z
UID:10003772-1787389200-1787400000@www.circuit-carole.com
SUMMARY:Roulage conseils féminin
DESCRIPTION:Roulages conseils exclusivement réservés aux femmes débutantes. \nÉducateurs : Joey COLLET et Geoffroy DEHAYE. \n\nLocations de motos R3 et d’équipements possibles. \nAttention\, places limitées !
URL:https://www.circuit-carole.com/calendrier/roulage-conseils-feminin-3/2026-08-22/
CATEGORIES:Location
ORGANIZER;CN="Association de Gestion du Circuit Carole":MAILTO:info@circuit-carole.com
END:VEVENT
BEGIN:VEVENT
DTSTART;TZID=Europe/Paris:20260823T090000
DTEND;TZID=Europe/Paris:20260823T120000
DTSTAMP:20260420T072520
CREATED:20260218T152018Z
LAST-MODIFIED:20260218T152018Z
UID:10003773-1787475600-1787486400@www.circuit-carole.com
SUMMARY:Roulage conseils féminin
DESCRIPTION:Roulages conseils exclusivement réservés aux femmes débutantes. \nÉducateurs : Joey COLLET et Geoffroy DEHAYE. \n\nLocations de motos R3 et d’équipements possibles. \nAttention\, places limitées !
URL:https://www.circuit-carole.com/calendrier/roulage-conseils-feminin-3/2026-08-23/
CATEGORIES:Location
ORGANIZER;CN="Association de Gestion du Circuit Carole":MAILTO:info@circuit-carole.com
END:VEVENT
BEGIN:VEVENT
DTSTART;TZID=Europe/Paris:20260828T090000
DTEND;TZID=Europe/Paris:20260828T123000
DTSTAMP:20260420T072520
CREATED:20251204T123246Z
LAST-MODIFIED:20251204T123246Z
UID:10003479-1787907600-1787920200@www.circuit-carole.com
SUMMARY:Stage de pilotage
DESCRIPTION:Niveau : débutant ou pilote occasionnel sur la piste. \nÉducateur : à confirmer. \nLocations de motos R3\, R7 et d’équipements possibles. \nAttention\, places limitées ! \n\nPlus d’infos : https://www.circuit-carole.com/decouvrir-la-piste/
URL:https://www.circuit-carole.com/calendrier/stage-de-pilotage-13/2026-08-28/1/
CATEGORIES:Location
ORGANIZER;CN="Association de Gestion du Circuit Carole":MAILTO:info@circuit-carole.com
END:VEVENT
BEGIN:VEVENT
DTSTART;TZID=Europe/Paris:20260828T140000
DTEND;TZID=Europe/Paris:20260828T170000
DTSTAMP:20260420T072520
CREATED:20251204T123246Z
LAST-MODIFIED:20251204T123246Z
UID:10003480-1787925600-1787936400@www.circuit-carole.com
SUMMARY:Stage de pilotage
DESCRIPTION:Niveau : débutant ou pilote occasionnel sur la piste. \nÉducateur : à confirmer. \nLocations de motos R3\, R7 et d’équipements possibles. \nAttention\, places limitées ! \n\nPlus d’infos : https://www.circuit-carole.com/decouvrir-la-piste/
URL:https://www.circuit-carole.com/calendrier/stage-de-pilotage-13/2026-08-28/2/
CATEGORIES:Location
ORGANIZER;CN="Association de Gestion du Circuit Carole":MAILTO:info@circuit-carole.com
END:VEVENT
END:VCALENDAR