BEGIN:VCALENDAR
VERSION:2.0
PRODID:-//Circuit Carole - ECPv6.15.18//NONSGML v1.0//EN
CALSCALE:GREGORIAN
METHOD:PUBLISH
X-ORIGINAL-URL:https://www.circuit-carole.com
X-WR-CALDESC:Évènements pour Circuit Carole
REFRESH-INTERVAL;VALUE=DURATION:PT1H
X-Robots-Tag:noindex
X-PUBLISHED-TTL:PT1H
BEGIN:VTIMEZONE
TZID:Europe/Paris
BEGIN:DAYLIGHT
TZOFFSETFROM:+0100
TZOFFSETTO:+0200
TZNAME:CEST
DTSTART:20250330T010000
END:DAYLIGHT
BEGIN:STANDARD
TZOFFSETFROM:+0200
TZOFFSETTO:+0100
TZNAME:CET
DTSTART:20251026T010000
END:STANDARD
BEGIN:DAYLIGHT
TZOFFSETFROM:+0100
TZOFFSETTO:+0200
TZNAME:CEST
DTSTART:20260329T010000
END:DAYLIGHT
BEGIN:STANDARD
TZOFFSETFROM:+0200
TZOFFSETTO:+0100
TZNAME:CET
DTSTART:20261025T010000
END:STANDARD
BEGIN:DAYLIGHT
TZOFFSETFROM:+0100
TZOFFSETTO:+0200
TZNAME:CEST
DTSTART:20270328T010000
END:DAYLIGHT
BEGIN:STANDARD
TZOFFSETFROM:+0200
TZOFFSETTO:+0100
TZNAME:CET
DTSTART:20271031T010000
END:STANDARD
END:VTIMEZONE
BEGIN:VEVENT
DTSTART;TZID=Europe/Paris:20260704T090000
DTEND;TZID=Europe/Paris:20260704T130000
DTSTAMP:20260420T055951
CREATED:20260129T150157Z
LAST-MODIFIED:20260129T150157Z
UID:10003735-1783155600-1783170000@www.circuit-carole.com
SUMMARY:Roulage Pilote Moto Production
DESCRIPTION:
URL:https://www.circuit-carole.com/calendrier/roulage-pilote-moto-production/2026-07-04/1/
CATEGORIES:Location
ORGANIZER;CN="Pilote Moto Production":MAILTO:pilotemotoproduction@gmail.com
END:VEVENT
BEGIN:VEVENT
DTSTART;TZID=Europe/Paris:20260704T140000
DTEND;TZID=Europe/Paris:20260704T180000
DTSTAMP:20260420T055951
CREATED:20260129T150157Z
LAST-MODIFIED:20260129T150157Z
UID:10003736-1783173600-1783188000@www.circuit-carole.com
SUMMARY:Roulage Pilote Moto Production
DESCRIPTION:
URL:https://www.circuit-carole.com/calendrier/roulage-pilote-moto-production/2026-07-04/2/
CATEGORIES:Location
ORGANIZER;CN="Pilote Moto Production":MAILTO:pilotemotoproduction@gmail.com
END:VEVENT
BEGIN:VEVENT
DTSTART;TZID=Europe/Paris:20260706T090000
DTEND;TZID=Europe/Paris:20260706T130000
DTSTAMP:20260420T055951
CREATED:20260313T154012Z
LAST-MODIFIED:20260313T154012Z
UID:10003878-1783328400-1783342800@www.circuit-carole.com
SUMMARY:Roulage AAPMD
DESCRIPTION:
URL:https://www.circuit-carole.com/calendrier/roulage-aapmd-2/2026-07-06/1/
CATEGORIES:Location
ORGANIZER;CN="Association Aide aux Pilotes Motos D%C3%A9butants":MAILTO:skymotos@skymotos.fr
END:VEVENT
BEGIN:VEVENT
DTSTART;TZID=Europe/Paris:20260706T140000
DTEND;TZID=Europe/Paris:20260706T180000
DTSTAMP:20260420T055951
CREATED:20260313T154012Z
LAST-MODIFIED:20260313T154012Z
UID:10003879-1783346400-1783360800@www.circuit-carole.com
SUMMARY:Roulage AAPMD
DESCRIPTION:
URL:https://www.circuit-carole.com/calendrier/roulage-aapmd-2/2026-07-06/2/
CATEGORIES:Location
ORGANIZER;CN="Association Aide aux Pilotes Motos D%C3%A9butants":MAILTO:skymotos@skymotos.fr
END:VEVENT
BEGIN:VEVENT
DTSTART;TZID=Europe/Paris:20260709T090000
DTEND;TZID=Europe/Paris:20260709T123000
DTSTAMP:20260420T055951
CREATED:20251204T122830Z
LAST-MODIFIED:20260218T151705Z
UID:10003477-1783587600-1783600200@www.circuit-carole.com
SUMMARY:Stage de pilotage
DESCRIPTION:Niveau : débutant ou pilote occasionnel sur la piste. \nÉducateur : Geoffroy DEHAYE. \nLocations de motos R3\, R7 et d’équipements possibles. \nAttention\, places limitées ! \n\nPlus d’infos : https://www.circuit-carole.com/decouvrir-la-piste/
URL:https://www.circuit-carole.com/calendrier/stage-de-pilotage-12/2026-07-09/1/
CATEGORIES:Location
ORGANIZER;CN="Association de Gestion du Circuit Carole":MAILTO:info@circuit-carole.com
END:VEVENT
BEGIN:VEVENT
DTSTART;TZID=Europe/Paris:20260709T140000
DTEND;TZID=Europe/Paris:20260709T170000
DTSTAMP:20260420T055951
CREATED:20251204T122830Z
LAST-MODIFIED:20260218T151705Z
UID:10003478-1783605600-1783616400@www.circuit-carole.com
SUMMARY:Stage de pilotage
DESCRIPTION:Niveau : débutant ou pilote occasionnel sur la piste. \nÉducateur : Geoffroy DEHAYE. \nLocations de motos R3\, R7 et d’équipements possibles. \nAttention\, places limitées ! \n\nPlus d’infos : https://www.circuit-carole.com/decouvrir-la-piste/
URL:https://www.circuit-carole.com/calendrier/stage-de-pilotage-12/2026-07-09/2/
CATEGORIES:Location
ORGANIZER;CN="Association de Gestion du Circuit Carole":MAILTO:info@circuit-carole.com
END:VEVENT
BEGIN:VEVENT
DTSTART;TZID=Europe/Paris:20260713T090000
DTEND;TZID=Europe/Paris:20260713T130000
DTSTAMP:20260420T055951
CREATED:20260210T093815Z
LAST-MODIFIED:20260210T093815Z
UID:10003745-1783933200-1783947600@www.circuit-carole.com
SUMMARY:Roulage PK Racing
DESCRIPTION:
URL:https://www.circuit-carole.com/calendrier/roulage-pk-racing-3/2026-07-13/1/
CATEGORIES:Location
ORGANIZER;CN="PK Racing Days":MAILTO:pkracingdays@gmail.com
END:VEVENT
BEGIN:VEVENT
DTSTART;TZID=Europe/Paris:20260713T140000
DTEND;TZID=Europe/Paris:20260713T180000
DTSTAMP:20260420T055951
CREATED:20260210T093815Z
LAST-MODIFIED:20260210T093815Z
UID:10003746-1783951200-1783965600@www.circuit-carole.com
SUMMARY:Roulage PK Racing
DESCRIPTION:
URL:https://www.circuit-carole.com/calendrier/roulage-pk-racing-3/2026-07-13/2/
CATEGORIES:Location
ORGANIZER;CN="PK Racing Days":MAILTO:pkracingdays@gmail.com
END:VEVENT
BEGIN:VEVENT
DTSTART;TZID=Europe/Paris:20260714T090000
DTEND;TZID=Europe/Paris:20260714T130000
DTSTAMP:20260420T055951
CREATED:20260112T144925Z
LAST-MODIFIED:20260112T144925Z
UID:10003697-1784019600-1784034000@www.circuit-carole.com
SUMMARY:Roulage Moto Sport 76
DESCRIPTION:
URL:https://www.circuit-carole.com/calendrier/roulage-moto-sport-76-3/2026-07-14/1/
CATEGORIES:Location
ORGANIZER;CN="Moto Sport 76":MAILTO:marc.wormser@free.fr
END:VEVENT
BEGIN:VEVENT
DTSTART;TZID=Europe/Paris:20260714T140000
DTEND;TZID=Europe/Paris:20260714T180000
DTSTAMP:20260420T055951
CREATED:20260112T144925Z
LAST-MODIFIED:20260112T144925Z
UID:10003698-1784037600-1784052000@www.circuit-carole.com
SUMMARY:Roulage Moto Sport 76
DESCRIPTION:
URL:https://www.circuit-carole.com/calendrier/roulage-moto-sport-76-3/2026-07-14/2/
CATEGORIES:Location
ORGANIZER;CN="Moto Sport 76":MAILTO:marc.wormser@free.fr
END:VEVENT
BEGIN:VEVENT
DTSTART;TZID=Europe/Paris:20260718T090000
DTEND;TZID=Europe/Paris:20260718T130000
DTSTAMP:20260420T055951
CREATED:20260108T143229Z
LAST-MODIFIED:20260108T143229Z
UID:10003689-1784365200-1784379600@www.circuit-carole.com
SUMMARY:Roulage Inter-Track
DESCRIPTION:
URL:https://www.circuit-carole.com/calendrier/roulage-inter-track/2026-07-18/1/
CATEGORIES:Location
ORGANIZER;CN="Inter Track":MAILTO:info@inter-track.be
END:VEVENT
BEGIN:VEVENT
DTSTART;TZID=Europe/Paris:20260718T140000
DTEND;TZID=Europe/Paris:20260718T180000
DTSTAMP:20260420T055951
CREATED:20260108T143229Z
LAST-MODIFIED:20260108T143229Z
UID:10003690-1784383200-1784397600@www.circuit-carole.com
SUMMARY:Roulage Inter-Track
DESCRIPTION:
URL:https://www.circuit-carole.com/calendrier/roulage-inter-track/2026-07-18/2/
CATEGORIES:Location
ORGANIZER;CN="Inter Track":MAILTO:info@inter-track.be
END:VEVENT
BEGIN:VEVENT
DTSTART;TZID=Europe/Paris:20260719T090000
DTEND;TZID=Europe/Paris:20260719T130000
DTSTAMP:20260420T055951
CREATED:20260108T143229Z
LAST-MODIFIED:20260108T143229Z
UID:10003691-1784451600-1784466000@www.circuit-carole.com
SUMMARY:Roulage Inter-Track
DESCRIPTION:
URL:https://www.circuit-carole.com/calendrier/roulage-inter-track/2026-07-19/1/
CATEGORIES:Location
ORGANIZER;CN="Inter Track":MAILTO:info@inter-track.be
END:VEVENT
BEGIN:VEVENT
DTSTART;TZID=Europe/Paris:20260719T140000
DTEND;TZID=Europe/Paris:20260719T180000
DTSTAMP:20260420T055951
CREATED:20260108T143229Z
LAST-MODIFIED:20260108T143229Z
UID:10003692-1784469600-1784484000@www.circuit-carole.com
SUMMARY:Roulage Inter-Track
DESCRIPTION:
URL:https://www.circuit-carole.com/calendrier/roulage-inter-track/2026-07-19/2/
CATEGORIES:Location
ORGANIZER;CN="Inter Track":MAILTO:info@inter-track.be
END:VEVENT
BEGIN:VEVENT
DTSTART;TZID=Europe/Paris:20260720T090000
DTEND;TZID=Europe/Paris:20260720T130000
DTSTAMP:20260420T055951
CREATED:20260119T133442Z
LAST-MODIFIED:20260119T133442Z
UID:10003712-1784538000-1784552400@www.circuit-carole.com
SUMMARY:Roulage Riding Sensation
DESCRIPTION:
URL:https://www.circuit-carole.com/calendrier/roulage-riding-sensation-2/2026-07-20/1/
CATEGORIES:Location
ORGANIZER;CN="Riding Sensation":MAILTO:infos@riding-sensation.fr
END:VEVENT
BEGIN:VEVENT
DTSTART;TZID=Europe/Paris:20260720T140000
DTEND;TZID=Europe/Paris:20260720T180000
DTSTAMP:20260420T055951
CREATED:20260119T133442Z
LAST-MODIFIED:20260119T133442Z
UID:10003713-1784556000-1784570400@www.circuit-carole.com
SUMMARY:Roulage Riding Sensation
DESCRIPTION:
URL:https://www.circuit-carole.com/calendrier/roulage-riding-sensation-2/2026-07-20/2/
CATEGORIES:Location
ORGANIZER;CN="Riding Sensation":MAILTO:infos@riding-sensation.fr
END:VEVENT
BEGIN:VEVENT
DTSTART;TZID=Europe/Paris:20260725T090000
DTEND;TZID=Europe/Paris:20260725T130000
DTSTAMP:20260420T055951
CREATED:20260127T102103Z
LAST-MODIFIED:20260127T102103Z
UID:10003728-1784970000-1784984400@www.circuit-carole.com
SUMMARY:Roulage Avenir Moto
DESCRIPTION:
URL:https://www.circuit-carole.com/calendrier/roulage-avenir-moto/2026-07-25/
CATEGORIES:Location
ORGANIZER;CN="Avenir Moto":MAILTO:contact@avenir-moto.com
END:VEVENT
BEGIN:VEVENT
DTSTART;TZID=Europe/Paris:20260727T090000
DTEND;TZID=Europe/Paris:20260727T130000
DTSTAMP:20260420T055951
CREATED:20260216T103446Z
LAST-MODIFIED:20260216T103446Z
UID:10003763-1785142800-1785157200@www.circuit-carole.com
SUMMARY:Roulage privé
DESCRIPTION:
URL:https://www.circuit-carole.com/calendrier/roulage-prive-24/2026-07-27/1/
CATEGORIES:Location
END:VEVENT
BEGIN:VEVENT
DTSTART;TZID=Europe/Paris:20260727T140000
DTEND;TZID=Europe/Paris:20260727T180000
DTSTAMP:20260420T055951
CREATED:20260216T103446Z
LAST-MODIFIED:20260216T103446Z
UID:10003764-1785160800-1785175200@www.circuit-carole.com
SUMMARY:Roulage privé
DESCRIPTION:
URL:https://www.circuit-carole.com/calendrier/roulage-prive-24/2026-07-27/2/
CATEGORIES:Location
END:VEVENT
BEGIN:VEVENT
DTSTART;TZID=Europe/Paris:20260728T090000
DTEND;TZID=Europe/Paris:20260728T130000
DTSTAMP:20260420T055951
CREATED:20260216T103446Z
LAST-MODIFIED:20260216T103446Z
UID:10003765-1785229200-1785243600@www.circuit-carole.com
SUMMARY:Roulage privé
DESCRIPTION:
URL:https://www.circuit-carole.com/calendrier/roulage-prive-24/2026-07-28/1/
CATEGORIES:Location
END:VEVENT
BEGIN:VEVENT
DTSTART;TZID=Europe/Paris:20260728T140000
DTEND;TZID=Europe/Paris:20260728T180000
DTSTAMP:20260420T055951
CREATED:20260216T103446Z
LAST-MODIFIED:20260216T103446Z
UID:10003766-1785247200-1785261600@www.circuit-carole.com
SUMMARY:Roulage privé
DESCRIPTION:
URL:https://www.circuit-carole.com/calendrier/roulage-prive-24/2026-07-28/2/
CATEGORIES:Location
END:VEVENT
END:VCALENDAR