BEGIN:VCALENDAR
VERSION:2.0
PRODID:-//Circuit Carole - ECPv6.15.18//NONSGML v1.0//EN
CALSCALE:GREGORIAN
METHOD:PUBLISH
X-WR-CALNAME:Circuit Carole
X-ORIGINAL-URL:https://www.circuit-carole.com
X-WR-CALDESC:Évènements pour Circuit Carole
REFRESH-INTERVAL;VALUE=DURATION:PT1H
X-Robots-Tag:noindex
X-PUBLISHED-TTL:PT1H
BEGIN:VTIMEZONE
TZID:Europe/Paris
BEGIN:DAYLIGHT
TZOFFSETFROM:+0100
TZOFFSETTO:+0200
TZNAME:CEST
DTSTART:20250330T010000
END:DAYLIGHT
BEGIN:STANDARD
TZOFFSETFROM:+0200
TZOFFSETTO:+0100
TZNAME:CET
DTSTART:20251026T010000
END:STANDARD
BEGIN:DAYLIGHT
TZOFFSETFROM:+0100
TZOFFSETTO:+0200
TZNAME:CEST
DTSTART:20260329T010000
END:DAYLIGHT
BEGIN:STANDARD
TZOFFSETFROM:+0200
TZOFFSETTO:+0100
TZNAME:CET
DTSTART:20261025T010000
END:STANDARD
BEGIN:DAYLIGHT
TZOFFSETFROM:+0100
TZOFFSETTO:+0200
TZNAME:CEST
DTSTART:20270328T010000
END:DAYLIGHT
BEGIN:STANDARD
TZOFFSETFROM:+0200
TZOFFSETTO:+0100
TZNAME:CET
DTSTART:20271031T010000
END:STANDARD
END:VTIMEZONE
BEGIN:VEVENT
DTSTART;TZID=Europe/Paris:20260501T090000
DTEND;TZID=Europe/Paris:20260501T130000
DTSTAMP:20260421T115444
CREATED:20260218T145031Z
LAST-MODIFIED:20260218T145031Z
UID:10003768-1777626000-1777640400@www.circuit-carole.com
SUMMARY:Roulage Slider Endurance
DESCRIPTION:
URL:https://www.circuit-carole.com/calendrier/roulage-slider-endurance-3/2026-05-01/1/
CATEGORIES:Location
ORGANIZER;CN="Association Slider Endurance":MAILTO:ml.slider.endurance@free.fr
END:VEVENT
BEGIN:VEVENT
DTSTART;TZID=Europe/Paris:20260501T140000
DTEND;TZID=Europe/Paris:20260501T180000
DTSTAMP:20260421T115444
CREATED:20260218T145031Z
LAST-MODIFIED:20260218T145031Z
UID:10003769-1777644000-1777658400@www.circuit-carole.com
SUMMARY:Roulage Slider Endurance
DESCRIPTION:
URL:https://www.circuit-carole.com/calendrier/roulage-slider-endurance-3/2026-05-01/2/
CATEGORIES:Location
ORGANIZER;CN="Association Slider Endurance":MAILTO:ml.slider.endurance@free.fr
END:VEVENT
BEGIN:VEVENT
DTSTART;TZID=Europe/Paris:20260502T090000
DTEND;TZID=Europe/Paris:20260502T130000
DTSTAMP:20260421T115444
CREATED:20260218T145031Z
LAST-MODIFIED:20260218T145031Z
UID:10003770-1777712400-1777726800@www.circuit-carole.com
SUMMARY:Roulage Slider Endurance
DESCRIPTION:
URL:https://www.circuit-carole.com/calendrier/roulage-slider-endurance-3/2026-05-02/1/
CATEGORIES:Location
ORGANIZER;CN="Association Slider Endurance":MAILTO:ml.slider.endurance@free.fr
END:VEVENT
BEGIN:VEVENT
DTSTART;TZID=Europe/Paris:20260502T140000
DTEND;TZID=Europe/Paris:20260502T180000
DTSTAMP:20260421T115444
CREATED:20260218T145031Z
LAST-MODIFIED:20260218T145031Z
UID:10003771-1777730400-1777744800@www.circuit-carole.com
SUMMARY:Roulage Slider Endurance
DESCRIPTION:
URL:https://www.circuit-carole.com/calendrier/roulage-slider-endurance-3/2026-05-02/2/
CATEGORIES:Location
ORGANIZER;CN="Association Slider Endurance":MAILTO:ml.slider.endurance@free.fr
END:VEVENT
BEGIN:VEVENT
DTSTART;TZID=Europe/Paris:20260503T090000
DTEND;TZID=Europe/Paris:20260503T130000
DTSTAMP:20260421T115444
CREATED:20260119T133155Z
LAST-MODIFIED:20260119T133655Z
UID:10003706-1777798800-1777813200@www.circuit-carole.com
SUMMARY:Roulage Riding Sensation
DESCRIPTION:
URL:https://www.circuit-carole.com/calendrier/roulage-riding-sensation/2026-05-03/1/
CATEGORIES:Location
ORGANIZER;CN="Riding Sensation":MAILTO:infos@riding-sensation.fr
END:VEVENT
BEGIN:VEVENT
DTSTART;TZID=Europe/Paris:20260503T140000
DTEND;TZID=Europe/Paris:20260503T180000
DTSTAMP:20260421T115444
CREATED:20260119T133155Z
LAST-MODIFIED:20260119T133655Z
UID:10003707-1777816800-1777831200@www.circuit-carole.com
SUMMARY:Roulage Riding Sensation
DESCRIPTION:
URL:https://www.circuit-carole.com/calendrier/roulage-riding-sensation/2026-05-03/2/
CATEGORIES:Location
ORGANIZER;CN="Riding Sensation":MAILTO:infos@riding-sensation.fr
END:VEVENT
BEGIN:VEVENT
DTSTART;TZID=Europe/Paris:20260504T090000
DTEND;TZID=Europe/Paris:20260504T130000
DTSTAMP:20260421T115444
CREATED:20260119T133155Z
LAST-MODIFIED:20260119T133655Z
UID:10003708-1777885200-1777899600@www.circuit-carole.com
SUMMARY:Roulage Riding Sensation
DESCRIPTION:
URL:https://www.circuit-carole.com/calendrier/roulage-riding-sensation/2026-05-04/1/
CATEGORIES:Location
ORGANIZER;CN="Riding Sensation":MAILTO:infos@riding-sensation.fr
END:VEVENT
BEGIN:VEVENT
DTSTART;TZID=Europe/Paris:20260504T140000
DTEND;TZID=Europe/Paris:20260504T180000
DTSTAMP:20260421T115444
CREATED:20260119T133155Z
LAST-MODIFIED:20260119T133655Z
UID:10003709-1777903200-1777917600@www.circuit-carole.com
SUMMARY:Roulage Riding Sensation
DESCRIPTION:
URL:https://www.circuit-carole.com/calendrier/roulage-riding-sensation/2026-05-04/2/
CATEGORIES:Location
ORGANIZER;CN="Riding Sensation":MAILTO:infos@riding-sensation.fr
END:VEVENT
BEGIN:VEVENT
DTSTART;TZID=Europe/Paris:20260510T090000
DTEND;TZID=Europe/Paris:20260510T130000
DTSTAMP:20260421T115444
CREATED:20260127T102346Z
LAST-MODIFIED:20260127T102346Z
UID:10003729-1778403600-1778418000@www.circuit-carole.com
SUMMARY:Roulage Avenir Moto
DESCRIPTION:
URL:https://www.circuit-carole.com/calendrier/roulage-avenir-moto-2/2026-05-10/1/
CATEGORIES:Location
ORGANIZER;CN="Avenir Moto":MAILTO:contact@avenir-moto.com
END:VEVENT
BEGIN:VEVENT
DTSTART;TZID=Europe/Paris:20260510T140000
DTEND;TZID=Europe/Paris:20260510T180000
DTSTAMP:20260421T115444
CREATED:20260127T102346Z
LAST-MODIFIED:20260127T102346Z
UID:10003730-1778421600-1778436000@www.circuit-carole.com
SUMMARY:Roulage Avenir Moto
DESCRIPTION:
URL:https://www.circuit-carole.com/calendrier/roulage-avenir-moto-2/2026-05-10/2/
CATEGORIES:Location
ORGANIZER;CN="Avenir Moto":MAILTO:contact@avenir-moto.com
END:VEVENT
BEGIN:VEVENT
DTSTART;TZID=Europe/Paris:20260513T090000
DTEND;TZID=Europe/Paris:20260513T123000
DTSTAMP:20260421T115444
CREATED:20251204T122434Z
LAST-MODIFIED:20260224T132745Z
UID:10003473-1778662800-1778675400@www.circuit-carole.com
SUMMARY:Stage de pilotage
DESCRIPTION:Niveau : débutant ou pilote occasionnel sur la piste. \nÉducateur : Axel MAURIN. \nLocations de motos R3\, R7 et d’équipements possibles. \nAttention\, places limitées ! \n\nPlus d’infos : https://www.circuit-carole.com/decouvrir-la-piste/
URL:https://www.circuit-carole.com/calendrier/stage-de-pilotage-10/2026-05-13/1/
CATEGORIES:Location
ORGANIZER;CN="Association de Gestion du Circuit Carole":MAILTO:info@circuit-carole.com
END:VEVENT
BEGIN:VEVENT
DTSTART;TZID=Europe/Paris:20260513T140000
DTEND;TZID=Europe/Paris:20260513T170000
DTSTAMP:20260421T115444
CREATED:20251204T122434Z
LAST-MODIFIED:20260224T132745Z
UID:10003474-1778680800-1778691600@www.circuit-carole.com
SUMMARY:Stage de pilotage
DESCRIPTION:Niveau : débutant ou pilote occasionnel sur la piste. \nÉducateur : Axel MAURIN. \nLocations de motos R3\, R7 et d’équipements possibles. \nAttention\, places limitées ! \n\nPlus d’infos : https://www.circuit-carole.com/decouvrir-la-piste/
URL:https://www.circuit-carole.com/calendrier/stage-de-pilotage-10/2026-05-13/2/
CATEGORIES:Location
ORGANIZER;CN="Association de Gestion du Circuit Carole":MAILTO:info@circuit-carole.com
END:VEVENT
BEGIN:VEVENT
DTSTART;TZID=Europe/Paris:20260514T090000
DTEND;TZID=Europe/Paris:20260514T130000
DTSTAMP:20260421T115444
CREATED:20260108T134210Z
LAST-MODIFIED:20260108T134210Z
UID:10003683-1778749200-1778763600@www.circuit-carole.com
SUMMARY:Roulage LH Racing
DESCRIPTION:
URL:https://www.circuit-carole.com/calendrier/roulage-lh-racing/2026-05-14/1/
CATEGORIES:Location
ORGANIZER;CN="LH Racing":MAILTO:contact@teamlhracing.com
END:VEVENT
BEGIN:VEVENT
DTSTART;TZID=Europe/Paris:20260514T140000
DTEND;TZID=Europe/Paris:20260514T180000
DTSTAMP:20260421T115444
CREATED:20260108T134210Z
LAST-MODIFIED:20260108T134210Z
UID:10003684-1778767200-1778781600@www.circuit-carole.com
SUMMARY:Roulage LH Racing
DESCRIPTION:
URL:https://www.circuit-carole.com/calendrier/roulage-lh-racing/2026-05-14/2/
CATEGORIES:Location
ORGANIZER;CN="LH Racing":MAILTO:contact@teamlhracing.com
END:VEVENT
BEGIN:VEVENT
DTSTART;TZID=Europe/Paris:20260518T080000
DTEND;TZID=Europe/Paris:20260518T120000
DTSTAMP:20260421T115444
CREATED:20260210T103901Z
LAST-MODIFIED:20260210T103901Z
UID:10003754-1779091200-1779105600@www.circuit-carole.com
SUMMARY:Stage post-permis
DESCRIPTION:Formation de 7 heures. \nMatin : pratique sur circuit. \nAprès-midi : parcours de maniabilité. \n8 stagiaires maximum. \nPlus d’informations : https://www.circuit-carole.com/stage-post-permis/ et https://www.zebra.fr/formations/permis-moto/perfectionnement/ .
URL:https://www.circuit-carole.com/calendrier/stage-post-permis/2026-05-18/
CATEGORIES:Location
ORGANIZER;CN="Association de Gestion du Circuit Carole":MAILTO:info@circuit-carole.com
END:VEVENT
BEGIN:VEVENT
DTSTART;TZID=Europe/Paris:20260523T090000
DTEND;TZID=Europe/Paris:20260523T130000
DTSTAMP:20260421T115444
CREATED:20260115T130814Z
LAST-MODIFIED:20260115T130814Z
UID:10003701-1779526800-1779541200@www.circuit-carole.com
SUMMARY:Roulage Carole Moto Club
DESCRIPTION:
URL:https://www.circuit-carole.com/calendrier/roulage-carole-moto-club-3/2026-05-23/
CATEGORIES:Location
ORGANIZER;CN="Carole Moto Club":MAILTO:lefel.dimitri@hotmail.fr
END:VEVENT
BEGIN:VEVENT
DTSTART;TZID=Europe/Paris:20260525T090000
DTEND;TZID=Europe/Paris:20260525T130000
DTSTAMP:20260421T115444
CREATED:20260210T095132Z
LAST-MODIFIED:20260210T095132Z
UID:10003747-1779699600-1779714000@www.circuit-carole.com
SUMMARY:Roulage privé
DESCRIPTION:
URL:https://www.circuit-carole.com/calendrier/roulage-prive/2026-05-25/1/
CATEGORIES:Location
END:VEVENT
BEGIN:VEVENT
DTSTART;TZID=Europe/Paris:20260525T130000
DTEND;TZID=Europe/Paris:20260525T180000
DTSTAMP:20260421T115444
CREATED:20260210T095132Z
LAST-MODIFIED:20260210T095132Z
UID:10003748-1779714000-1779732000@www.circuit-carole.com
SUMMARY:Roulage privé
DESCRIPTION:
URL:https://www.circuit-carole.com/calendrier/roulage-prive/2026-05-25/2/
CATEGORIES:Location
END:VEVENT
END:VCALENDAR