BEGIN:VCALENDAR
VERSION:2.0
PRODID:-//Circuit Carole - ECPv6.15.18//NONSGML v1.0//EN
CALSCALE:GREGORIAN
METHOD:PUBLISH
X-ORIGINAL-URL:https://www.circuit-carole.com
X-WR-CALDESC:Évènements pour Circuit Carole
REFRESH-INTERVAL;VALUE=DURATION:PT1H
X-Robots-Tag:noindex
X-PUBLISHED-TTL:PT1H
BEGIN:VTIMEZONE
TZID:Europe/Paris
BEGIN:DAYLIGHT
TZOFFSETFROM:+0100
TZOFFSETTO:+0200
TZNAME:CEST
DTSTART:20240331T010000
END:DAYLIGHT
BEGIN:STANDARD
TZOFFSETFROM:+0200
TZOFFSETTO:+0100
TZNAME:CET
DTSTART:20241027T010000
END:STANDARD
BEGIN:DAYLIGHT
TZOFFSETFROM:+0100
TZOFFSETTO:+0200
TZNAME:CEST
DTSTART:20250330T010000
END:DAYLIGHT
BEGIN:STANDARD
TZOFFSETFROM:+0200
TZOFFSETTO:+0100
TZNAME:CET
DTSTART:20251026T010000
END:STANDARD
BEGIN:DAYLIGHT
TZOFFSETFROM:+0100
TZOFFSETTO:+0200
TZNAME:CEST
DTSTART:20260329T010000
END:DAYLIGHT
BEGIN:STANDARD
TZOFFSETFROM:+0200
TZOFFSETTO:+0100
TZNAME:CET
DTSTART:20261025T010000
END:STANDARD
END:VTIMEZONE
BEGIN:VEVENT
DTSTART;TZID=Europe/Paris:20250602T090000
DTEND;TZID=Europe/Paris:20250602T130000
DTSTAMP:20260422T132012
CREATED:20250115T134603Z
LAST-MODIFIED:20250115T134603Z
UID:10002699-1748854800-1748869200@www.circuit-carole.com
SUMMARY:Roulage Moto Passion 76
DESCRIPTION:3 groupes de niveaux : Débutants / Moyens / Confirmés.
URL:https://www.circuit-carole.com/calendrier/roulage-moto-passion-76/2025-06-02/1/
CATEGORIES:Location
ORGANIZER;CN="Moto Passion 76":MAILTO:vincent@motopassion76.fr / ktm.megaservice@gmail.com
END:VEVENT
BEGIN:VEVENT
DTSTART;TZID=Europe/Paris:20250602T140000
DTEND;TZID=Europe/Paris:20250602T180000
DTSTAMP:20260422T132012
CREATED:20250115T134603Z
LAST-MODIFIED:20250115T134603Z
UID:10002700-1748872800-1748887200@www.circuit-carole.com
SUMMARY:Roulage Moto Passion 76
DESCRIPTION:3 groupes de niveaux : Débutants / Moyens / Confirmés.
URL:https://www.circuit-carole.com/calendrier/roulage-moto-passion-76/2025-06-02/2/
CATEGORIES:Location
ORGANIZER;CN="Moto Passion 76":MAILTO:vincent@motopassion76.fr / ktm.megaservice@gmail.com
END:VEVENT
BEGIN:VEVENT
DTSTART;TZID=Europe/Paris:20250606T090000
DTEND;TZID=Europe/Paris:20250606T123000
DTSTAMP:20260422T132012
CREATED:20241217T144405Z
LAST-MODIFIED:20250305T142708Z
UID:10002336-1749200400-1749213000@www.circuit-carole.com
SUMMARY:Stage de pilotage
DESCRIPTION:Niveau : débutant ou pilote occasionnel sur la piste. \nÉducateurs : Antoine GAULT et Axel MAURIN. \nAttention\, places limitées ! \n\nPlus d’infos : https://www.circuit-carole.com/initiation-a-la-pratique-sur-circuit/
URL:https://www.circuit-carole.com/calendrier/stage-de-pilotage-3/2025-06-06/1/
CATEGORIES:Location
ORGANIZER;CN="Association de Gestion du Circuit Carole":MAILTO:info@circuit-carole.com
END:VEVENT
BEGIN:VEVENT
DTSTART;TZID=Europe/Paris:20250606T140000
DTEND;TZID=Europe/Paris:20250606T170000
DTSTAMP:20260422T132012
CREATED:20241217T144405Z
LAST-MODIFIED:20250305T142708Z
UID:10002337-1749218400-1749229200@www.circuit-carole.com
SUMMARY:Stage de pilotage
DESCRIPTION:Niveau : débutant ou pilote occasionnel sur la piste. \nÉducateurs : Antoine GAULT et Axel MAURIN. \nAttention\, places limitées ! \n\nPlus d’infos : https://www.circuit-carole.com/initiation-a-la-pratique-sur-circuit/
URL:https://www.circuit-carole.com/calendrier/stage-de-pilotage-3/2025-06-06/2/
CATEGORIES:Location
ORGANIZER;CN="Association de Gestion du Circuit Carole":MAILTO:info@circuit-carole.com
END:VEVENT
BEGIN:VEVENT
DTSTART;TZID=Europe/Paris:20250607T090000
DTEND;TZID=Europe/Paris:20250607T130000
DTSTAMP:20260422T132012
CREATED:20250225T141905Z
LAST-MODIFIED:20250225T141905Z
UID:10002907-1749286800-1749301200@www.circuit-carole.com
SUMMARY:Roulage Circuit Dagen
DESCRIPTION:Groupes de niveaux.
URL:https://www.circuit-carole.com/calendrier/roulage-circuit-dagen/2025-06-07/1/
CATEGORIES:Location
ORGANIZER;CN="Circuit Dagen":MAILTO:info@circuitdagen.be
END:VEVENT
BEGIN:VEVENT
DTSTART;TZID=Europe/Paris:20250607T140000
DTEND;TZID=Europe/Paris:20250607T180000
DTSTAMP:20260422T132012
CREATED:20250225T141905Z
LAST-MODIFIED:20250225T141905Z
UID:10002908-1749304800-1749319200@www.circuit-carole.com
SUMMARY:Roulage Circuit Dagen
DESCRIPTION:Groupes de niveaux.
URL:https://www.circuit-carole.com/calendrier/roulage-circuit-dagen/2025-06-07/2/
CATEGORIES:Location
ORGANIZER;CN="Circuit Dagen":MAILTO:info@circuitdagen.be
END:VEVENT
BEGIN:VEVENT
DTSTART;TZID=Europe/Paris:20250608T090000
DTEND;TZID=Europe/Paris:20250608T130000
DTSTAMP:20260422T132012
CREATED:20250225T141905Z
LAST-MODIFIED:20250225T141905Z
UID:10002909-1749373200-1749387600@www.circuit-carole.com
SUMMARY:Roulage Circuit Dagen
DESCRIPTION:Groupes de niveaux.
URL:https://www.circuit-carole.com/calendrier/roulage-circuit-dagen/2025-06-08/1/
CATEGORIES:Location
ORGANIZER;CN="Circuit Dagen":MAILTO:info@circuitdagen.be
END:VEVENT
BEGIN:VEVENT
DTSTART;TZID=Europe/Paris:20250608T140000
DTEND;TZID=Europe/Paris:20250608T180000
DTSTAMP:20260422T132012
CREATED:20250225T141905Z
LAST-MODIFIED:20250225T141905Z
UID:10002910-1749391200-1749405600@www.circuit-carole.com
SUMMARY:Roulage Circuit Dagen
DESCRIPTION:Groupes de niveaux.
URL:https://www.circuit-carole.com/calendrier/roulage-circuit-dagen/2025-06-08/2/
CATEGORIES:Location
ORGANIZER;CN="Circuit Dagen":MAILTO:info@circuitdagen.be
END:VEVENT
BEGIN:VEVENT
DTSTART;TZID=Europe/Paris:20250609T090000
DTEND;TZID=Europe/Paris:20250609T130000
DTSTAMP:20260422T132012
CREATED:20250123T151924Z
LAST-MODIFIED:20250123T151924Z
UID:10002426-1749459600-1749474000@www.circuit-carole.com
SUMMARY:Roulage PK Racing
DESCRIPTION:4 groupes de niveaux : Débutants\, Intermédiaires\, Confirmés\, Experts.
URL:https://www.circuit-carole.com/calendrier/roulage-pk-racing-2/2025-06-09/1/
CATEGORIES:Location
ORGANIZER;CN="PK Racing Days":MAILTO:pkracingdays@gmail.com
END:VEVENT
BEGIN:VEVENT
DTSTART;TZID=Europe/Paris:20250609T140000
DTEND;TZID=Europe/Paris:20250609T180000
DTSTAMP:20260422T132012
CREATED:20250123T151924Z
LAST-MODIFIED:20250123T151924Z
UID:10002427-1749477600-1749492000@www.circuit-carole.com
SUMMARY:Roulage PK Racing
DESCRIPTION:4 groupes de niveaux : Débutants\, Intermédiaires\, Confirmés\, Experts.
URL:https://www.circuit-carole.com/calendrier/roulage-pk-racing-2/2025-06-09/2/
CATEGORIES:Location
ORGANIZER;CN="PK Racing Days":MAILTO:pkracingdays@gmail.com
END:VEVENT
BEGIN:VEVENT
DTSTART;TZID=Europe/Paris:20250614T090000
DTEND;TZID=Europe/Paris:20250614T130000
DTSTAMP:20260422T132012
CREATED:20250120T135949Z
LAST-MODIFIED:20250120T135949Z
UID:10002767-1749891600-1749906000@www.circuit-carole.com
SUMMARY:Roulage Avenir Moto
DESCRIPTION:4 groupes de niveaux : Débutants\, Intermédiaires\, Confirmés\, Experts.
URL:https://www.circuit-carole.com/calendrier/roulage-avenir-moto-5/2025-06-14/
CATEGORIES:Location
ORGANIZER;CN="Avenir Moto":MAILTO:contact@avenir-moto.com
END:VEVENT
BEGIN:VEVENT
DTSTART;TZID=Europe/Paris:20250619T090000
DTEND;TZID=Europe/Paris:20250619T123000
DTSTAMP:20260422T132012
CREATED:20241217T144521Z
LAST-MODIFIED:20250305T142912Z
UID:10002338-1750323600-1750336200@www.circuit-carole.com
SUMMARY:Stage de pilotage
DESCRIPTION:Niveau : débutant ou pilote occasionnel sur la piste. \nÉducateurs : Geoffroy DEHAYE et Christophe GUYOT. \nAttention\, places limitées ! \n\nPlus d’infos : https://www.circuit-carole.com/initiation-a-la-pratique-sur-circuit/
URL:https://www.circuit-carole.com/calendrier/stage-de-pilotage-4/2025-06-19/1/
CATEGORIES:Location
ORGANIZER;CN="Association de Gestion du Circuit Carole":MAILTO:info@circuit-carole.com
END:VEVENT
BEGIN:VEVENT
DTSTART;TZID=Europe/Paris:20250619T140000
DTEND;TZID=Europe/Paris:20250619T170000
DTSTAMP:20260422T132012
CREATED:20241217T144521Z
LAST-MODIFIED:20250305T142912Z
UID:10002339-1750341600-1750352400@www.circuit-carole.com
SUMMARY:Stage de pilotage
DESCRIPTION:Niveau : débutant ou pilote occasionnel sur la piste. \nÉducateurs : Geoffroy DEHAYE et Christophe GUYOT. \nAttention\, places limitées ! \n\nPlus d’infos : https://www.circuit-carole.com/initiation-a-la-pratique-sur-circuit/
URL:https://www.circuit-carole.com/calendrier/stage-de-pilotage-4/2025-06-19/2/
CATEGORIES:Location
ORGANIZER;CN="Association de Gestion du Circuit Carole":MAILTO:info@circuit-carole.com
END:VEVENT
BEGIN:VEVENT
DTSTART;TZID=Europe/Paris:20250623T090000
DTEND;TZID=Europe/Paris:20250623T130000
DTSTAMP:20260422T132012
CREATED:20250305T140009Z
LAST-MODIFIED:20250305T140009Z
UID:10002913-1750669200-1750683600@www.circuit-carole.com
SUMMARY:Roulage privé
DESCRIPTION:
URL:https://www.circuit-carole.com/calendrier/roulage-prive-20/2025-06-23/1/
CATEGORIES:Location
END:VEVENT
BEGIN:VEVENT
DTSTART;TZID=Europe/Paris:20250623T140000
DTEND;TZID=Europe/Paris:20250623T180000
DTSTAMP:20260422T132012
CREATED:20250305T140009Z
LAST-MODIFIED:20250305T140009Z
UID:10002914-1750687200-1750701600@www.circuit-carole.com
SUMMARY:Roulage privé
DESCRIPTION:
URL:https://www.circuit-carole.com/calendrier/roulage-prive-20/2025-06-23/2/
CATEGORIES:Location
END:VEVENT
BEGIN:VEVENT
DTSTART;TZID=Europe/Paris:20250624T090000
DTEND;TZID=Europe/Paris:20250624T130000
DTSTAMP:20260422T132012
CREATED:20250416T081738Z
LAST-MODIFIED:20250416T081738Z
UID:10002583-1750755600-1750770000@www.circuit-carole.com
SUMMARY:Roulage Mutuelle des Motards
DESCRIPTION:2 groupes de niveaux : Débutants\, Intermédiaires.
URL:https://www.circuit-carole.com/calendrier/roulage-mutuelle-des-motards-3/2025-06-24/1/
CATEGORIES:Location
ORGANIZER;CN="Assurance Mutuelle des Motards":MAILTO:event@amdm.fr
END:VEVENT
BEGIN:VEVENT
DTSTART;TZID=Europe/Paris:20250624T140000
DTEND;TZID=Europe/Paris:20250624T180000
DTSTAMP:20260422T132012
CREATED:20250416T081738Z
LAST-MODIFIED:20250416T081738Z
UID:10002584-1750773600-1750788000@www.circuit-carole.com
SUMMARY:Roulage Mutuelle des Motards
DESCRIPTION:2 groupes de niveaux : Débutants\, Intermédiaires.
URL:https://www.circuit-carole.com/calendrier/roulage-mutuelle-des-motards-3/2025-06-24/2/
CATEGORIES:Location
ORGANIZER;CN="Assurance Mutuelle des Motards":MAILTO:event@amdm.fr
END:VEVENT
BEGIN:VEVENT
DTSTART;TZID=Europe/Paris:20250625T090000
DTEND;TZID=Europe/Paris:20250625T130000
DTSTAMP:20260422T132012
CREATED:20250131T103044Z
LAST-MODIFIED:20250131T103044Z
UID:10002462-1750842000-1750856400@www.circuit-carole.com
SUMMARY:Roulage privé
DESCRIPTION:
URL:https://www.circuit-carole.com/calendrier/roulage-prive-9/2025-06-25/1/
CATEGORIES:Location
END:VEVENT
BEGIN:VEVENT
DTSTART;TZID=Europe/Paris:20250625T140000
DTEND;TZID=Europe/Paris:20250625T180000
DTSTAMP:20260422T132012
CREATED:20250131T103044Z
LAST-MODIFIED:20250131T103044Z
UID:10002463-1750860000-1750874400@www.circuit-carole.com
SUMMARY:Roulage privé
DESCRIPTION:
URL:https://www.circuit-carole.com/calendrier/roulage-prive-9/2025-06-25/2/
CATEGORIES:Location
END:VEVENT
BEGIN:VEVENT
DTSTART;TZID=Europe/Paris:20250626T090000
DTEND;TZID=Europe/Paris:20250626T130000
DTSTAMP:20260422T132012
CREATED:20250131T103044Z
LAST-MODIFIED:20250131T103044Z
UID:10002464-1750928400-1750942800@www.circuit-carole.com
SUMMARY:Roulage privé
DESCRIPTION:
URL:https://www.circuit-carole.com/calendrier/roulage-prive-9/2025-06-26/1/
CATEGORIES:Location
END:VEVENT
BEGIN:VEVENT
DTSTART;TZID=Europe/Paris:20250626T140000
DTEND;TZID=Europe/Paris:20250626T180000
DTSTAMP:20260422T132012
CREATED:20250131T103044Z
LAST-MODIFIED:20250131T103044Z
UID:10002465-1750946400-1750960800@www.circuit-carole.com
SUMMARY:Roulage privé
DESCRIPTION:
URL:https://www.circuit-carole.com/calendrier/roulage-prive-9/2025-06-26/2/
CATEGORIES:Location
END:VEVENT
BEGIN:VEVENT
DTSTART;TZID=Europe/Paris:20250628T090000
DTEND;TZID=Europe/Paris:20250628T130000
DTSTAMP:20260422T132012
CREATED:20250204T125340Z
LAST-MODIFIED:20250224T155139Z
UID:10002474-1751101200-1751115600@www.circuit-carole.com
SUMMARY:Roulage Riding Sensation
DESCRIPTION:Groupes de niveaux.
URL:https://www.circuit-carole.com/calendrier/roulage-france-track-days/2025-06-28/1/
CATEGORIES:Location
ORGANIZER;CN="Riding Sensation":MAILTO:infos@riding-sensation.fr
END:VEVENT
BEGIN:VEVENT
DTSTART;TZID=Europe/Paris:20250628T140000
DTEND;TZID=Europe/Paris:20250628T180000
DTSTAMP:20260422T132012
CREATED:20250204T125340Z
LAST-MODIFIED:20250224T155139Z
UID:10002475-1751119200-1751133600@www.circuit-carole.com
SUMMARY:Roulage Riding Sensation
DESCRIPTION:Groupes de niveaux.
URL:https://www.circuit-carole.com/calendrier/roulage-france-track-days/2025-06-28/2/
CATEGORIES:Location
ORGANIZER;CN="Riding Sensation":MAILTO:infos@riding-sensation.fr
END:VEVENT
BEGIN:VEVENT
DTSTART;TZID=Europe/Paris:20250629T090000
DTEND;TZID=Europe/Paris:20250629T130000
DTSTAMP:20260422T132012
CREATED:20250402T095116Z
LAST-MODIFIED:20250402T095116Z
UID:10002575-1751187600-1751202000@www.circuit-carole.com
SUMMARY:Roulage Journée K
DESCRIPTION:4 groupes de niveaux : Débutants\, Intermédiaires\, Confirmés\, Experts.
URL:https://www.circuit-carole.com/calendrier/roulage-journee-k/2025-06-29/1/
CATEGORIES:Location
ORGANIZER;CN="Maccio D%C3%A9veloppement":MAILTO:macciojerome@gmail.com / journees.kawasaki@gmail.com
END:VEVENT
BEGIN:VEVENT
DTSTART;TZID=Europe/Paris:20250629T140000
DTEND;TZID=Europe/Paris:20250629T180000
DTSTAMP:20260422T132012
CREATED:20250402T095116Z
LAST-MODIFIED:20250402T095116Z
UID:10002576-1751205600-1751220000@www.circuit-carole.com
SUMMARY:Roulage Journée K
DESCRIPTION:4 groupes de niveaux : Débutants\, Intermédiaires\, Confirmés\, Experts.
URL:https://www.circuit-carole.com/calendrier/roulage-journee-k/2025-06-29/2/
CATEGORIES:Location
ORGANIZER;CN="Maccio D%C3%A9veloppement":MAILTO:macciojerome@gmail.com / journees.kawasaki@gmail.com
END:VEVENT
BEGIN:VEVENT
DTSTART;TZID=Europe/Paris:20250630T090000
DTEND;TZID=Europe/Paris:20250630T130000
DTSTAMP:20260422T132012
CREATED:20250402T095116Z
LAST-MODIFIED:20250402T095116Z
UID:10002577-1751274000-1751288400@www.circuit-carole.com
SUMMARY:Roulage Journée K
DESCRIPTION:4 groupes de niveaux : Débutants\, Intermédiaires\, Confirmés\, Experts.
URL:https://www.circuit-carole.com/calendrier/roulage-journee-k/2025-06-30/1/
CATEGORIES:Location
ORGANIZER;CN="Maccio D%C3%A9veloppement":MAILTO:macciojerome@gmail.com / journees.kawasaki@gmail.com
END:VEVENT
BEGIN:VEVENT
DTSTART;TZID=Europe/Paris:20250630T140000
DTEND;TZID=Europe/Paris:20250630T180000
DTSTAMP:20260422T132012
CREATED:20250402T095116Z
LAST-MODIFIED:20250402T095116Z
UID:10002578-1751292000-1751306400@www.circuit-carole.com
SUMMARY:Roulage Journée K
DESCRIPTION:4 groupes de niveaux : Débutants\, Intermédiaires\, Confirmés\, Experts.
URL:https://www.circuit-carole.com/calendrier/roulage-journee-k/2025-06-30/2/
CATEGORIES:Location
ORGANIZER;CN="Maccio D%C3%A9veloppement":MAILTO:macciojerome@gmail.com / journees.kawasaki@gmail.com
END:VEVENT
END:VCALENDAR