BEGIN:VCALENDAR
VERSION:2.0
PRODID:-//Circuit Carole - ECPv6.15.18//NONSGML v1.0//EN
CALSCALE:GREGORIAN
METHOD:PUBLISH
X-ORIGINAL-URL:https://www.circuit-carole.com
X-WR-CALDESC:Évènements pour Circuit Carole
REFRESH-INTERVAL;VALUE=DURATION:PT1H
X-Robots-Tag:noindex
X-PUBLISHED-TTL:PT1H
BEGIN:VTIMEZONE
TZID:Europe/Paris
BEGIN:DAYLIGHT
TZOFFSETFROM:+0100
TZOFFSETTO:+0200
TZNAME:CEST
DTSTART:20240331T010000
END:DAYLIGHT
BEGIN:STANDARD
TZOFFSETFROM:+0200
TZOFFSETTO:+0100
TZNAME:CET
DTSTART:20241027T010000
END:STANDARD
BEGIN:DAYLIGHT
TZOFFSETFROM:+0100
TZOFFSETTO:+0200
TZNAME:CEST
DTSTART:20250330T010000
END:DAYLIGHT
BEGIN:STANDARD
TZOFFSETFROM:+0200
TZOFFSETTO:+0100
TZNAME:CET
DTSTART:20251026T010000
END:STANDARD
BEGIN:DAYLIGHT
TZOFFSETFROM:+0100
TZOFFSETTO:+0200
TZNAME:CEST
DTSTART:20260329T010000
END:DAYLIGHT
BEGIN:STANDARD
TZOFFSETFROM:+0200
TZOFFSETTO:+0100
TZNAME:CET
DTSTART:20261025T010000
END:STANDARD
END:VTIMEZONE
BEGIN:VEVENT
DTSTART;TZID=Europe/Paris:20250501T090000
DTEND;TZID=Europe/Paris:20250501T130000
DTSTAMP:20260422T143254
CREATED:20250225T102158Z
LAST-MODIFIED:20250225T102158Z
UID:10002897-1746090000-1746104400@www.circuit-carole.com
SUMMARY:Roulage Slider Endurance
DESCRIPTION:4 groupes de niveaux : Débutants\, Intermédiaires\, Confirmés\, Experts.
URL:https://www.circuit-carole.com/calendrier/roulage-slider-endurance-2/2025-05-01/1/
CATEGORIES:Location
ORGANIZER;CN="Association Slider Endurance":MAILTO:ml.slider.endurance@free.fr
END:VEVENT
BEGIN:VEVENT
DTSTART;TZID=Europe/Paris:20250501T140000
DTEND;TZID=Europe/Paris:20250501T180000
DTSTAMP:20260422T143254
CREATED:20250225T102158Z
LAST-MODIFIED:20250225T102158Z
UID:10002898-1746108000-1746122400@www.circuit-carole.com
SUMMARY:Roulage Slider Endurance
DESCRIPTION:4 groupes de niveaux : Débutants\, Intermédiaires\, Confirmés\, Experts.
URL:https://www.circuit-carole.com/calendrier/roulage-slider-endurance-2/2025-05-01/2/
CATEGORIES:Location
ORGANIZER;CN="Association Slider Endurance":MAILTO:ml.slider.endurance@free.fr
END:VEVENT
BEGIN:VEVENT
DTSTART;TZID=Europe/Paris:20250502T090000
DTEND;TZID=Europe/Paris:20250502T130000
DTSTAMP:20260422T143254
CREATED:20250225T102158Z
LAST-MODIFIED:20250225T102158Z
UID:10002899-1746176400-1746190800@www.circuit-carole.com
SUMMARY:Roulage Slider Endurance
DESCRIPTION:4 groupes de niveaux : Débutants\, Intermédiaires\, Confirmés\, Experts.
URL:https://www.circuit-carole.com/calendrier/roulage-slider-endurance-2/2025-05-02/1/
CATEGORIES:Location
ORGANIZER;CN="Association Slider Endurance":MAILTO:ml.slider.endurance@free.fr
END:VEVENT
BEGIN:VEVENT
DTSTART;TZID=Europe/Paris:20250502T140000
DTEND;TZID=Europe/Paris:20250502T180000
DTSTAMP:20260422T143254
CREATED:20250225T102158Z
LAST-MODIFIED:20250225T102158Z
UID:10002900-1746194400-1746208800@www.circuit-carole.com
SUMMARY:Roulage Slider Endurance
DESCRIPTION:4 groupes de niveaux : Débutants\, Intermédiaires\, Confirmés\, Experts.
URL:https://www.circuit-carole.com/calendrier/roulage-slider-endurance-2/2025-05-02/2/
CATEGORIES:Location
ORGANIZER;CN="Association Slider Endurance":MAILTO:ml.slider.endurance@free.fr
END:VEVENT
BEGIN:VEVENT
DTSTART;TZID=Europe/Paris:20250503T090000
DTEND;TZID=Europe/Paris:20250503T130000
DTSTAMP:20260422T143254
CREATED:20250120T135949Z
LAST-MODIFIED:20250120T135949Z
UID:10002765-1746262800-1746277200@www.circuit-carole.com
SUMMARY:Roulage Avenir Moto
DESCRIPTION:4 groupes de niveaux : Débutants\, Intermédiaires\, Confirmés\, Experts.
URL:https://www.circuit-carole.com/calendrier/roulage-avenir-moto-5/2025-05-03/1/
CATEGORIES:Location
ORGANIZER;CN="Avenir Moto":MAILTO:contact@avenir-moto.com
END:VEVENT
BEGIN:VEVENT
DTSTART;TZID=Europe/Paris:20250503T140000
DTEND;TZID=Europe/Paris:20250503T180000
DTSTAMP:20260422T143254
CREATED:20250120T135949Z
LAST-MODIFIED:20250120T135949Z
UID:10002766-1746280800-1746295200@www.circuit-carole.com
SUMMARY:Roulage Avenir Moto
DESCRIPTION:4 groupes de niveaux : Débutants\, Intermédiaires\, Confirmés\, Experts.
URL:https://www.circuit-carole.com/calendrier/roulage-avenir-moto-5/2025-05-03/2/
CATEGORIES:Location
ORGANIZER;CN="Avenir Moto":MAILTO:contact@avenir-moto.com
END:VEVENT
BEGIN:VEVENT
DTSTART;TZID=Europe/Paris:20250504T090000
DTEND;TZID=Europe/Paris:20250504T130000
DTSTAMP:20260422T143254
CREATED:20250204T135751Z
LAST-MODIFIED:20250204T135751Z
UID:10002776-1746349200-1746363600@www.circuit-carole.com
SUMMARY:Roulage privé
DESCRIPTION:
URL:https://www.circuit-carole.com/calendrier/roulage-prive-10/2025-05-04/1/
CATEGORIES:Location
END:VEVENT
BEGIN:VEVENT
DTSTART;TZID=Europe/Paris:20250504T140000
DTEND;TZID=Europe/Paris:20250504T180000
DTSTAMP:20260422T143254
CREATED:20250204T135751Z
LAST-MODIFIED:20250204T135751Z
UID:10002777-1746367200-1746381600@www.circuit-carole.com
SUMMARY:Roulage privé
DESCRIPTION:
URL:https://www.circuit-carole.com/calendrier/roulage-prive-10/2025-05-04/2/
CATEGORIES:Location
END:VEVENT
BEGIN:VEVENT
DTSTART;TZID=Europe/Paris:20250505T090000
DTEND;TZID=Europe/Paris:20250505T130000
DTSTAMP:20260422T143254
CREATED:20250402T094733Z
LAST-MODIFIED:20250402T094733Z
UID:10002572-1746435600-1746450000@www.circuit-carole.com
SUMMARY:Roulage privé
DESCRIPTION:
URL:https://www.circuit-carole.com/calendrier/roulage-prive-22/2025-05-05/1/
CATEGORIES:Location
END:VEVENT
BEGIN:VEVENT
DTSTART;TZID=Europe/Paris:20250505T140000
DTEND;TZID=Europe/Paris:20250505T180000
DTSTAMP:20260422T143254
CREATED:20250402T094733Z
LAST-MODIFIED:20250402T094733Z
UID:10002573-1746453600-1746468000@www.circuit-carole.com
SUMMARY:Roulage privé
DESCRIPTION:
URL:https://www.circuit-carole.com/calendrier/roulage-prive-22/2025-05-05/2/
CATEGORIES:Location
END:VEVENT
BEGIN:VEVENT
DTSTART;TZID=Europe/Paris:20250508T090000
DTEND;TZID=Europe/Paris:20250508T130000
DTSTAMP:20260422T143254
CREATED:20250123T130702Z
LAST-MODIFIED:20251002T073415Z
UID:10002414-1746694800-1746709200@www.circuit-carole.com
SUMMARY:Roulage LH Racing
DESCRIPTION:4 groupes de niveaux : Débutants\, Moyens\, Moyens Plus\, Confirmés.
URL:https://www.circuit-carole.com/calendrier/roulage-lh-racing-5/2025-05-08/1/
CATEGORIES:Location
ORGANIZER;CN="LH Racing":MAILTO:contact@teamlhracing.com
END:VEVENT
BEGIN:VEVENT
DTSTART;TZID=Europe/Paris:20250508T140000
DTEND;TZID=Europe/Paris:20250508T180000
DTSTAMP:20260422T143254
CREATED:20250123T130702Z
LAST-MODIFIED:20251002T073415Z
UID:10002415-1746712800-1746727200@www.circuit-carole.com
SUMMARY:Roulage LH Racing
DESCRIPTION:4 groupes de niveaux : Débutants\, Moyens\, Moyens Plus\, Confirmés.
URL:https://www.circuit-carole.com/calendrier/roulage-lh-racing-5/2025-05-08/2/
CATEGORIES:Location
ORGANIZER;CN="LH Racing":MAILTO:contact@teamlhracing.com
END:VEVENT
BEGIN:VEVENT
DTSTART;TZID=Europe/Paris:20250509T090000
DTEND;TZID=Europe/Paris:20250509T130000
DTSTAMP:20260422T143254
CREATED:20250225T141529Z
LAST-MODIFIED:20250225T141529Z
UID:10002901-1746781200-1746795600@www.circuit-carole.com
SUMMARY:Roulage Track Normandy Team
DESCRIPTION:4 groupes de niveaux : Débutants\, Intermédiaires 1\, Intermédiaires 2\, Experts.
URL:https://www.circuit-carole.com/calendrier/roulage-track-normandy-team-3/2025-05-09/1/
CATEGORIES:Location
ORGANIZER;CN="Track Normandy Team":MAILTO:tracknormandyteam@gmail.com
END:VEVENT
BEGIN:VEVENT
DTSTART;TZID=Europe/Paris:20250509T140000
DTEND;TZID=Europe/Paris:20250509T180000
DTSTAMP:20260422T143254
CREATED:20250225T141529Z
LAST-MODIFIED:20250225T141529Z
UID:10002902-1746799200-1746813600@www.circuit-carole.com
SUMMARY:Roulage Track Normandy Team
DESCRIPTION:4 groupes de niveaux : Débutants\, Intermédiaires 1\, Intermédiaires 2\, Experts.
URL:https://www.circuit-carole.com/calendrier/roulage-track-normandy-team-3/2025-05-09/2/
CATEGORIES:Location
ORGANIZER;CN="Track Normandy Team":MAILTO:tracknormandyteam@gmail.com
END:VEVENT
BEGIN:VEVENT
DTSTART;TZID=Europe/Paris:20250510T090000
DTEND;TZID=Europe/Paris:20250510T130000
DTSTAMP:20260422T143254
CREATED:20250225T141529Z
LAST-MODIFIED:20250225T141529Z
UID:10002903-1746867600-1746882000@www.circuit-carole.com
SUMMARY:Roulage Track Normandy Team
DESCRIPTION:4 groupes de niveaux : Débutants\, Intermédiaires 1\, Intermédiaires 2\, Experts.
URL:https://www.circuit-carole.com/calendrier/roulage-track-normandy-team-3/2025-05-10/1/
CATEGORIES:Location
ORGANIZER;CN="Track Normandy Team":MAILTO:tracknormandyteam@gmail.com
END:VEVENT
BEGIN:VEVENT
DTSTART;TZID=Europe/Paris:20250510T140000
DTEND;TZID=Europe/Paris:20250510T180000
DTSTAMP:20260422T143254
CREATED:20250225T141529Z
LAST-MODIFIED:20250225T141529Z
UID:10002904-1746885600-1746900000@www.circuit-carole.com
SUMMARY:Roulage Track Normandy Team
DESCRIPTION:4 groupes de niveaux : Débutants\, Intermédiaires 1\, Intermédiaires 2\, Experts.
URL:https://www.circuit-carole.com/calendrier/roulage-track-normandy-team-3/2025-05-10/2/
CATEGORIES:Location
ORGANIZER;CN="Track Normandy Team":MAILTO:tracknormandyteam@gmail.com
END:VEVENT
BEGIN:VEVENT
DTSTART;TZID=Europe/Paris:20250511T090000
DTEND;TZID=Europe/Paris:20250511T130000
DTSTAMP:20260422T143254
CREATED:20250204T125340Z
LAST-MODIFIED:20250224T155139Z
UID:10002472-1746954000-1746968400@www.circuit-carole.com
SUMMARY:Roulage Riding Sensation
DESCRIPTION:Groupes de niveaux.
URL:https://www.circuit-carole.com/calendrier/roulage-france-track-days/2025-05-11/1/
CATEGORIES:Location
ORGANIZER;CN="Riding Sensation":MAILTO:infos@riding-sensation.fr
END:VEVENT
BEGIN:VEVENT
DTSTART;TZID=Europe/Paris:20250511T140000
DTEND;TZID=Europe/Paris:20250511T180000
DTSTAMP:20260422T143254
CREATED:20250204T125340Z
LAST-MODIFIED:20250224T155139Z
UID:10002473-1746972000-1746986400@www.circuit-carole.com
SUMMARY:Roulage Riding Sensation
DESCRIPTION:Groupes de niveaux.
URL:https://www.circuit-carole.com/calendrier/roulage-france-track-days/2025-05-11/2/
CATEGORIES:Location
ORGANIZER;CN="Riding Sensation":MAILTO:infos@riding-sensation.fr
END:VEVENT
BEGIN:VEVENT
DTSTART;TZID=Europe/Paris:20250512T090000
DTEND;TZID=Europe/Paris:20250512T130000
DTSTAMP:20260422T143254
CREATED:20250120T140741Z
LAST-MODIFIED:20250120T140741Z
UID:10002408-1747040400-1747054800@www.circuit-carole.com
SUMMARY:Stage De Radiguès Rider School
DESCRIPTION:3 groupes de niveaux : Débutants\, Intermédiaires\, Experts.
URL:https://www.circuit-carole.com/calendrier/stage-de-radigues-rider-school/2025-05-12/1/
CATEGORIES:Location
ORGANIZER;CN="De Radigu%C3%A8s Rider School":MAILTO:philippe@deradiguesschool.com
END:VEVENT
BEGIN:VEVENT
DTSTART;TZID=Europe/Paris:20250512T140000
DTEND;TZID=Europe/Paris:20250512T180000
DTSTAMP:20260422T143254
CREATED:20250120T140741Z
LAST-MODIFIED:20250120T140741Z
UID:10002409-1747058400-1747072800@www.circuit-carole.com
SUMMARY:Stage De Radiguès Rider School
DESCRIPTION:3 groupes de niveaux : Débutants\, Intermédiaires\, Experts.
URL:https://www.circuit-carole.com/calendrier/stage-de-radigues-rider-school/2025-05-12/2/
CATEGORIES:Location
ORGANIZER;CN="De Radigu%C3%A8s Rider School":MAILTO:philippe@deradiguesschool.com
END:VEVENT
BEGIN:VEVENT
DTSTART;TZID=Europe/Paris:20250513T090000
DTEND;TZID=Europe/Paris:20250513T130000
DTSTAMP:20260422T143254
CREATED:20250120T140741Z
LAST-MODIFIED:20250120T140741Z
UID:10002410-1747126800-1747141200@www.circuit-carole.com
SUMMARY:Stage De Radiguès Rider School
DESCRIPTION:3 groupes de niveaux : Débutants\, Intermédiaires\, Experts.
URL:https://www.circuit-carole.com/calendrier/stage-de-radigues-rider-school/2025-05-13/1/
CATEGORIES:Location
ORGANIZER;CN="De Radigu%C3%A8s Rider School":MAILTO:philippe@deradiguesschool.com
END:VEVENT
BEGIN:VEVENT
DTSTART;TZID=Europe/Paris:20250513T140000
DTEND;TZID=Europe/Paris:20250513T180000
DTSTAMP:20260422T143254
CREATED:20250120T140741Z
LAST-MODIFIED:20250120T140741Z
UID:10002411-1747144800-1747159200@www.circuit-carole.com
SUMMARY:Stage De Radiguès Rider School
DESCRIPTION:3 groupes de niveaux : Débutants\, Intermédiaires\, Experts.
URL:https://www.circuit-carole.com/calendrier/stage-de-radigues-rider-school/2025-05-13/2/
CATEGORIES:Location
ORGANIZER;CN="De Radigu%C3%A8s Rider School":MAILTO:philippe@deradiguesschool.com
END:VEVENT
BEGIN:VEVENT
DTSTART;TZID=Europe/Paris:20250515T090000
DTEND;TZID=Europe/Paris:20250515T123000
DTSTAMP:20260422T143254
CREATED:20241217T144304Z
LAST-MODIFIED:20250502T124016Z
UID:10002687-1747299600-1747312200@www.circuit-carole.com
SUMMARY:Stage de pilotage
DESCRIPTION:Niveau : débutant ou pilote occasionnel sur la piste. \nÉducateur : Geoffroy DEHAYE. \nAttention\, places limitées ! \n\nPlus d’infos : https://www.circuit-carole.com/initiation-a-la-pratique-sur-circuit/
URL:https://www.circuit-carole.com/calendrier/stage-de-pilotage-2/2025-05-15/1/
CATEGORIES:Location
ORGANIZER;CN="Association de Gestion du Circuit Carole":MAILTO:info@circuit-carole.com
END:VEVENT
BEGIN:VEVENT
DTSTART;TZID=Europe/Paris:20250515T140000
DTEND;TZID=Europe/Paris:20250515T170000
DTSTAMP:20260422T143254
CREATED:20241217T144304Z
LAST-MODIFIED:20250502T124016Z
UID:10002688-1747317600-1747328400@www.circuit-carole.com
SUMMARY:Stage de pilotage
DESCRIPTION:Niveau : débutant ou pilote occasionnel sur la piste. \nÉducateur : Geoffroy DEHAYE. \nAttention\, places limitées ! \n\nPlus d’infos : https://www.circuit-carole.com/initiation-a-la-pratique-sur-circuit/
URL:https://www.circuit-carole.com/calendrier/stage-de-pilotage-2/2025-05-15/2/
CATEGORIES:Location
ORGANIZER;CN="Association de Gestion du Circuit Carole":MAILTO:info@circuit-carole.com
END:VEVENT
BEGIN:VEVENT
DTSTART;TZID=Europe/Paris:20250524T090000
DTEND;TZID=Europe/Paris:20250524T120000
DTSTAMP:20260422T143254
CREATED:20250520T084658Z
LAST-MODIFIED:20250520T084748Z
UID:10002600-1748077200-1748088000@www.circuit-carole.com
SUMMARY:Journée Rookies & Co
DESCRIPTION:Pour en savoir plus : https://www.mutuelledesmotards.fr/evenements/rookies-co-paris-circuit-carole
URL:https://www.circuit-carole.com/calendrier/journee-rookies-co/
CATEGORIES:Location
END:VEVENT
BEGIN:VEVENT
DTSTART;TZID=Europe/Paris:20250526T090000
DTEND;TZID=Europe/Paris:20250526T130000
DTSTAMP:20260422T143254
CREATED:20250210T153624Z
LAST-MODIFIED:20250210T153624Z
UID:10002892-1748250000-1748264400@www.circuit-carole.com
SUMMARY:Roulage privé
DESCRIPTION:
URL:https://www.circuit-carole.com/calendrier/roulage-prive-11/2025-05-26/1/
CATEGORIES:Location
END:VEVENT
BEGIN:VEVENT
DTSTART;TZID=Europe/Paris:20250526T140000
DTEND;TZID=Europe/Paris:20250526T180000
DTSTAMP:20260422T143254
CREATED:20250210T153624Z
LAST-MODIFIED:20250210T153624Z
UID:10002893-1748268000-1748282400@www.circuit-carole.com
SUMMARY:Roulage privé
DESCRIPTION:
URL:https://www.circuit-carole.com/calendrier/roulage-prive-11/2025-05-26/2/
CATEGORIES:Location
END:VEVENT
BEGIN:VEVENT
DTSTART;TZID=Europe/Paris:20250529T090000
DTEND;TZID=Europe/Paris:20250529T130000
DTSTAMP:20260422T143254
CREATED:20250123T151924Z
LAST-MODIFIED:20250123T151924Z
UID:10002422-1748509200-1748523600@www.circuit-carole.com
SUMMARY:Roulage PK Racing
DESCRIPTION:4 groupes de niveaux : Débutants\, Intermédiaires\, Confirmés\, Experts.
URL:https://www.circuit-carole.com/calendrier/roulage-pk-racing-2/2025-05-29/1/
CATEGORIES:Location
ORGANIZER;CN="PK Racing Days":MAILTO:pkracingdays@gmail.com
END:VEVENT
BEGIN:VEVENT
DTSTART;TZID=Europe/Paris:20250529T140000
DTEND;TZID=Europe/Paris:20250529T180000
DTSTAMP:20260422T143254
CREATED:20250123T151924Z
LAST-MODIFIED:20250123T151924Z
UID:10002423-1748527200-1748541600@www.circuit-carole.com
SUMMARY:Roulage PK Racing
DESCRIPTION:4 groupes de niveaux : Débutants\, Intermédiaires\, Confirmés\, Experts.
URL:https://www.circuit-carole.com/calendrier/roulage-pk-racing-2/2025-05-29/2/
CATEGORIES:Location
ORGANIZER;CN="PK Racing Days":MAILTO:pkracingdays@gmail.com
END:VEVENT
BEGIN:VEVENT
DTSTART;TZID=Europe/Paris:20250530T090000
DTEND;TZID=Europe/Paris:20250530T130000
DTSTAMP:20260422T143254
CREATED:20250123T151924Z
LAST-MODIFIED:20250123T151924Z
UID:10002424-1748595600-1748610000@www.circuit-carole.com
SUMMARY:Roulage PK Racing
DESCRIPTION:4 groupes de niveaux : Débutants\, Intermédiaires\, Confirmés\, Experts.
URL:https://www.circuit-carole.com/calendrier/roulage-pk-racing-2/2025-05-30/1/
CATEGORIES:Location
ORGANIZER;CN="PK Racing Days":MAILTO:pkracingdays@gmail.com
END:VEVENT
END:VCALENDAR