BEGIN:VCALENDAR
VERSION:2.0
PRODID:-//Circuit Carole - ECPv6.15.18//NONSGML v1.0//EN
CALSCALE:GREGORIAN
METHOD:PUBLISH
X-WR-CALNAME:Circuit Carole
X-ORIGINAL-URL:https://www.circuit-carole.com
X-WR-CALDESC:Évènements pour Circuit Carole
REFRESH-INTERVAL;VALUE=DURATION:PT1H
X-Robots-Tag:noindex
X-PUBLISHED-TTL:PT1H
BEGIN:VTIMEZONE
TZID:Europe/Paris
BEGIN:DAYLIGHT
TZOFFSETFROM:+0100
TZOFFSETTO:+0200
TZNAME:CEST
DTSTART:20230326T010000
END:DAYLIGHT
BEGIN:STANDARD
TZOFFSETFROM:+0200
TZOFFSETTO:+0100
TZNAME:CET
DTSTART:20231029T010000
END:STANDARD
BEGIN:DAYLIGHT
TZOFFSETFROM:+0100
TZOFFSETTO:+0200
TZNAME:CEST
DTSTART:20240331T010000
END:DAYLIGHT
BEGIN:STANDARD
TZOFFSETFROM:+0200
TZOFFSETTO:+0100
TZNAME:CET
DTSTART:20241027T010000
END:STANDARD
BEGIN:DAYLIGHT
TZOFFSETFROM:+0100
TZOFFSETTO:+0200
TZNAME:CEST
DTSTART:20250330T010000
END:DAYLIGHT
BEGIN:STANDARD
TZOFFSETFROM:+0200
TZOFFSETTO:+0100
TZNAME:CET
DTSTART:20251026T010000
END:STANDARD
END:VTIMEZONE
BEGIN:VEVENT
DTSTART;TZID=Europe/Paris:20241012T090000
DTEND;TZID=Europe/Paris:20241012T130000
DTSTAMP:20260423T010229
CREATED:20240202T135908Z
LAST-MODIFIED:20240202T135908Z
UID:10002535-1728723600-1728738000@www.circuit-carole.com
SUMMARY:Roulage LH Racing
DESCRIPTION:4 groupes de niveaux : Débutants\, Moyens\, Moyens Plus\, Confirmés.
URL:https://www.circuit-carole.com/calendrier/roulage-lh-racing-4/2024-10-12/1/
CATEGORIES:Location
ORGANIZER;CN="LH Racing":MAILTO:contact@teamlhracing.com
END:VEVENT
BEGIN:VEVENT
DTSTART;TZID=Europe/Paris:20241012T140000
DTEND;TZID=Europe/Paris:20241012T180000
DTSTAMP:20260423T010229
CREATED:20240202T135908Z
LAST-MODIFIED:20240202T135908Z
UID:10002536-1728741600-1728756000@www.circuit-carole.com
SUMMARY:Roulage LH Racing
DESCRIPTION:4 groupes de niveaux : Débutants\, Moyens\, Moyens Plus\, Confirmés.
URL:https://www.circuit-carole.com/calendrier/roulage-lh-racing-4/2024-10-12/2/
CATEGORIES:Location
ORGANIZER;CN="LH Racing":MAILTO:contact@teamlhracing.com
END:VEVENT
BEGIN:VEVENT
DTSTART;TZID=Europe/Paris:20241013T090000
DTEND;TZID=Europe/Paris:20241013T130000
DTSTAMP:20260423T010229
CREATED:20240119T154606Z
LAST-MODIFIED:20240119T154606Z
UID:10002493-1728810000-1728824400@www.circuit-carole.com
SUMMARY:Roulage PK Racing
DESCRIPTION:4 groupes de niveaux : Débutants\, Intermédiaires\, Confirmés\, Experts.
URL:https://www.circuit-carole.com/calendrier/roulage-pk-racing/2024-10-13/1/
CATEGORIES:Location
ORGANIZER;CN="PK Racing Days":MAILTO:pkracingdays@gmail.com
END:VEVENT
BEGIN:VEVENT
DTSTART;TZID=Europe/Paris:20241013T140000
DTEND;TZID=Europe/Paris:20241013T180000
DTSTAMP:20260423T010229
CREATED:20240119T154606Z
LAST-MODIFIED:20240119T154606Z
UID:10002494-1728828000-1728842400@www.circuit-carole.com
SUMMARY:Roulage PK Racing
DESCRIPTION:4 groupes de niveaux : Débutants\, Intermédiaires\, Confirmés\, Experts.
URL:https://www.circuit-carole.com/calendrier/roulage-pk-racing/2024-10-13/2/
CATEGORIES:Location
ORGANIZER;CN="PK Racing Days":MAILTO:pkracingdays@gmail.com
END:VEVENT
END:VCALENDAR