BEGIN:VCALENDAR
VERSION:2.0
PRODID:-//Circuit Carole - ECPv6.15.18//NONSGML v1.0//EN
CALSCALE:GREGORIAN
METHOD:PUBLISH
X-ORIGINAL-URL:https://www.circuit-carole.com
X-WR-CALDESC:Évènements pour Circuit Carole
REFRESH-INTERVAL;VALUE=DURATION:PT1H
X-Robots-Tag:noindex
X-PUBLISHED-TTL:PT1H
BEGIN:VTIMEZONE
TZID:Europe/Paris
BEGIN:DAYLIGHT
TZOFFSETFROM:+0100
TZOFFSETTO:+0200
TZNAME:CEST
DTSTART:20250330T010000
END:DAYLIGHT
BEGIN:STANDARD
TZOFFSETFROM:+0200
TZOFFSETTO:+0100
TZNAME:CET
DTSTART:20251026T010000
END:STANDARD
BEGIN:DAYLIGHT
TZOFFSETFROM:+0100
TZOFFSETTO:+0200
TZNAME:CEST
DTSTART:20260329T010000
END:DAYLIGHT
BEGIN:STANDARD
TZOFFSETFROM:+0200
TZOFFSETTO:+0100
TZNAME:CET
DTSTART:20261025T010000
END:STANDARD
BEGIN:DAYLIGHT
TZOFFSETFROM:+0100
TZOFFSETTO:+0200
TZNAME:CEST
DTSTART:20270328T010000
END:DAYLIGHT
BEGIN:STANDARD
TZOFFSETFROM:+0200
TZOFFSETTO:+0100
TZNAME:CET
DTSTART:20271031T010000
END:STANDARD
END:VTIMEZONE
BEGIN:VEVENT
DTSTART;TZID=Europe/Paris:20260227T090000
DTEND;TZID=Europe/Paris:20260227T120000
DTSTAMP:20260421T172422
CREATED:20251212T133627Z
LAST-MODIFIED:20251212T133627Z
UID:10003502-1772182800-1772193600@www.circuit-carole.com
SUMMARY:Circuit fermé
DESCRIPTION:
URL:https://www.circuit-carole.com/calendrier/circuit-ferme-34/2026-02-27/
CATEGORIES:Fermeture
ORGANIZER;CN="Association de Gestion du Circuit Carole":MAILTO:info@circuit-carole.com
END:VEVENT
BEGIN:VEVENT
DTSTART;TZID=Europe/Paris:20260227T140000
DTEND;TZID=Europe/Paris:20260227T170000
DTSTAMP:20260421T172422
CREATED:20251107T101808Z
LAST-MODIFIED:20251107T101808Z
UID:10003227-1772200800-1772211600@www.circuit-carole.com
SUMMARY:Week-end gratuit
DESCRIPTION:Ouvert gratuitement aux motos. \nPlus d’infos : https://www.circuit-carole.com/activites/week-ends-gratuits/
URL:https://www.circuit-carole.com/calendrier/week-end-gratuit-17/2026-02-27/
CATEGORIES:Weekend gratuit
ORGANIZER;CN="Association de Gestion du Circuit Carole":MAILTO:info@circuit-carole.com
END:VEVENT
END:VCALENDAR